BEGIN:VCALENDAR
VERSION:2.0
PRODID:-//Mamaroneck Public Library - ECPv6.15.12.2//NONSGML v1.0//EN
CALSCALE:GREGORIAN
METHOD:PUBLISH
X-ORIGINAL-URL:https://www.mamaronecklibrary.org
X-WR-CALDESC:Events for Mamaroneck Public Library
REFRESH-INTERVAL;VALUE=DURATION:PT1H
X-Robots-Tag:noindex
X-PUBLISHED-TTL:PT1H
BEGIN:VTIMEZONE
TZID:America/New_York
BEGIN:DAYLIGHT
TZOFFSETFROM:-0500
TZOFFSETTO:-0400
TZNAME:EDT
DTSTART:20250309T070000
END:DAYLIGHT
BEGIN:STANDARD
TZOFFSETFROM:-0400
TZOFFSETTO:-0500
TZNAME:EST
DTSTART:20251102T060000
END:STANDARD
BEGIN:DAYLIGHT
TZOFFSETFROM:-0500
TZOFFSETTO:-0400
TZNAME:EDT
DTSTART:20260308T070000
END:DAYLIGHT
BEGIN:STANDARD
TZOFFSETFROM:-0400
TZOFFSETTO:-0500
TZNAME:EST
DTSTART:20261101T060000
END:STANDARD
BEGIN:DAYLIGHT
TZOFFSETFROM:-0500
TZOFFSETTO:-0400
TZNAME:EDT
DTSTART:20270314T070000
END:DAYLIGHT
BEGIN:STANDARD
TZOFFSETFROM:-0400
TZOFFSETTO:-0500
TZNAME:EST
DTSTART:20271107T060000
END:STANDARD
END:VTIMEZONE
BEGIN:VEVENT
DTSTART;VALUE=DATE:20260302
DTEND;VALUE=DATE:20260501
DTSTAMP:20260424T050709
CREATED:20260302T172031Z
LAST-MODIFIED:20260302T172031Z
UID:10009233-1772409600-1777593599@www.mamaronecklibrary.org
SUMMARY:In the Warner Gallery: In the Blink of An Eye: The Photography of Mitch Achiron
DESCRIPTION:
URL:https://www.mamaronecklibrary.org/events/in-the-warner-gallery-in-the-blink-of-an-eye-the-photography-of-mitch-achiron/
CATEGORIES:Adult,All Ages,Children
ATTACH;FMTTYPE=image/png:https://www.mamaronecklibrary.org/wp-content/uploads/2026/03/Mitch-Achiron.png
END:VEVENT
BEGIN:VEVENT
DTSTART;TZID=America/New_York:20260424T100000
DTEND;TZID=America/New_York:20260424T160000
DTSTAMP:20260424T050709
CREATED:20250519T204327Z
LAST-MODIFIED:20250604T131652Z
UID:10007992-1777024800-1777046400@www.mamaronecklibrary.org
SUMMARY:Drop-In Craft
DESCRIPTION:
URL:https://www.mamaronecklibrary.org/events/drop-in-craft/2026-04-24/
CATEGORIES:Children
ATTACH;FMTTYPE=image/png:https://www.mamaronecklibrary.org/wp-content/uploads/2025/05/Drop-In-Craft_MPL.png
END:VEVENT
BEGIN:VEVENT
DTSTART;TZID=America/New_York:20260425T110000
DTEND;TZID=America/New_York:20260425T120000
DTSTAMP:20260424T050709
CREATED:20260318T143406Z
LAST-MODIFIED:20260318T143406Z
UID:10009245-1777114800-1777118400@www.mamaronecklibrary.org
SUMMARY:Wild Facts About Wild Mushrooms
DESCRIPTION:To Register\, please click here.
URL:https://www.mamaronecklibrary.org/events/wild-facts-about-wild-mushrooms/
CATEGORIES:Adult,All Ages
ATTACH;FMTTYPE=image/png:https://www.mamaronecklibrary.org/wp-content/uploads/2026/03/Wild-Mushrooms.png
END:VEVENT
BEGIN:VEVENT
DTSTART;TZID=America/New_York:20260425T140000
DTEND;TZID=America/New_York:20260425T150000
DTSTAMP:20260424T050709
CREATED:20260323T173641Z
LAST-MODIFIED:20260323T173641Z
UID:10009247-1777125600-1777129200@www.mamaronecklibrary.org
SUMMARY:P.A.M. Band (Partially Artificial Musicians)
DESCRIPTION:To Register\, please click here.
URL:https://www.mamaronecklibrary.org/events/p-a-m-band-partially-artificial-musicians/
CATEGORIES:Adult,All Ages
ATTACH;FMTTYPE=image/png:https://www.mamaronecklibrary.org/wp-content/uploads/2026/03/PAMBand.png
END:VEVENT
BEGIN:VEVENT
DTSTART;TZID=America/New_York:20260425T150000
DTEND;TZID=America/New_York:20260425T160000
DTSTAMP:20260424T050709
CREATED:20260414T144136Z
LAST-MODIFIED:20260414T144136Z
UID:10009270-1777129200-1777132800@www.mamaronecklibrary.org
SUMMARY:One County\, One Read
DESCRIPTION:This event takes place at Grinton I. Will Library in Yonkers \nTo Register\, please click here.
URL:https://www.mamaronecklibrary.org/events/one-county-one-read/
CATEGORIES:Adult
ATTACH;FMTTYPE=image/png:https://www.mamaronecklibrary.org/wp-content/uploads/2026/04/One-County-One-Read-2026-flyer-1.png
END:VEVENT
BEGIN:VEVENT
DTSTART;VALUE=DATE:20260426
DTEND;VALUE=DATE:20260427
DTSTAMP:20260424T050709
CREATED:20240923T172851Z
LAST-MODIFIED:20240923T172851Z
UID:10005985-1777161600-1777247999@www.mamaronecklibrary.org
SUMMARY:CLOSED SUNDAYS
DESCRIPTION:
URL:https://www.mamaronecklibrary.org/events/closed-sundays/2026-04-26/
END:VEVENT
BEGIN:VEVENT
DTSTART;TZID=America/New_York:20260427T110000
DTEND;TZID=America/New_York:20260427T120000
DTSTAMP:20260424T050709
CREATED:20260327T154418Z
LAST-MODIFIED:20260327T154418Z
UID:10009257-1777287600-1777291200@www.mamaronecklibrary.org
SUMMARY:Write Your Life! Memoir Workshop
DESCRIPTION:To Register\, please click here.
URL:https://www.mamaronecklibrary.org/events/write-your-life-memoir-workshop/2026-04-27/
CATEGORIES:Adult
ATTACH;FMTTYPE=image/png:https://www.mamaronecklibrary.org/wp-content/uploads/2026/03/Memoir-Writing.png
END:VEVENT
BEGIN:VEVENT
DTSTART;TZID=America/New_York:20260428T154500
DTEND;TZID=America/New_York:20260428T164500
DTSTAMP:20260424T050709
CREATED:20260327T145058Z
LAST-MODIFIED:20260327T145058Z
UID:10009255-1777391100-1777394700@www.mamaronecklibrary.org
SUMMARY:Tree Celebration!
DESCRIPTION:To Register\, please click here.
URL:https://www.mamaronecklibrary.org/events/tree-celebration/
CATEGORIES:All Ages,Children
ATTACH;FMTTYPE=image/png:https://www.mamaronecklibrary.org/wp-content/uploads/2026/03/Tree-Celebration.png
END:VEVENT
BEGIN:VEVENT
DTSTART;TZID=America/New_York:20260430T090000
DTEND;TZID=America/New_York:20260430T100000
DTSTAMP:20260424T050709
CREATED:20250724T144658Z
LAST-MODIFIED:20250924T152053Z
UID:10008126-1777539600-1777543200@www.mamaronecklibrary.org
SUMMARY:Meditation with Jane (via Zoom)
DESCRIPTION:  \nTo register\, please click here.
URL:https://www.mamaronecklibrary.org/events/mindfulness-meditation-for-joy-harmony-health-with-jane-meryll/2026-04-30/
CATEGORIES:Adult
ATTACH;FMTTYPE=image/png:https://www.mamaronecklibrary.org/wp-content/uploads/2025/07/Mindfulness.png
END:VEVENT
BEGIN:VEVENT
DTSTART;TZID=America/New_York:20260430T103000
DTEND;TZID=America/New_York:20260430T113000
DTSTAMP:20260424T050709
CREATED:20251219T171001Z
LAST-MODIFIED:20260320T185804Z
UID:10009196-1777545000-1777548600@www.mamaronecklibrary.org
SUMMARY:Gentle Yoga
DESCRIPTION:
URL:https://www.mamaronecklibrary.org/events/gentle-yoga-14/2026-04-30/
CATEGORIES:Adult
ATTACH;FMTTYPE=image/png:https://www.mamaronecklibrary.org/wp-content/uploads/2025/12/Gentle-Yoga-1.png
END:VEVENT
END:VCALENDAR