BEGIN:VCALENDAR
VERSION:2.0
PRODID:-//Mamaroneck Public Library - ECPv6.15.12.2//NONSGML v1.0//EN
CALSCALE:GREGORIAN
METHOD:PUBLISH
X-ORIGINAL-URL:https://www.mamaronecklibrary.org
X-WR-CALDESC:Events for Mamaroneck Public Library
REFRESH-INTERVAL;VALUE=DURATION:PT1H
X-Robots-Tag:noindex
X-PUBLISHED-TTL:PT1H
BEGIN:VTIMEZONE
TZID:UTC
BEGIN:STANDARD
TZOFFSETFROM:+0000
TZOFFSETTO:+0000
TZNAME:UTC
DTSTART:20210101T000000
END:STANDARD
END:VTIMEZONE
BEGIN:VTIMEZONE
TZID:America/New_York
BEGIN:DAYLIGHT
TZOFFSETFROM:-0500
TZOFFSETTO:-0400
TZNAME:EDT
DTSTART:20210314T070000
END:DAYLIGHT
BEGIN:STANDARD
TZOFFSETFROM:-0400
TZOFFSETTO:-0500
TZNAME:EST
DTSTART:20211107T060000
END:STANDARD
BEGIN:DAYLIGHT
TZOFFSETFROM:-0500
TZOFFSETTO:-0400
TZNAME:EDT
DTSTART:20220313T070000
END:DAYLIGHT
BEGIN:STANDARD
TZOFFSETFROM:-0400
TZOFFSETTO:-0500
TZNAME:EST
DTSTART:20221106T060000
END:STANDARD
BEGIN:DAYLIGHT
TZOFFSETFROM:-0500
TZOFFSETTO:-0400
TZNAME:EDT
DTSTART:20230312T070000
END:DAYLIGHT
BEGIN:STANDARD
TZOFFSETFROM:-0400
TZOFFSETTO:-0500
TZNAME:EST
DTSTART:20231105T060000
END:STANDARD
END:VTIMEZONE
BEGIN:VEVENT
DTSTART;TZID=UTC:20220629T090000
DTEND;TZID=UTC:20220629T120000
DTSTAMP:20260424T045143
CREATED:20220622T204803Z
LAST-MODIFIED:20220622T204827Z
UID:10001288-1656493200-1656504000@www.mamaronecklibrary.org
SUMMARY:Classes de Ingles in the Community Room
DESCRIPTION:
URL:https://www.mamaronecklibrary.org/events/classes-de-ingles-in-the-community-room/2022-06-29/
CATEGORIES:Adult
ATTACH;FMTTYPE=image/png:https://www.mamaronecklibrary.org/wp-content/uploads/2022/06/289544206_10166265833700548_894458268234468266_n.png
END:VEVENT
BEGIN:VEVENT
DTSTART;TZID=UTC:20220629T090000
DTEND;TZID=UTC:20220629T120000
DTSTAMP:20260424T045143
CREATED:20220622T205114Z
LAST-MODIFIED:20220622T205133Z
UID:10001322-1656493200-1656504000@www.mamaronecklibrary.org
SUMMARY:Free English Classes for Spanish Speaking Adults in the Community Room
DESCRIPTION:
URL:https://www.mamaronecklibrary.org/events/free-english-classes-for-spanish-speaking-adults-in-the-community-room/2022-06-29/
CATEGORIES:Adult
ATTACH;FMTTYPE=image/png:https://www.mamaronecklibrary.org/wp-content/uploads/2022/06/289574960_10166265833470548_5760538598701577537_n.png
END:VEVENT
BEGIN:VEVENT
DTSTART;TZID=UTC:20220629T100000
DTEND;TZID=UTC:20220629T174500
DTSTAMP:20260424T045143
CREATED:20220531T181434Z
LAST-MODIFIED:20220615T192140Z
UID:10001116-1656496800-1656524700@www.mamaronecklibrary.org
SUMMARY:Ted Dixon: "Between Talking" in the Warner Gallery (Lower Level)
DESCRIPTION:
URL:https://www.mamaronecklibrary.org/events/ted-dixon-between-talking-in-the-warner-gallery-lower-level/2022-06-29/
CATEGORIES:Adult
ATTACH;FMTTYPE=image/png:https://www.mamaronecklibrary.org/wp-content/uploads/2022/05/Ted-Dixon.png
END:VEVENT
BEGIN:VEVENT
DTSTART;TZID=UTC:20220629T110000
DTEND;TZID=UTC:20220629T113000
DTSTAMP:20260424T045143
CREATED:20220519T211349Z
LAST-MODIFIED:20220607T152533Z
UID:10000521-1656500400-1656502200@www.mamaronecklibrary.org
SUMMARY:Oceans of Possibilities: Seafaring Stories\, Waterplay\, and more - Wednesdays in the Children's Room
DESCRIPTION:
URL:https://www.mamaronecklibrary.org/events/oceans-of-possibilities-seafaring-stories-waterplay-and-more-wednesdays-in-the-childrens-room/2022-06-29/
ATTACH;FMTTYPE=image/png:https://www.mamaronecklibrary.org/wp-content/uploads/2022/05/Little-Learners-Summer-4.png
END:VEVENT
BEGIN:VEVENT
DTSTART;TZID=America/New_York:20220629T140000
DTEND;TZID=America/New_York:20220629T150000
DTSTAMP:20260424T045143
CREATED:20220519T210355Z
LAST-MODIFIED:20221207T185246Z
UID:10000292-1656511200-1656514800@www.mamaronecklibrary.org
SUMMARY:Drop By and Color Together in the Children's Room
DESCRIPTION:
URL:https://www.mamaronecklibrary.org/events/drop-by-and-color-together-in-the-childrens-room/2022-06-29/
CATEGORIES:Children
ATTACH;FMTTYPE=image/png:https://www.mamaronecklibrary.org/wp-content/uploads/2022/05/Drop-by-color-2.png
END:VEVENT
BEGIN:VEVENT
DTSTART;TZID=UTC:20220629T170000
DTEND;TZID=UTC:20220629T190000
DTSTAMP:20260424T045143
CREATED:20220510T195045Z
LAST-MODIFIED:20220510T212124Z
UID:10000243-1656522000-1656529200@www.mamaronecklibrary.org
SUMMARY:Teens: Playstation 5 Every Wednesday Night (5 - 7pm) in the Teen Room!
DESCRIPTION:
URL:https://www.mamaronecklibrary.org/events/teens-playstation-5-every-wednesday-night-5-7pm-in-the-teen-room/2022-06-29/
ATTACH;FMTTYPE=image/png:https://www.mamaronecklibrary.org/wp-content/uploads/2022/05/PS5-Flyer.png
END:VEVENT
END:VCALENDAR