BEGIN:VCALENDAR
VERSION:2.0
PRODID:-//Mamaroneck Public Library - ECPv6.15.12.2//NONSGML v1.0//EN
CALSCALE:GREGORIAN
METHOD:PUBLISH
X-ORIGINAL-URL:https://www.mamaronecklibrary.org
X-WR-CALDESC:Events for Mamaroneck Public Library
REFRESH-INTERVAL;VALUE=DURATION:PT1H
X-Robots-Tag:noindex
X-PUBLISHED-TTL:PT1H
BEGIN:VTIMEZONE
TZID:UTC
BEGIN:STANDARD
TZOFFSETFROM:+0000
TZOFFSETTO:+0000
TZNAME:UTC
DTSTART:20210101T000000
END:STANDARD
END:VTIMEZONE
BEGIN:VTIMEZONE
TZID:America/New_York
BEGIN:DAYLIGHT
TZOFFSETFROM:-0500
TZOFFSETTO:-0400
TZNAME:EDT
DTSTART:20210314T070000
END:DAYLIGHT
BEGIN:STANDARD
TZOFFSETFROM:-0400
TZOFFSETTO:-0500
TZNAME:EST
DTSTART:20211107T060000
END:STANDARD
BEGIN:DAYLIGHT
TZOFFSETFROM:-0500
TZOFFSETTO:-0400
TZNAME:EDT
DTSTART:20220313T070000
END:DAYLIGHT
BEGIN:STANDARD
TZOFFSETFROM:-0400
TZOFFSETTO:-0500
TZNAME:EST
DTSTART:20221106T060000
END:STANDARD
BEGIN:DAYLIGHT
TZOFFSETFROM:-0500
TZOFFSETTO:-0400
TZNAME:EDT
DTSTART:20230312T070000
END:DAYLIGHT
BEGIN:STANDARD
TZOFFSETFROM:-0400
TZOFFSETTO:-0500
TZNAME:EST
DTSTART:20231105T060000
END:STANDARD
END:VTIMEZONE
BEGIN:VEVENT
DTSTART;TZID=UTC:20220814T100000
DTEND;TZID=UTC:20220814T170000
DTSTAMP:20260420T081053
CREATED:20220729T192630Z
LAST-MODIFIED:20220729T192720Z
UID:10000659-1660471200-1660496400@www.mamaronecklibrary.org
SUMMARY:Storywalk for Children - in front of the Library: I'm the biggest thing in the Ocean
DESCRIPTION:
URL:https://www.mamaronecklibrary.org/events/storywalk-for-children-in-front-of-the-library-im-the-biggest-thing-in-the-ocean/2022-08-14/
CATEGORIES:All Ages
ATTACH;FMTTYPE=image/png:https://www.mamaronecklibrary.org/wp-content/uploads/2022/07/Story-walk-flyer-2.png
END:VEVENT
BEGIN:VEVENT
DTSTART;TZID=America/New_York:20220814T140000
DTEND;TZID=America/New_York:20220814T150000
DTSTAMP:20260420T081054
CREATED:20220519T210355Z
LAST-MODIFIED:20221207T185246Z
UID:10000338-1660485600-1660489200@www.mamaronecklibrary.org
SUMMARY:Drop By and Color Together in the Children's Room
DESCRIPTION:
URL:https://www.mamaronecklibrary.org/events/drop-by-and-color-together-in-the-childrens-room/2022-08-14/
CATEGORIES:Children
ATTACH;FMTTYPE=image/png:https://www.mamaronecklibrary.org/wp-content/uploads/2022/05/Drop-by-color-2.png
END:VEVENT
END:VCALENDAR