BEGIN:VCALENDAR
VERSION:2.0
PRODID:-//Mamaroneck Public Library - ECPv6.15.12.2//NONSGML v1.0//EN
CALSCALE:GREGORIAN
METHOD:PUBLISH
X-WR-CALNAME:Mamaroneck Public Library
X-ORIGINAL-URL:https://www.mamaronecklibrary.org
X-WR-CALDESC:Events for Mamaroneck Public Library
REFRESH-INTERVAL;VALUE=DURATION:PT1H
X-Robots-Tag:noindex
X-PUBLISHED-TTL:PT1H
BEGIN:VTIMEZONE
TZID:UTC
BEGIN:STANDARD
TZOFFSETFROM:+0000
TZOFFSETTO:+0000
TZNAME:UTC
DTSTART:20220101T000000
END:STANDARD
END:VTIMEZONE
BEGIN:VTIMEZONE
TZID:America/New_York
BEGIN:DAYLIGHT
TZOFFSETFROM:-0500
TZOFFSETTO:-0400
TZNAME:EDT
DTSTART:20220313T070000
END:DAYLIGHT
BEGIN:STANDARD
TZOFFSETFROM:-0400
TZOFFSETTO:-0500
TZNAME:EST
DTSTART:20221106T060000
END:STANDARD
BEGIN:DAYLIGHT
TZOFFSETFROM:-0500
TZOFFSETTO:-0400
TZNAME:EDT
DTSTART:20230312T070000
END:DAYLIGHT
BEGIN:STANDARD
TZOFFSETFROM:-0400
TZOFFSETTO:-0500
TZNAME:EST
DTSTART:20231105T060000
END:STANDARD
BEGIN:DAYLIGHT
TZOFFSETFROM:-0500
TZOFFSETTO:-0400
TZNAME:EDT
DTSTART:20240310T070000
END:DAYLIGHT
BEGIN:STANDARD
TZOFFSETFROM:-0400
TZOFFSETTO:-0500
TZNAME:EST
DTSTART:20241103T060000
END:STANDARD
END:VTIMEZONE
BEGIN:VEVENT
DTSTART;TZID=UTC:20230613T110000
DTEND;TZID=UTC:20230613T113000
DTSTAMP:20260420T150746
CREATED:20220928T200625Z
LAST-MODIFIED:20230607T114328Z
UID:10001261-1686654000-1686655800@www.mamaronecklibrary.org
SUMMARY:Shake Your Sillies Out - (For Children Ages 18 - 48 months) - at St. Thomas Church (Outside at the Courtyard)
DESCRIPTION:
URL:https://www.mamaronecklibrary.org/events/shake-your-sillies-out-for-children-ages-18-48-months/2023-06-13/
ATTACH;FMTTYPE=image/png:https://www.mamaronecklibrary.org/wp-content/uploads/2022/09/Shake-Your-Sillies-7.png
END:VEVENT
BEGIN:VEVENT
DTSTART;TZID=America/New_York:20230613T140000
DTEND;TZID=America/New_York:20230613T150000
DTSTAMP:20260420T150746
CREATED:20221212T212009Z
LAST-MODIFIED:20221212T212053Z
UID:10001436-1686664800-1686668400@www.mamaronecklibrary.org
SUMMARY:Mamaroneck Public Library Book Club: One Hundred Years of Solitude\, by Gabriel Garcia Marquez
DESCRIPTION:One Hundred Years of Solitude\, by Gabriel Garcia Marquez \nTo register for In-Person\, please click here. \nTo attend via Zoom\, click here.
URL:https://www.mamaronecklibrary.org/events/mamaroneck-public-library-book-club-one-hundred-years-of-solitude-by-gabriel-garcia-marquez/
CATEGORIES:Adult
ATTACH;FMTTYPE=image/jpeg:https://www.mamaronecklibrary.org/wp-content/uploads/2022/12/images-1.jpg
END:VEVENT
BEGIN:VEVENT
DTSTART;TZID=America/New_York:20230613T160000
DTEND;TZID=America/New_York:20230613T170000
DTSTAMP:20260420T150746
CREATED:20230530T183804Z
LAST-MODIFIED:20230530T184534Z
UID:10001653-1686672000-1686675600@www.mamaronecklibrary.org
SUMMARY:Juneteenth:  (grades K-5) - in the Children's Room
DESCRIPTION:
URL:https://www.mamaronecklibrary.org/events/juneteenth-grades-k-5-in-the-childrens-room/
ATTACH;FMTTYPE=image/png:https://www.mamaronecklibrary.org/wp-content/uploads/2023/05/2023-Juneteenth-Program-page-0.png
END:VEVENT
BEGIN:VEVENT
DTSTART;TZID=America/New_York:20230613T190000
DTEND;TZID=America/New_York:20230613T200000
DTSTAMP:20260420T150746
CREATED:20230426T170907Z
LAST-MODIFIED:20230426T170927Z
UID:10001635-1686682800-1686686400@www.mamaronecklibrary.org
SUMMARY:via Zoom: Ayurveda's Approach to Dementia & Alzheimer's
DESCRIPTION:To register\, please click here.
URL:https://www.mamaronecklibrary.org/events/via-zoom-ayurvedas-approach-to-dementia-alzheimers/
CATEGORIES:Adult
ATTACH;FMTTYPE=image/png:https://www.mamaronecklibrary.org/wp-content/uploads/2023/04/AyurvedasApproachDementiaAlzheimers.png
END:VEVENT
END:VCALENDAR