BEGIN:VCALENDAR
VERSION:2.0
PRODID:-//Mamaroneck Public Library - ECPv6.15.12.2//NONSGML v1.0//EN
CALSCALE:GREGORIAN
METHOD:PUBLISH
X-WR-CALNAME:Mamaroneck Public Library
X-ORIGINAL-URL:https://www.mamaronecklibrary.org
X-WR-CALDESC:Events for Mamaroneck Public Library
REFRESH-INTERVAL;VALUE=DURATION:PT1H
X-Robots-Tag:noindex
X-PUBLISHED-TTL:PT1H
BEGIN:VTIMEZONE
TZID:America/New_York
BEGIN:DAYLIGHT
TZOFFSETFROM:-0500
TZOFFSETTO:-0400
TZNAME:EDT
DTSTART:20220313T070000
END:DAYLIGHT
BEGIN:STANDARD
TZOFFSETFROM:-0400
TZOFFSETTO:-0500
TZNAME:EST
DTSTART:20221106T060000
END:STANDARD
BEGIN:DAYLIGHT
TZOFFSETFROM:-0500
TZOFFSETTO:-0400
TZNAME:EDT
DTSTART:20230312T070000
END:DAYLIGHT
BEGIN:STANDARD
TZOFFSETFROM:-0400
TZOFFSETTO:-0500
TZNAME:EST
DTSTART:20231105T060000
END:STANDARD
BEGIN:DAYLIGHT
TZOFFSETFROM:-0500
TZOFFSETTO:-0400
TZNAME:EDT
DTSTART:20240310T070000
END:DAYLIGHT
BEGIN:STANDARD
TZOFFSETFROM:-0400
TZOFFSETTO:-0500
TZNAME:EST
DTSTART:20241103T060000
END:STANDARD
END:VTIMEZONE
BEGIN:VEVENT
DTSTART;TZID=America/New_York:20230628T140000
DTEND;TZID=America/New_York:20230628T150000
DTSTAMP:20260420T081449
CREATED:20230520T124310Z
LAST-MODIFIED:20230520T124319Z
UID:10001654-1687960800-1687964400@www.mamaronecklibrary.org
SUMMARY:via Zoom: Tour of Artist Dorothy Gillespie's Studio
DESCRIPTION:Join us for a virtual trip to the Catskills Mountains in New York to one of the studios of renowned painter\,sculptor and installation artist Dorothy Gillespie\, led by her son Gary Gillespie Israel and President of the Dorothy Gillespie Foundation. Learn about how this burgeoning artist left Roanoke for art school and hear what inspired her prolific body of work throughout seven decade career and what the Dorothy M. Gillespie Foundation is doing now to further Dorothy’s passions and legacy for posterity. \n  \nTo register\, please click here.
URL:https://www.mamaronecklibrary.org/events/via-zoom-tour-of-artist-dorothy-gillespies-studio/
CATEGORIES:Adult
ATTACH;FMTTYPE=image/jpeg:https://www.mamaronecklibrary.org/wp-content/uploads/2023/05/unnamed191.jpg
END:VEVENT
BEGIN:VEVENT
DTSTART;TZID=America/New_York:20230628T184500
DTEND;TZID=America/New_York:20230628T200000
DTSTAMP:20260420T081449
CREATED:20230418T193226Z
LAST-MODIFIED:20230626T132322Z
UID:10001623-1687977900-1687982400@www.mamaronecklibrary.org
SUMMARY:MPL Board Fundraising Subcommittee Meeting
DESCRIPTION:Kindly note that tonight’s meeting (May 17th) has been cancelled.
URL:https://www.mamaronecklibrary.org/events/mpl-board-fundraising-subcommittee-meeting/2023-06-28/
CATEGORIES:Adult
ATTACH;FMTTYPE=image/jpeg:https://www.mamaronecklibrary.org/wp-content/uploads/2023/04/download-1.jpg
END:VEVENT
END:VCALENDAR