BEGIN:VCALENDAR
VERSION:2.0
PRODID:-//Mamaroneck Public Library - ECPv6.15.12.2//NONSGML v1.0//EN
CALSCALE:GREGORIAN
METHOD:PUBLISH
X-ORIGINAL-URL:https://www.mamaronecklibrary.org
X-WR-CALDESC:Events for Mamaroneck Public Library
REFRESH-INTERVAL;VALUE=DURATION:PT1H
X-Robots-Tag:noindex
X-PUBLISHED-TTL:PT1H
BEGIN:VTIMEZONE
TZID:America/New_York
BEGIN:DAYLIGHT
TZOFFSETFROM:-0500
TZOFFSETTO:-0400
TZNAME:EDT
DTSTART:20240310T070000
END:DAYLIGHT
BEGIN:STANDARD
TZOFFSETFROM:-0400
TZOFFSETTO:-0500
TZNAME:EST
DTSTART:20241103T060000
END:STANDARD
BEGIN:DAYLIGHT
TZOFFSETFROM:-0500
TZOFFSETTO:-0400
TZNAME:EDT
DTSTART:20250309T070000
END:DAYLIGHT
BEGIN:STANDARD
TZOFFSETFROM:-0400
TZOFFSETTO:-0500
TZNAME:EST
DTSTART:20251102T060000
END:STANDARD
BEGIN:DAYLIGHT
TZOFFSETFROM:-0500
TZOFFSETTO:-0400
TZNAME:EDT
DTSTART:20260308T070000
END:DAYLIGHT
BEGIN:STANDARD
TZOFFSETFROM:-0400
TZOFFSETTO:-0500
TZNAME:EST
DTSTART:20261101T060000
END:STANDARD
END:VTIMEZONE
BEGIN:VEVENT
DTSTART;VALUE=DATE:20250303
DTEND;VALUE=DATE:20250401
DTSTAMP:20260421T125453
CREATED:20250225T192709Z
LAST-MODIFIED:20250225T192815Z
UID:10007340-1740960000-1743465599@www.mamaronecklibrary.org
SUMMARY:In the Glass Case: Art by Sue
DESCRIPTION:
URL:https://www.mamaronecklibrary.org/events/in-the-glass-case-art-by-sue/
ATTACH;FMTTYPE=image/png:https://www.mamaronecklibrary.org/wp-content/uploads/2025/02/SueArt2.png
END:VEVENT
BEGIN:VEVENT
DTSTART;VALUE=DATE:20250303
DTEND;VALUE=DATE:20250501
DTSTAMP:20260421T125453
CREATED:20250225T175324Z
LAST-MODIFIED:20250225T175433Z
UID:10007339-1740960000-1746057599@www.mamaronecklibrary.org
SUMMARY:In the Warner Gallery: Weisbart Paintings: Faces & Places
DESCRIPTION:
URL:https://www.mamaronecklibrary.org/events/weisbart-paintings-faces-places-in-the-warner-gallery/
ATTACH;FMTTYPE=image/png:https://www.mamaronecklibrary.org/wp-content/uploads/2025/02/Lori-Polson.png
END:VEVENT
BEGIN:VEVENT
DTSTART;TZID=America/New_York:20250312T100000
DTEND;TZID=America/New_York:20250312T120000
DTSTAMP:20260421T125453
CREATED:20250218T125834Z
LAST-MODIFIED:20250218T125834Z
UID:10007326-1741773600-1741780800@www.mamaronecklibrary.org
SUMMARY:Fiber Arts Club + Puzzle Swap
DESCRIPTION:
URL:https://www.mamaronecklibrary.org/events/fiber-arts-club-puzzle-swap-10/
CATEGORIES:Adult
ATTACH;FMTTYPE=image/png:https://www.mamaronecklibrary.org/wp-content/uploads/2025/02/FiberPuzzle.png
END:VEVENT
BEGIN:VEVENT
DTSTART;TZID=America/New_York:20250312T110000
DTEND;TZID=America/New_York:20250312T113000
DTSTAMP:20260421T125453
CREATED:20250205T202741Z
LAST-MODIFIED:20250205T202741Z
UID:10007318-1741777200-1741779000@www.mamaronecklibrary.org
SUMMARY:Toddler Time & Craft
DESCRIPTION:  \nTo register\, please click here.
URL:https://www.mamaronecklibrary.org/events/toddler-time-craft-2/
CATEGORIES:Children
ATTACH;FMTTYPE=image/png:https://www.mamaronecklibrary.org/wp-content/uploads/2025/02/Toddler-Time-Craft-St.-Patricks-Day-3.12.25.png
END:VEVENT
BEGIN:VEVENT
DTSTART;TZID=America/New_York:20250312T130000
DTEND;TZID=America/New_York:20250312T140000
DTSTAMP:20260421T125453
CREATED:20241206T193446Z
LAST-MODIFIED:20250305T155000Z
UID:10006573-1741784400-1741788000@www.mamaronecklibrary.org
SUMMARY:Make Sense of Today's Financial Markets (via Zoom)
DESCRIPTION:  \nJanuary 15th @ 1PM: How to Make Sense of Today’s Financial Markets:  \nhttps://darienlibrary.zoom.us/webinar/register/WN_ZdNtxtDYTEaOtWbb52LCig#/registration \n  \nFebruary 12th @ 1PM: How to Make Sense of Today’s Financial Markets: \nhttps://darienlibrary.zoom.us/webinar/register/WN_DFmnuVA8T_2RqkdEdeMhpg#/registration \n  \nMarch 12th @ 1PM: How to Make Sense of Today’s Financial Markets:  \nhttps://darienlibrary.zoom.us/webinar/register/WN_vTeKAEmwTNWNYL2o2ONclw#/registration \n  \nApril 16th @ 1PM: How to Make Sense of Today’s Financial Markets: \nhttps://darienlibrary.zoom.us/webinar/register/WN_IctaaprxTTqM8orFmMMlsg#/registration \n  \nMay 14th @ 1PM: How to Make Sense of Today’s Financial Markets: \nhttps://darienlibrary.zoom.us/webinar/register/WN_puyKpFM5QwKygLPYxCCoLg#/registration \n  \nJune 11th @ 1PM: How to Make Sense of Today’s Financial Markets: \nhttps://darienlibrary.zoom.us/webinar/register/WN_xp3fFqtmTH-MwQ9aj0jtqw#/registration
URL:https://www.mamaronecklibrary.org/events/make-sense-of-todays-financial-markets/2025-03-12/
CATEGORIES:Adult
ATTACH;FMTTYPE=image/png:https://www.mamaronecklibrary.org/wp-content/uploads/2024/12/Women-Money-2025.png
END:VEVENT
BEGIN:VEVENT
DTSTART;TZID=America/New_York:20250312T190000
DTEND;TZID=America/New_York:20250312T200000
DTSTAMP:20260421T125453
CREATED:20241120T165756Z
LAST-MODIFIED:20241120T165756Z
UID:10006295-1741806000-1741809600@www.mamaronecklibrary.org
SUMMARY:Board Meeting
DESCRIPTION:
URL:https://www.mamaronecklibrary.org/events/board-meeting-2/2025-03-12/
CATEGORIES:Adult
ATTACH;FMTTYPE=image/png:https://www.mamaronecklibrary.org/wp-content/uploads/2024/11/board-1.png
END:VEVENT
END:VCALENDAR