BEGIN:VCALENDAR
VERSION:2.0
PRODID:-//Mamaroneck Public Library - ECPv6.15.12.2//NONSGML v1.0//EN
CALSCALE:GREGORIAN
METHOD:PUBLISH
X-WR-CALNAME:Mamaroneck Public Library
X-ORIGINAL-URL:https://www.mamaronecklibrary.org
X-WR-CALDESC:Events for Mamaroneck Public Library
REFRESH-INTERVAL;VALUE=DURATION:PT1H
X-Robots-Tag:noindex
X-PUBLISHED-TTL:PT1H
BEGIN:VTIMEZONE
TZID:America/New_York
BEGIN:DAYLIGHT
TZOFFSETFROM:-0500
TZOFFSETTO:-0400
TZNAME:EDT
DTSTART:20240310T070000
END:DAYLIGHT
BEGIN:STANDARD
TZOFFSETFROM:-0400
TZOFFSETTO:-0500
TZNAME:EST
DTSTART:20241103T060000
END:STANDARD
BEGIN:DAYLIGHT
TZOFFSETFROM:-0500
TZOFFSETTO:-0400
TZNAME:EDT
DTSTART:20250309T070000
END:DAYLIGHT
BEGIN:STANDARD
TZOFFSETFROM:-0400
TZOFFSETTO:-0500
TZNAME:EST
DTSTART:20251102T060000
END:STANDARD
BEGIN:DAYLIGHT
TZOFFSETFROM:-0500
TZOFFSETTO:-0400
TZNAME:EDT
DTSTART:20260308T070000
END:DAYLIGHT
BEGIN:STANDARD
TZOFFSETFROM:-0400
TZOFFSETTO:-0500
TZNAME:EST
DTSTART:20261101T060000
END:STANDARD
END:VTIMEZONE
BEGIN:VEVENT
DTSTART;VALUE=DATE:20251101
DTEND;VALUE=DATE:20251231
DTSTAMP:20260424T034043
CREATED:20251027T143255Z
LAST-MODIFIED:20251027T143255Z
UID:10008794-1761955200-1767139199@www.mamaronecklibrary.org
SUMMARY:In the Warner Gallery: Varied Viewpoints: The Art of Violet Useda-Linder
DESCRIPTION:
URL:https://www.mamaronecklibrary.org/events/in-the-warner-gallery-varied-viewpoints-the-art-of-violet-useda-linder/
ATTACH;FMTTYPE=image/png:https://www.mamaronecklibrary.org/wp-content/uploads/2025/10/Violet.png
END:VEVENT
BEGIN:VEVENT
DTSTART;TZID=America/New_York:20251210T070000
DTEND;TZID=America/New_York:20251210T210000
DTSTAMP:20260424T034043
CREATED:20251009T203152Z
LAST-MODIFIED:20251009T203152Z
UID:10008759-1765350000-1765400400@www.mamaronecklibrary.org
SUMMARY:Mamaroneck Library Trustee & Budget Election
DESCRIPTION:
URL:https://www.mamaronecklibrary.org/events/mamaroneck-library-trustee-budget-election/
CATEGORIES:All Ages
ATTACH;FMTTYPE=image/png:https://www.mamaronecklibrary.org/wp-content/uploads/2025/10/Election-AD-1.png
END:VEVENT
BEGIN:VEVENT
DTSTART;TZID=America/New_York:20251210T100000
DTEND;TZID=America/New_York:20251210T120000
DTSTAMP:20260424T034043
CREATED:20251105T154048Z
LAST-MODIFIED:20251105T154048Z
UID:10008806-1765360800-1765368000@www.mamaronecklibrary.org
SUMMARY:Fiber Arts Club + Puzzle Swap
DESCRIPTION:
URL:https://www.mamaronecklibrary.org/events/fiber-arts-club-puzzle-swap-16/
CATEGORIES:Adult
ATTACH;FMTTYPE=image/png:https://www.mamaronecklibrary.org/wp-content/uploads/2025/11/FiberPuzzle.png
END:VEVENT
BEGIN:VEVENT
DTSTART;TZID=America/New_York:20251210T110000
DTEND;TZID=America/New_York:20251210T113000
DTSTAMP:20260424T034043
CREATED:20251117T193719Z
LAST-MODIFIED:20251117T193719Z
UID:10008818-1765364400-1765366200@www.mamaronecklibrary.org
SUMMARY:Toddler Time! (for ages 1-3)
DESCRIPTION:
URL:https://www.mamaronecklibrary.org/events/toddler-time-for-ages-1-3/2025-12-10/
CATEGORIES:Children
ATTACH;FMTTYPE=image/png:https://www.mamaronecklibrary.org/wp-content/uploads/2025/11/ToddlerTime.png
END:VEVENT
BEGIN:VEVENT
DTSTART;TZID=America/New_York:20251210T110000
DTEND;TZID=America/New_York:20251210T120000
DTSTAMP:20260424T034043
CREATED:20251119T174329Z
LAST-MODIFIED:20251119T180250Z
UID:10008827-1765364400-1765368000@www.mamaronecklibrary.org
SUMMARY:The Making of Miracle on 34th Street (Hybrid)
DESCRIPTION:To Register\, please click here.
URL:https://www.mamaronecklibrary.org/events/the-making-of-miracle-on-34th-street-hybrid/
CATEGORIES:Adult
ATTACH;FMTTYPE=image/png:https://www.mamaronecklibrary.org/wp-content/uploads/2025/11/Miracle.png
END:VEVENT
BEGIN:VEVENT
DTSTART;TZID=America/New_York:20251210T130000
DTEND;TZID=America/New_York:20251210T140000
DTSTAMP:20260424T034043
CREATED:20250521T133627Z
LAST-MODIFIED:20250521T133910Z
UID:10008002-1765371600-1765375200@www.mamaronecklibrary.org
SUMMARY:Make Sense of Today’s Financial Markets (via Zoom)
DESCRIPTION:To Register\, please click on the date below: \nJuly 16 \nAugust 13 \nSeptember 10 \nOctober 15 \nNovember 12 \nDecember 10
URL:https://www.mamaronecklibrary.org/events/make-sense-of-todays-financial-markets-via-zoom/2025-12-10/
CATEGORIES:Adult
ATTACH;FMTTYPE=image/png:https://www.mamaronecklibrary.org/wp-content/uploads/2025/05/Women-Money-2025-2.png
END:VEVENT
BEGIN:VEVENT
DTSTART;TZID=America/New_York:20251210T154500
DTEND;TZID=America/New_York:20251210T161500
DTSTAMP:20260424T034043
CREATED:20251112T200407Z
LAST-MODIFIED:20251112T200407Z
UID:10008810-1765381500-1765383300@www.mamaronecklibrary.org
SUMMARY:Preschool Storytime
DESCRIPTION:
URL:https://www.mamaronecklibrary.org/events/preschool-storytime-2/2025-12-10/
CATEGORIES:Children
ATTACH;FMTTYPE=image/png:https://www.mamaronecklibrary.org/wp-content/uploads/2025/11/Blue-Watercolor-Christmas-Winter-Fair-Flyer.png
END:VEVENT
END:VCALENDAR