BEGIN:VCALENDAR
VERSION:2.0
PRODID:-//Mamaroneck Public Library - ECPv6.15.12.2//NONSGML v1.0//EN
CALSCALE:GREGORIAN
METHOD:PUBLISH
X-ORIGINAL-URL:https://www.mamaronecklibrary.org
X-WR-CALDESC:Events for Mamaroneck Public Library
REFRESH-INTERVAL;VALUE=DURATION:PT1H
X-Robots-Tag:noindex
X-PUBLISHED-TTL:PT1H
BEGIN:VTIMEZONE
TZID:America/New_York
BEGIN:DAYLIGHT
TZOFFSETFROM:-0500
TZOFFSETTO:-0400
TZNAME:EDT
DTSTART:20230312T070000
END:DAYLIGHT
BEGIN:STANDARD
TZOFFSETFROM:-0400
TZOFFSETTO:-0500
TZNAME:EST
DTSTART:20231105T060000
END:STANDARD
BEGIN:DAYLIGHT
TZOFFSETFROM:-0500
TZOFFSETTO:-0400
TZNAME:EDT
DTSTART:20240310T070000
END:DAYLIGHT
BEGIN:STANDARD
TZOFFSETFROM:-0400
TZOFFSETTO:-0500
TZNAME:EST
DTSTART:20241103T060000
END:STANDARD
BEGIN:DAYLIGHT
TZOFFSETFROM:-0500
TZOFFSETTO:-0400
TZNAME:EDT
DTSTART:20250309T070000
END:DAYLIGHT
BEGIN:STANDARD
TZOFFSETFROM:-0400
TZOFFSETTO:-0500
TZNAME:EST
DTSTART:20251102T060000
END:STANDARD
END:VTIMEZONE
BEGIN:VEVENT
DTSTART;TZID=America/New_York:20240604T110000
DTEND;TZID=America/New_York:20240604T123000
DTSTAMP:20260424T010840
CREATED:20240508T141226Z
LAST-MODIFIED:20240508T141226Z
UID:10004011-1717498800-1717504200@www.mamaronecklibrary.org
SUMMARY:Long-Term Care Planning
DESCRIPTION:  \nTo register\, please click here.
URL:https://www.mamaronecklibrary.org/events/long-term-care-planning/
CATEGORIES:Adult
ATTACH;FMTTYPE=image/png:https://www.mamaronecklibrary.org/wp-content/uploads/2024/05/Long-Term-Care.png
END:VEVENT
BEGIN:VEVENT
DTSTART;TZID=America/New_York:20240606T110000
DTEND;TZID=America/New_York:20240606T123000
DTSTAMP:20260424T010840
CREATED:20240426T145043Z
LAST-MODIFIED:20240426T145043Z
UID:10003970-1717671600-1717677000@www.mamaronecklibrary.org
SUMMARY:Expressive Arts Therapy Workshop
DESCRIPTION:  \nTo register\, please click here.
URL:https://www.mamaronecklibrary.org/events/expressive-arts-therapy-workshop-2/
CATEGORIES:Adult
ATTACH;FMTTYPE=image/png:https://www.mamaronecklibrary.org/wp-content/uploads/2024/04/Arts_Therapy-June.png
END:VEVENT
BEGIN:VEVENT
DTSTART;TZID=America/New_York:20240607T110000
DTEND;TZID=America/New_York:20240607T120000
DTSTAMP:20260424T010840
CREATED:20240314T150043Z
LAST-MODIFIED:20240314T150043Z
UID:10003938-1717758000-1717761600@www.mamaronecklibrary.org
SUMMARY:Fridays with Fred
DESCRIPTION:
URL:https://www.mamaronecklibrary.org/events/fridays-with-fred/2024-06-07/
CATEGORIES:Adult
ATTACH;FMTTYPE=image/png:https://www.mamaronecklibrary.org/wp-content/uploads/2024/03/Friday-Fred.png
END:VEVENT
BEGIN:VEVENT
DTSTART;TZID=America/New_York:20240607T153000
DTEND;TZID=America/New_York:20240607T170000
DTSTAMP:20260424T010840
CREATED:20231027T154814Z
LAST-MODIFIED:20231027T154823Z
UID:10002497-1717774200-1717779600@www.mamaronecklibrary.org
SUMMARY:Community Through Poetry Workshop Series
DESCRIPTION:To register\, please click here.
URL:https://www.mamaronecklibrary.org/events/community-through-poetry-workshop-series-5/
CATEGORIES:Adult
END:VEVENT
BEGIN:VEVENT
DTSTART;TZID=America/New_York:20240610T153000
DTEND;TZID=America/New_York:20240610T170000
DTSTAMP:20260424T010840
CREATED:20231121T143250Z
LAST-MODIFIED:20241018T140704Z
UID:10003019-1718033400-1718038800@www.mamaronecklibrary.org
SUMMARY:De-Stress & Self Express Adult Coloring
DESCRIPTION:To register\, please click here.
URL:https://www.mamaronecklibrary.org/events/de-stress-self-express-adult-coloring/2024-06-10/
CATEGORIES:Adult
ATTACH;FMTTYPE=image/jpeg:https://www.mamaronecklibrary.org/wp-content/uploads/2023/11/Coloring-5-1-page-0-scaled.jpg
END:VEVENT
BEGIN:VEVENT
DTSTART;TZID=America/New_York:20240611T140000
DTEND;TZID=America/New_York:20240611T153000
DTSTAMP:20260424T010840
CREATED:20231129T180826Z
LAST-MODIFIED:20231129T182041Z
UID:10003283-1718114400-1718119800@www.mamaronecklibrary.org
SUMMARY:Book Club 2024: Belonging
DESCRIPTION:  \nTo register to attend in person\, please click here. \nTo register to attend online through zoom\, please click here.
URL:https://www.mamaronecklibrary.org/events/book-club-2024-belonging-8/
CATEGORIES:Adult
END:VEVENT
BEGIN:VEVENT
DTSTART;TZID=America/New_York:20240612T130000
DTEND;TZID=America/New_York:20240612T140000
DTSTAMP:20260424T010840
CREATED:20231121T212117Z
LAST-MODIFIED:20231121T212700Z
UID:10003033-1718197200-1718200800@www.mamaronecklibrary.org
SUMMARY:Women & Money Series
DESCRIPTION:  \nTo register\, please click here.
URL:https://www.mamaronecklibrary.org/events/women-money-series/
CATEGORIES:Adult
END:VEVENT
BEGIN:VEVENT
DTSTART;TZID=America/New_York:20240612T130000
DTEND;TZID=America/New_York:20240612T140000
DTSTAMP:20260424T010840
CREATED:20231121T214333Z
LAST-MODIFIED:20231121T214601Z
UID:10003030-1718197200-1718200800@www.mamaronecklibrary.org
SUMMARY:Women & Money Series
DESCRIPTION:  \nTo register\, please click here.
URL:https://www.mamaronecklibrary.org/events/women-money-series-7/
CATEGORIES:Adult
END:VEVENT
BEGIN:VEVENT
DTSTART;TZID=America/New_York:20240612T190000
DTEND;TZID=America/New_York:20240612T200000
DTSTAMP:20260424T010840
CREATED:20240207T163100Z
LAST-MODIFIED:20240718T193011Z
UID:10003802-1718218800-1718222400@www.mamaronecklibrary.org
SUMMARY:Library Board of Trustees Meeting - Community Room
DESCRIPTION:
URL:https://www.mamaronecklibrary.org/events/library-board-of-trustees-meeting-community-room/2024-06-12/
CATEGORIES:Adult
END:VEVENT
BEGIN:VEVENT
DTSTART;TZID=America/New_York:20240613T110000
DTEND;TZID=America/New_York:20240613T120000
DTSTAMP:20260424T010840
CREATED:20240508T200508Z
LAST-MODIFIED:20240909T132036Z
UID:10004012-1718276400-1718280000@www.mamaronecklibrary.org
SUMMARY:Gentle Yoga
DESCRIPTION:  \nTo register\, please click here.
URL:https://www.mamaronecklibrary.org/events/gentle-yoga/2024-06-13/
CATEGORIES:Adult
ATTACH;FMTTYPE=image/png:https://www.mamaronecklibrary.org/wp-content/uploads/2024/05/GentleYoga.png
END:VEVENT
BEGIN:VEVENT
DTSTART;TZID=America/New_York:20240614T110000
DTEND;TZID=America/New_York:20240614T120000
DTSTAMP:20260424T010840
CREATED:20240314T150043Z
LAST-MODIFIED:20240314T150043Z
UID:10003939-1718362800-1718366400@www.mamaronecklibrary.org
SUMMARY:Fridays with Fred
DESCRIPTION:
URL:https://www.mamaronecklibrary.org/events/fridays-with-fred/2024-06-14/
CATEGORIES:Adult
ATTACH;FMTTYPE=image/png:https://www.mamaronecklibrary.org/wp-content/uploads/2024/03/Friday-Fred.png
END:VEVENT
BEGIN:VEVENT
DTSTART;TZID=America/New_York:20240620T110000
DTEND;TZID=America/New_York:20240620T120000
DTSTAMP:20260424T010840
CREATED:20240508T200508Z
LAST-MODIFIED:20240909T132036Z
UID:10004013-1718881200-1718884800@www.mamaronecklibrary.org
SUMMARY:Gentle Yoga
DESCRIPTION:  \nTo register\, please click here.
URL:https://www.mamaronecklibrary.org/events/gentle-yoga/2024-06-20/
CATEGORIES:Adult
ATTACH;FMTTYPE=image/png:https://www.mamaronecklibrary.org/wp-content/uploads/2024/05/GentleYoga.png
END:VEVENT
BEGIN:VEVENT
DTSTART;TZID=America/New_York:20240621T110000
DTEND;TZID=America/New_York:20240621T120000
DTSTAMP:20260424T010840
CREATED:20240314T150043Z
LAST-MODIFIED:20240314T150043Z
UID:10003940-1718967600-1718971200@www.mamaronecklibrary.org
SUMMARY:Fridays with Fred
DESCRIPTION:
URL:https://www.mamaronecklibrary.org/events/fridays-with-fred/2024-06-21/
CATEGORIES:Adult
ATTACH;FMTTYPE=image/png:https://www.mamaronecklibrary.org/wp-content/uploads/2024/03/Friday-Fred.png
END:VEVENT
BEGIN:VEVENT
DTSTART;TZID=America/New_York:20240625T190000
DTEND;TZID=America/New_York:20240625T200000
DTSTAMP:20260424T010840
CREATED:20240508T140133Z
LAST-MODIFIED:20240614T163926Z
UID:10004009-1719342000-1719345600@www.mamaronecklibrary.org
SUMMARY:Ayurveda Cognitive Issues
DESCRIPTION:  \nTo register\, please click here.
URL:https://www.mamaronecklibrary.org/events/ayurveda-cognitive-issues/
CATEGORIES:Adult
ATTACH;FMTTYPE=image/png:https://www.mamaronecklibrary.org/wp-content/uploads/2024/05/JuneAyurveda25.png
END:VEVENT
BEGIN:VEVENT
DTSTART;TZID=America/New_York:20240627T110000
DTEND;TZID=America/New_York:20240627T120000
DTSTAMP:20260424T010840
CREATED:20240508T200508Z
LAST-MODIFIED:20240909T132036Z
UID:10004014-1719486000-1719489600@www.mamaronecklibrary.org
SUMMARY:Gentle Yoga
DESCRIPTION:  \nTo register\, please click here.
URL:https://www.mamaronecklibrary.org/events/gentle-yoga/2024-06-27/
CATEGORIES:Adult
ATTACH;FMTTYPE=image/png:https://www.mamaronecklibrary.org/wp-content/uploads/2024/05/GentleYoga.png
END:VEVENT
BEGIN:VEVENT
DTSTART;TZID=America/New_York:20240628T110000
DTEND;TZID=America/New_York:20240628T120000
DTSTAMP:20260424T010840
CREATED:20240314T150043Z
LAST-MODIFIED:20240314T150043Z
UID:10003941-1719572400-1719576000@www.mamaronecklibrary.org
SUMMARY:Fridays with Fred
DESCRIPTION:
URL:https://www.mamaronecklibrary.org/events/fridays-with-fred/2024-06-28/
CATEGORIES:Adult
ATTACH;FMTTYPE=image/png:https://www.mamaronecklibrary.org/wp-content/uploads/2024/03/Friday-Fred.png
END:VEVENT
END:VCALENDAR