BEGIN:VCALENDAR
VERSION:2.0
PRODID:-//Mamaroneck Public Library - ECPv6.15.12.2//NONSGML v1.0//EN
CALSCALE:GREGORIAN
METHOD:PUBLISH
X-ORIGINAL-URL:https://www.mamaronecklibrary.org
X-WR-CALDESC:Events for Mamaroneck Public Library
REFRESH-INTERVAL;VALUE=DURATION:PT1H
X-Robots-Tag:noindex
X-PUBLISHED-TTL:PT1H
BEGIN:VTIMEZONE
TZID:America/New_York
BEGIN:DAYLIGHT
TZOFFSETFROM:-0500
TZOFFSETTO:-0400
TZNAME:EDT
DTSTART:20250309T070000
END:DAYLIGHT
BEGIN:STANDARD
TZOFFSETFROM:-0400
TZOFFSETTO:-0500
TZNAME:EST
DTSTART:20251102T060000
END:STANDARD
BEGIN:DAYLIGHT
TZOFFSETFROM:-0500
TZOFFSETTO:-0400
TZNAME:EDT
DTSTART:20260308T070000
END:DAYLIGHT
BEGIN:STANDARD
TZOFFSETFROM:-0400
TZOFFSETTO:-0500
TZNAME:EST
DTSTART:20261101T060000
END:STANDARD
BEGIN:DAYLIGHT
TZOFFSETFROM:-0500
TZOFFSETTO:-0400
TZNAME:EDT
DTSTART:20270314T070000
END:DAYLIGHT
BEGIN:STANDARD
TZOFFSETFROM:-0400
TZOFFSETTO:-0500
TZNAME:EST
DTSTART:20271107T060000
END:STANDARD
END:VTIMEZONE
BEGIN:VEVENT
DTSTART;VALUE=DATE:20260302
DTEND;VALUE=DATE:20260501
DTSTAMP:20260423T091042
CREATED:20260302T172031Z
LAST-MODIFIED:20260302T172031Z
UID:10009233-1772409600-1777593599@www.mamaronecklibrary.org
SUMMARY:In the Warner Gallery: In the Blink of An Eye: The Photography of Mitch Achiron
DESCRIPTION:
URL:https://www.mamaronecklibrary.org/events/in-the-warner-gallery-in-the-blink-of-an-eye-the-photography-of-mitch-achiron/
CATEGORIES:Adult,All Ages,Children
ATTACH;FMTTYPE=image/png:https://www.mamaronecklibrary.org/wp-content/uploads/2026/03/Mitch-Achiron.png
END:VEVENT
BEGIN:VEVENT
DTSTART;TZID=America/New_York:20260302T100000
DTEND;TZID=America/New_York:20260302T143000
DTSTAMP:20260423T091042
CREATED:20251023T154351Z
LAST-MODIFIED:20260120T172548Z
UID:10008780-1772445600-1772461800@www.mamaronecklibrary.org
SUMMARY:Free Tax Preparation from AARP
DESCRIPTION:
URL:https://www.mamaronecklibrary.org/events/free-tax-preparation-from-aarp/2026-03-02/
CATEGORIES:Adult
ATTACH;FMTTYPE=image/png:https://www.mamaronecklibrary.org/wp-content/uploads/2025/10/AARP-Tax-Prep-1.png
END:VEVENT
BEGIN:VEVENT
DTSTART;TZID=America/New_York:20260304T100000
DTEND;TZID=America/New_York:20260304T110000
DTSTAMP:20260423T091042
CREATED:20260209T180836Z
LAST-MODIFIED:20260209T180836Z
UID:10009178-1772618400-1772622000@www.mamaronecklibrary.org
SUMMARY:Estate Planning for You & Your Spouse/Partner (via Zoom)
DESCRIPTION:To Register\, please click here.
URL:https://www.mamaronecklibrary.org/events/estate-planning-for-you-your-spouse-partner-via-zoom/
CATEGORIES:Adult
ATTACH;FMTTYPE=image/png:https://www.mamaronecklibrary.org/wp-content/uploads/2026/02/Estate.png
END:VEVENT
BEGIN:VEVENT
DTSTART;TZID=America/New_York:20260304T180000
DTEND;TZID=America/New_York:20260304T190000
DTSTAMP:20260423T091042
CREATED:20260204T183248Z
LAST-MODIFIED:20260302T163516Z
UID:10009172-1772647200-1772650800@www.mamaronecklibrary.org
SUMMARY:EVENT CANCELLED: First-Time Home Buyers Seminar
DESCRIPTION:This event has been cancelled.
URL:https://www.mamaronecklibrary.org/events/first-time-home-buyers-seminar/
CATEGORIES:Adult
ATTACH;FMTTYPE=image/png:https://www.mamaronecklibrary.org/wp-content/uploads/2026/02/First-TimeHomebuyer-1.png
END:VEVENT
BEGIN:VEVENT
DTSTART;TZID=America/New_York:20260305T090000
DTEND;TZID=America/New_York:20260305T100000
DTSTAMP:20260423T091042
CREATED:20250724T144658Z
LAST-MODIFIED:20250924T152053Z
UID:10008118-1772701200-1772704800@www.mamaronecklibrary.org
SUMMARY:Meditation with Jane (via Zoom)
DESCRIPTION:  \nTo register\, please click here.
URL:https://www.mamaronecklibrary.org/events/mindfulness-meditation-for-joy-harmony-health-with-jane-meryll/2026-03-05/
CATEGORIES:Adult
ATTACH;FMTTYPE=image/png:https://www.mamaronecklibrary.org/wp-content/uploads/2025/07/Mindfulness.png
END:VEVENT
BEGIN:VEVENT
DTSTART;TZID=America/New_York:20260305T103000
DTEND;TZID=America/New_York:20260305T113000
DTSTAMP:20260423T091042
CREATED:20251219T171001Z
LAST-MODIFIED:20260320T185804Z
UID:10009188-1772706600-1772710200@www.mamaronecklibrary.org
SUMMARY:Gentle Yoga
DESCRIPTION:
URL:https://www.mamaronecklibrary.org/events/gentle-yoga-14/2026-03-05/
CATEGORIES:Adult
ATTACH;FMTTYPE=image/png:https://www.mamaronecklibrary.org/wp-content/uploads/2025/12/Gentle-Yoga-1.png
END:VEVENT
BEGIN:VEVENT
DTSTART;TZID=America/New_York:20260306T100000
DTEND;TZID=America/New_York:20260306T143000
DTSTAMP:20260423T091042
CREATED:20251023T154351Z
LAST-MODIFIED:20260120T172548Z
UID:10008781-1772791200-1772807400@www.mamaronecklibrary.org
SUMMARY:Free Tax Preparation from AARP
DESCRIPTION:
URL:https://www.mamaronecklibrary.org/events/free-tax-preparation-from-aarp/2026-03-06/
CATEGORIES:Adult
ATTACH;FMTTYPE=image/png:https://www.mamaronecklibrary.org/wp-content/uploads/2025/10/AARP-Tax-Prep-1.png
END:VEVENT
BEGIN:VEVENT
DTSTART;TZID=America/New_York:20260307T130000
DTEND;TZID=America/New_York:20260307T150000
DTSTAMP:20260423T091042
CREATED:20260121T180434Z
LAST-MODIFIED:20260121T180434Z
UID:10009026-1772888400-1772895600@www.mamaronecklibrary.org
SUMMARY:Madcap Mysteries
DESCRIPTION:To Register\, please click here.
URL:https://www.mamaronecklibrary.org/events/madcap-mysteries/
CATEGORIES:Adult
ATTACH;FMTTYPE=image/png:https://www.mamaronecklibrary.org/wp-content/uploads/2026/01/Madcap-Mysteries.png
END:VEVENT
BEGIN:VEVENT
DTSTART;TZID=America/New_York:20260309T100000
DTEND;TZID=America/New_York:20260309T143000
DTSTAMP:20260423T091042
CREATED:20251023T154351Z
LAST-MODIFIED:20260120T172548Z
UID:10008782-1773050400-1773066600@www.mamaronecklibrary.org
SUMMARY:Free Tax Preparation from AARP
DESCRIPTION:
URL:https://www.mamaronecklibrary.org/events/free-tax-preparation-from-aarp/2026-03-09/
CATEGORIES:Adult
ATTACH;FMTTYPE=image/png:https://www.mamaronecklibrary.org/wp-content/uploads/2025/10/AARP-Tax-Prep-1.png
END:VEVENT
BEGIN:VEVENT
DTSTART;TZID=America/New_York:20260310T140000
DTEND;TZID=America/New_York:20260310T150000
DTSTAMP:20260423T091042
CREATED:20251208T153930Z
LAST-MODIFIED:20251208T174211Z
UID:10008844-1773151200-1773154800@www.mamaronecklibrary.org
SUMMARY:BOOK CLUB 2026: PERSPECTIVE
DESCRIPTION:  \nTo register for in person please click here: https://forms.gle/6aYKNzFPXvhxPfv48 \n  \nTo register for Zoom please click here: https://us06web.zoom.us/meeting/register/fb-_DfwhR5uXSYnSgJsyOQ
URL:https://www.mamaronecklibrary.org/events/book-club-2026-perspective-3/
CATEGORIES:Adult
ATTACH;FMTTYPE=image/png:https://www.mamaronecklibrary.org/wp-content/uploads/2025/12/BOOK-CLUB-2026.png
END:VEVENT
BEGIN:VEVENT
DTSTART;TZID=America/New_York:20260310T180000
DTEND;TZID=America/New_York:20260310T193000
DTSTAMP:20260423T091042
CREATED:20260209T154641Z
LAST-MODIFIED:20260209T154641Z
UID:10009173-1773165600-1773171000@www.mamaronecklibrary.org
SUMMARY:Managing Your Career in Changing Times (via Zoom)
DESCRIPTION:To Register\, please click here.
URL:https://www.mamaronecklibrary.org/events/managing-your-career-in-changing-times-via-zoom/2026-03-10/
CATEGORIES:Adult
ATTACH;FMTTYPE=image/png:https://www.mamaronecklibrary.org/wp-content/uploads/2026/02/2026-CCS-Virtual-Seminar-PB-Flyer-page-0-scaled.png
END:VEVENT
BEGIN:VEVENT
DTSTART;TZID=America/New_York:20260311T100000
DTEND;TZID=America/New_York:20260311T120000
DTSTAMP:20260423T091042
CREATED:20260211T182144Z
LAST-MODIFIED:20260211T182249Z
UID:10009179-1773223200-1773230400@www.mamaronecklibrary.org
SUMMARY:Fiber Arts Club + Puzzle Swap
DESCRIPTION:
URL:https://www.mamaronecklibrary.org/events/fiber-arts-club-puzzle-swap-19/
CATEGORIES:Adult
ATTACH;FMTTYPE=image/png:https://www.mamaronecklibrary.org/wp-content/uploads/2026/02/FiberPuzzle.png
END:VEVENT
BEGIN:VEVENT
DTSTART;TZID=America/New_York:20260311T190000
DTEND;TZID=America/New_York:20260311T200000
DTSTAMP:20260423T091042
CREATED:20260114T154351Z
LAST-MODIFIED:20260114T154405Z
UID:10009015-1773255600-1773259200@www.mamaronecklibrary.org
SUMMARY:Mamaroneck Public Library Board of Trustees Meeting
DESCRIPTION:
URL:https://www.mamaronecklibrary.org/events/mamaroneck-public-library-board-of-trustees-meeting/2026-03-11/
CATEGORIES:Adult
ATTACH;FMTTYPE=image/png:https://www.mamaronecklibrary.org/wp-content/uploads/2024/11/board-1.png
END:VEVENT
BEGIN:VEVENT
DTSTART;TZID=America/New_York:20260312T090000
DTEND;TZID=America/New_York:20260312T100000
DTSTAMP:20260423T091042
CREATED:20250724T144658Z
LAST-MODIFIED:20250924T152053Z
UID:10008119-1773306000-1773309600@www.mamaronecklibrary.org
SUMMARY:Meditation with Jane (via Zoom)
DESCRIPTION:  \nTo register\, please click here.
URL:https://www.mamaronecklibrary.org/events/mindfulness-meditation-for-joy-harmony-health-with-jane-meryll/2026-03-12/
CATEGORIES:Adult
ATTACH;FMTTYPE=image/png:https://www.mamaronecklibrary.org/wp-content/uploads/2025/07/Mindfulness.png
END:VEVENT
BEGIN:VEVENT
DTSTART;TZID=America/New_York:20260312T103000
DTEND;TZID=America/New_York:20260312T113000
DTSTAMP:20260423T091042
CREATED:20251219T171001Z
LAST-MODIFIED:20260320T185804Z
UID:10009189-1773311400-1773315000@www.mamaronecklibrary.org
SUMMARY:Gentle Yoga
DESCRIPTION:
URL:https://www.mamaronecklibrary.org/events/gentle-yoga-14/2026-03-12/
CATEGORIES:Adult
ATTACH;FMTTYPE=image/png:https://www.mamaronecklibrary.org/wp-content/uploads/2025/12/Gentle-Yoga-1.png
END:VEVENT
BEGIN:VEVENT
DTSTART;TZID=America/New_York:20260313T100000
DTEND;TZID=America/New_York:20260313T143000
DTSTAMP:20260423T091042
CREATED:20251023T154351Z
LAST-MODIFIED:20260120T172548Z
UID:10008783-1773396000-1773412200@www.mamaronecklibrary.org
SUMMARY:Free Tax Preparation from AARP
DESCRIPTION:
URL:https://www.mamaronecklibrary.org/events/free-tax-preparation-from-aarp/2026-03-13/
CATEGORIES:Adult
ATTACH;FMTTYPE=image/png:https://www.mamaronecklibrary.org/wp-content/uploads/2025/10/AARP-Tax-Prep-1.png
END:VEVENT
BEGIN:VEVENT
DTSTART;TZID=America/New_York:20260316T100000
DTEND;TZID=America/New_York:20260316T143000
DTSTAMP:20260423T091042
CREATED:20251023T154351Z
LAST-MODIFIED:20260120T172548Z
UID:10008784-1773655200-1773671400@www.mamaronecklibrary.org
SUMMARY:Free Tax Preparation from AARP
DESCRIPTION:
URL:https://www.mamaronecklibrary.org/events/free-tax-preparation-from-aarp/2026-03-16/
CATEGORIES:Adult
ATTACH;FMTTYPE=image/png:https://www.mamaronecklibrary.org/wp-content/uploads/2025/10/AARP-Tax-Prep-1.png
END:VEVENT
BEGIN:VEVENT
DTSTART;TZID=America/New_York:20260317T134500
DTEND;TZID=America/New_York:20260317T151500
DTSTAMP:20260423T091042
CREATED:20251126T172359Z
LAST-MODIFIED:20251126T172359Z
UID:10008836-1773755100-1773760500@www.mamaronecklibrary.org
SUMMARY:Short Story Discussion Series: NY Stories
DESCRIPTION:To Register\, please click here.
URL:https://www.mamaronecklibrary.org/events/short-story-discussion-series-ny-stories/2026-03-17/
CATEGORIES:Adult
ATTACH;FMTTYPE=image/png:https://www.mamaronecklibrary.org/wp-content/uploads/2025/11/NYStories.png
END:VEVENT
BEGIN:VEVENT
DTSTART;TZID=America/New_York:20260317T180000
DTEND;TZID=America/New_York:20260317T193000
DTSTAMP:20260423T091042
CREATED:20260209T154641Z
LAST-MODIFIED:20260209T154641Z
UID:10009174-1773770400-1773775800@www.mamaronecklibrary.org
SUMMARY:Managing Your Career in Changing Times (via Zoom)
DESCRIPTION:To Register\, please click here.
URL:https://www.mamaronecklibrary.org/events/managing-your-career-in-changing-times-via-zoom/2026-03-17/
CATEGORIES:Adult
ATTACH;FMTTYPE=image/png:https://www.mamaronecklibrary.org/wp-content/uploads/2026/02/2026-CCS-Virtual-Seminar-PB-Flyer-page-0-scaled.png
END:VEVENT
BEGIN:VEVENT
DTSTART;TZID=America/New_York:20260318T110000
DTEND;TZID=America/New_York:20260318T120000
DTSTAMP:20260423T091042
CREATED:20260302T170134Z
LAST-MODIFIED:20260302T170224Z
UID:10009231-1773831600-1773835200@www.mamaronecklibrary.org
SUMMARY:Learn to Make Chicken a la King (via Zoom)
DESCRIPTION:To Register\, please click here. \nFor the recipe card\, please click here.
URL:https://www.mamaronecklibrary.org/events/learn-to-make-chicken-a-la-king-via-zoom/
CATEGORIES:Adult
ATTACH;FMTTYPE=image/png:https://www.mamaronecklibrary.org/wp-content/uploads/2026/03/TinyKitchen.png
END:VEVENT
BEGIN:VEVENT
DTSTART;TZID=America/New_York:20260318T110000
DTEND;TZID=America/New_York:20260318T130000
DTSTAMP:20260423T091042
CREATED:20260112T172536Z
LAST-MODIFIED:20260302T170300Z
UID:10009010-1773831600-1773838800@www.mamaronecklibrary.org
SUMMARY:New Movie Matinee: Rental Family
DESCRIPTION:
URL:https://www.mamaronecklibrary.org/events/new-movie-matinee-rental-family/
CATEGORIES:Adult
ATTACH;FMTTYPE=image/png:https://www.mamaronecklibrary.org/wp-content/uploads/2026/01/NEW-MOVIE-MATINEE-1.png
END:VEVENT
BEGIN:VEVENT
DTSTART;TZID=America/New_York:20260318T180000
DTEND;TZID=America/New_York:20260318T190000
DTSTAMP:20260423T091042
CREATED:20260107T173419Z
LAST-MODIFIED:20260323T144953Z
UID:10008998-1773856800-1773860400@www.mamaronecklibrary.org
SUMMARY:"Food for Thought" Cookbook Club 2026
DESCRIPTION:To Register\, please click here.
URL:https://www.mamaronecklibrary.org/events/food-for-thought-cookbook-club-2026/2026-03-18/
CATEGORIES:Adult
ATTACH;FMTTYPE=image/png:https://www.mamaronecklibrary.org/wp-content/uploads/2026/01/Modern-White-and-Beige-Recipe-Card-US-Letter-1.png
END:VEVENT
BEGIN:VEVENT
DTSTART;TZID=America/New_York:20260319T090000
DTEND;TZID=America/New_York:20260319T100000
DTSTAMP:20260423T091043
CREATED:20250724T144658Z
LAST-MODIFIED:20250924T152053Z
UID:10008120-1773910800-1773914400@www.mamaronecklibrary.org
SUMMARY:Meditation with Jane (via Zoom)
DESCRIPTION:  \nTo register\, please click here.
URL:https://www.mamaronecklibrary.org/events/mindfulness-meditation-for-joy-harmony-health-with-jane-meryll/2026-03-19/
CATEGORIES:Adult
ATTACH;FMTTYPE=image/png:https://www.mamaronecklibrary.org/wp-content/uploads/2025/07/Mindfulness.png
END:VEVENT
BEGIN:VEVENT
DTSTART;TZID=America/New_York:20260319T103000
DTEND;TZID=America/New_York:20260319T113000
DTSTAMP:20260423T091043
CREATED:20251219T171001Z
LAST-MODIFIED:20260320T185804Z
UID:10009190-1773916200-1773919800@www.mamaronecklibrary.org
SUMMARY:Gentle Yoga
DESCRIPTION:
URL:https://www.mamaronecklibrary.org/events/gentle-yoga-14/2026-03-19/
CATEGORIES:Adult
ATTACH;FMTTYPE=image/png:https://www.mamaronecklibrary.org/wp-content/uploads/2025/12/Gentle-Yoga-1.png
END:VEVENT
BEGIN:VEVENT
DTSTART;TZID=America/New_York:20260320T100000
DTEND;TZID=America/New_York:20260320T143000
DTSTAMP:20260423T091043
CREATED:20251023T154351Z
LAST-MODIFIED:20260120T172548Z
UID:10008785-1774000800-1774017000@www.mamaronecklibrary.org
SUMMARY:Free Tax Preparation from AARP
DESCRIPTION:
URL:https://www.mamaronecklibrary.org/events/free-tax-preparation-from-aarp/2026-03-20/
CATEGORIES:Adult
ATTACH;FMTTYPE=image/png:https://www.mamaronecklibrary.org/wp-content/uploads/2025/10/AARP-Tax-Prep-1.png
END:VEVENT
BEGIN:VEVENT
DTSTART;TZID=America/New_York:20260321T100000
DTEND;TZID=America/New_York:20260321T163000
DTSTAMP:20260423T091043
CREATED:20251223T192533Z
LAST-MODIFIED:20251223T192617Z
UID:10008964-1774087200-1774110600@www.mamaronecklibrary.org
SUMMARY:Defensive Driving Class
DESCRIPTION:To Register\, please click here.
URL:https://www.mamaronecklibrary.org/events/defensive-driving-class-2/
CATEGORIES:Adult
ATTACH;FMTTYPE=image/png:https://www.mamaronecklibrary.org/wp-content/uploads/2025/12/DefensiveDriving.png
END:VEVENT
BEGIN:VEVENT
DTSTART;TZID=America/New_York:20260323T100000
DTEND;TZID=America/New_York:20260323T143000
DTSTAMP:20260423T091043
CREATED:20251023T154351Z
LAST-MODIFIED:20260120T172548Z
UID:10008786-1774260000-1774276200@www.mamaronecklibrary.org
SUMMARY:Free Tax Preparation from AARP
DESCRIPTION:
URL:https://www.mamaronecklibrary.org/events/free-tax-preparation-from-aarp/2026-03-23/
CATEGORIES:Adult
ATTACH;FMTTYPE=image/png:https://www.mamaronecklibrary.org/wp-content/uploads/2025/10/AARP-Tax-Prep-1.png
END:VEVENT
BEGIN:VEVENT
DTSTART;TZID=America/New_York:20260324T180000
DTEND;TZID=America/New_York:20260324T193000
DTSTAMP:20260423T091043
CREATED:20260209T154641Z
LAST-MODIFIED:20260209T154641Z
UID:10009175-1774375200-1774380600@www.mamaronecklibrary.org
SUMMARY:Managing Your Career in Changing Times (via Zoom)
DESCRIPTION:To Register\, please click here.
URL:https://www.mamaronecklibrary.org/events/managing-your-career-in-changing-times-via-zoom/2026-03-24/
CATEGORIES:Adult
ATTACH;FMTTYPE=image/png:https://www.mamaronecklibrary.org/wp-content/uploads/2026/02/2026-CCS-Virtual-Seminar-PB-Flyer-page-0-scaled.png
END:VEVENT
BEGIN:VEVENT
DTSTART;TZID=America/New_York:20260324T183000
DTEND;TZID=America/New_York:20260324T193000
DTSTAMP:20260423T091043
CREATED:20260306T145514Z
LAST-MODIFIED:20260306T145514Z
UID:10009241-1774377000-1774380600@www.mamaronecklibrary.org
SUMMARY:Hutchinson River Restoration Project (via Zoom)
DESCRIPTION:To Register\, please click here.
URL:https://www.mamaronecklibrary.org/events/hutchinson-river-restoration-project-via-zoom/
CATEGORIES:Adult
ATTACH;FMTTYPE=image/png:https://www.mamaronecklibrary.org/wp-content/uploads/2026/03/Hutch.png
END:VEVENT
BEGIN:VEVENT
DTSTART;TZID=America/New_York:20260325T110000
DTEND;TZID=America/New_York:20260325T120000
DTSTAMP:20260423T091043
CREATED:20260302T171805Z
LAST-MODIFIED:20260302T171805Z
UID:10009232-1774436400-1774440000@www.mamaronecklibrary.org
SUMMARY:Mamaroneck Art Club
DESCRIPTION:To Register\, please click here.
URL:https://www.mamaronecklibrary.org/events/mamaroneck-art-club-3/
CATEGORIES:Adult
ATTACH;FMTTYPE=image/png:https://www.mamaronecklibrary.org/wp-content/uploads/2026/03/MamaroneckArtClub.png
END:VEVENT
END:VCALENDAR