BEGIN:VCALENDAR
VERSION:2.0
PRODID:-//Mamaroneck Public Library - ECPv6.15.12.2//NONSGML v1.0//EN
CALSCALE:GREGORIAN
METHOD:PUBLISH
X-ORIGINAL-URL:https://www.mamaronecklibrary.org
X-WR-CALDESC:Events for Mamaroneck Public Library
REFRESH-INTERVAL;VALUE=DURATION:PT1H
X-Robots-Tag:noindex
X-PUBLISHED-TTL:PT1H
BEGIN:VTIMEZONE
TZID:America/New_York
BEGIN:DAYLIGHT
TZOFFSETFROM:-0500
TZOFFSETTO:-0400
TZNAME:EDT
DTSTART:20230312T070000
END:DAYLIGHT
BEGIN:STANDARD
TZOFFSETFROM:-0400
TZOFFSETTO:-0500
TZNAME:EST
DTSTART:20231105T060000
END:STANDARD
BEGIN:DAYLIGHT
TZOFFSETFROM:-0500
TZOFFSETTO:-0400
TZNAME:EDT
DTSTART:20240310T070000
END:DAYLIGHT
BEGIN:STANDARD
TZOFFSETFROM:-0400
TZOFFSETTO:-0500
TZNAME:EST
DTSTART:20241103T060000
END:STANDARD
BEGIN:DAYLIGHT
TZOFFSETFROM:-0500
TZOFFSETTO:-0400
TZNAME:EDT
DTSTART:20250309T070000
END:DAYLIGHT
BEGIN:STANDARD
TZOFFSETFROM:-0400
TZOFFSETTO:-0500
TZNAME:EST
DTSTART:20251102T060000
END:STANDARD
END:VTIMEZONE
BEGIN:VEVENT
DTSTART;TZID=America/New_York:20240826T110000
DTEND;TZID=America/New_York:20240826T130000
DTSTAMP:20260423T212120
CREATED:20240606T203201Z
LAST-MODIFIED:20240606T203201Z
UID:10004772-1724670000-1724677200@www.mamaronecklibrary.org
SUMMARY:Golden Age Musicals
DESCRIPTION:
URL:https://www.mamaronecklibrary.org/events/golden-age-musicals/2024-08-26/
CATEGORIES:Adult
END:VEVENT
BEGIN:VEVENT
DTSTART;TZID=America/New_York:20240826T170000
DTEND;TZID=America/New_York:20240826T183000
DTSTAMP:20260423T212120
CREATED:20240820T155324Z
LAST-MODIFIED:20240820T155324Z
UID:10005020-1724691600-1724697000@www.mamaronecklibrary.org
SUMMARY:Fundraising Committee
DESCRIPTION:  \nTo register\, please click here.
URL:https://www.mamaronecklibrary.org/events/fundraising-committee/
CATEGORIES:Adult
ATTACH;FMTTYPE=image/jpeg:https://www.mamaronecklibrary.org/wp-content/uploads/2024/07/e6dc84_5b544f2c9299477bb8bb87461f66d14fmv2.jpg
END:VEVENT
BEGIN:VEVENT
DTSTART;TZID=America/New_York:20240826T180000
DTEND;TZID=America/New_York:20240826T200000
DTSTAMP:20260423T212120
CREATED:20240730T185854Z
LAST-MODIFIED:20240730T185854Z
UID:10004855-1724695200-1724702400@www.mamaronecklibrary.org
SUMMARY:Village of Mamaroneck plug into Westchester Power!
DESCRIPTION:
URL:https://www.mamaronecklibrary.org/events/village-of-mamaroneck-plug-into-westchester-power/
CATEGORIES:Adult
ATTACH;FMTTYPE=image/png:https://www.mamaronecklibrary.org/wp-content/uploads/2024/07/Mamaroneck-Village.png
END:VEVENT
END:VCALENDAR