BEGIN:VCALENDAR
VERSION:2.0
PRODID:-//Mamaroneck Public Library - ECPv6.15.12.2//NONSGML v1.0//EN
CALSCALE:GREGORIAN
METHOD:PUBLISH
X-WR-CALNAME:Mamaroneck Public Library
X-ORIGINAL-URL:https://www.mamaronecklibrary.org
X-WR-CALDESC:Events for Mamaroneck Public Library
REFRESH-INTERVAL;VALUE=DURATION:PT1H
X-Robots-Tag:noindex
X-PUBLISHED-TTL:PT1H
BEGIN:VTIMEZONE
TZID:America/New_York
BEGIN:DAYLIGHT
TZOFFSETFROM:-0500
TZOFFSETTO:-0400
TZNAME:EDT
DTSTART:20250309T070000
END:DAYLIGHT
BEGIN:STANDARD
TZOFFSETFROM:-0400
TZOFFSETTO:-0500
TZNAME:EST
DTSTART:20251102T060000
END:STANDARD
BEGIN:DAYLIGHT
TZOFFSETFROM:-0500
TZOFFSETTO:-0400
TZNAME:EDT
DTSTART:20260308T070000
END:DAYLIGHT
BEGIN:STANDARD
TZOFFSETFROM:-0400
TZOFFSETTO:-0500
TZNAME:EST
DTSTART:20261101T060000
END:STANDARD
BEGIN:DAYLIGHT
TZOFFSETFROM:-0500
TZOFFSETTO:-0400
TZNAME:EDT
DTSTART:20270314T070000
END:DAYLIGHT
BEGIN:STANDARD
TZOFFSETFROM:-0400
TZOFFSETTO:-0500
TZNAME:EST
DTSTART:20271107T060000
END:STANDARD
END:VTIMEZONE
BEGIN:VEVENT
DTSTART;TZID=America/New_York:20260206T100000
DTEND;TZID=America/New_York:20260206T143000
DTSTAMP:20260423T110432
CREATED:20251023T154351Z
LAST-MODIFIED:20260120T172548Z
UID:10008774-1770372000-1770388200@www.mamaronecklibrary.org
SUMMARY:Free Tax Preparation from AARP
DESCRIPTION:
URL:https://www.mamaronecklibrary.org/events/free-tax-preparation-from-aarp/2026-02-06/
CATEGORIES:Adult
ATTACH;FMTTYPE=image/png:https://www.mamaronecklibrary.org/wp-content/uploads/2025/10/AARP-Tax-Prep-1.png
END:VEVENT
BEGIN:VEVENT
DTSTART;TZID=America/New_York:20260206T110000
DTEND;TZID=America/New_York:20260206T120000
DTSTAMP:20260423T110432
CREATED:20251223T191619Z
LAST-MODIFIED:20251223T191746Z
UID:10008963-1770375600-1770379200@www.mamaronecklibrary.org
SUMMARY:2026 Filing Season Essentials
DESCRIPTION:To Register\, please click here.
URL:https://www.mamaronecklibrary.org/events/23148/
CATEGORIES:Adult
ATTACH;FMTTYPE=image/png:https://www.mamaronecklibrary.org/wp-content/uploads/2025/12/TaxTalk-1.png
END:VEVENT
END:VCALENDAR