BEGIN:VCALENDAR
VERSION:2.0
PRODID:-//Mamaroneck Public Library - ECPv6.15.12.2//NONSGML v1.0//EN
CALSCALE:GREGORIAN
METHOD:PUBLISH
X-WR-CALNAME:Mamaroneck Public Library
X-ORIGINAL-URL:https://www.mamaronecklibrary.org
X-WR-CALDESC:Events for Mamaroneck Public Library
REFRESH-INTERVAL;VALUE=DURATION:PT1H
X-Robots-Tag:noindex
X-PUBLISHED-TTL:PT1H
BEGIN:VTIMEZONE
TZID:America/New_York
BEGIN:DAYLIGHT
TZOFFSETFROM:-0500
TZOFFSETTO:-0400
TZNAME:EDT
DTSTART:20250309T070000
END:DAYLIGHT
BEGIN:STANDARD
TZOFFSETFROM:-0400
TZOFFSETTO:-0500
TZNAME:EST
DTSTART:20251102T060000
END:STANDARD
BEGIN:DAYLIGHT
TZOFFSETFROM:-0500
TZOFFSETTO:-0400
TZNAME:EDT
DTSTART:20260308T070000
END:DAYLIGHT
BEGIN:STANDARD
TZOFFSETFROM:-0400
TZOFFSETTO:-0500
TZNAME:EST
DTSTART:20261101T060000
END:STANDARD
BEGIN:DAYLIGHT
TZOFFSETFROM:-0500
TZOFFSETTO:-0400
TZNAME:EDT
DTSTART:20270314T070000
END:DAYLIGHT
BEGIN:STANDARD
TZOFFSETFROM:-0400
TZOFFSETTO:-0500
TZNAME:EST
DTSTART:20271107T060000
END:STANDARD
END:VTIMEZONE
BEGIN:VEVENT
DTSTART;VALUE=DATE:20260302
DTEND;VALUE=DATE:20260501
DTSTAMP:20260426T002826
CREATED:20260302T172031Z
LAST-MODIFIED:20260302T172031Z
UID:10009233-1772409600-1777593599@www.mamaronecklibrary.org
SUMMARY:In the Warner Gallery: In the Blink of An Eye: The Photography of Mitch Achiron
DESCRIPTION:
URL:https://www.mamaronecklibrary.org/events/in-the-warner-gallery-in-the-blink-of-an-eye-the-photography-of-mitch-achiron/
CATEGORIES:Adult,All Ages,Children
ATTACH;FMTTYPE=image/png:https://www.mamaronecklibrary.org/wp-content/uploads/2026/03/Mitch-Achiron.png
END:VEVENT
BEGIN:VEVENT
DTSTART;TZID=America/New_York:20260310T140000
DTEND;TZID=America/New_York:20260310T150000
DTSTAMP:20260426T002826
CREATED:20251208T153930Z
LAST-MODIFIED:20251208T174211Z
UID:10008844-1773151200-1773154800@www.mamaronecklibrary.org
SUMMARY:BOOK CLUB 2026: PERSPECTIVE
DESCRIPTION:  \nTo register for in person please click here: https://forms.gle/6aYKNzFPXvhxPfv48 \n  \nTo register for Zoom please click here: https://us06web.zoom.us/meeting/register/fb-_DfwhR5uXSYnSgJsyOQ
URL:https://www.mamaronecklibrary.org/events/book-club-2026-perspective-3/
CATEGORIES:Adult
ATTACH;FMTTYPE=image/png:https://www.mamaronecklibrary.org/wp-content/uploads/2025/12/BOOK-CLUB-2026.png
END:VEVENT
BEGIN:VEVENT
DTSTART;TZID=America/New_York:20260310T180000
DTEND;TZID=America/New_York:20260310T193000
DTSTAMP:20260426T002826
CREATED:20260209T154641Z
LAST-MODIFIED:20260209T154641Z
UID:10009173-1773165600-1773171000@www.mamaronecklibrary.org
SUMMARY:Managing Your Career in Changing Times (via Zoom)
DESCRIPTION:To Register\, please click here.
URL:https://www.mamaronecklibrary.org/events/managing-your-career-in-changing-times-via-zoom/2026-03-10/
CATEGORIES:Adult
ATTACH;FMTTYPE=image/png:https://www.mamaronecklibrary.org/wp-content/uploads/2026/02/2026-CCS-Virtual-Seminar-PB-Flyer-page-0-scaled.png
END:VEVENT
END:VCALENDAR