BEGIN:VCALENDAR
VERSION:2.0
PRODID:-//Mamaroneck Public Library - ECPv6.15.12.2//NONSGML v1.0//EN
CALSCALE:GREGORIAN
METHOD:PUBLISH
X-ORIGINAL-URL:https://www.mamaronecklibrary.org
X-WR-CALDESC:Events for Mamaroneck Public Library
REFRESH-INTERVAL;VALUE=DURATION:PT1H
X-Robots-Tag:noindex
X-PUBLISHED-TTL:PT1H
BEGIN:VTIMEZONE
TZID:America/New_York
BEGIN:DAYLIGHT
TZOFFSETFROM:-0500
TZOFFSETTO:-0400
TZNAME:EDT
DTSTART:20250309T070000
END:DAYLIGHT
BEGIN:STANDARD
TZOFFSETFROM:-0400
TZOFFSETTO:-0500
TZNAME:EST
DTSTART:20251102T060000
END:STANDARD
BEGIN:DAYLIGHT
TZOFFSETFROM:-0500
TZOFFSETTO:-0400
TZNAME:EDT
DTSTART:20260308T070000
END:DAYLIGHT
BEGIN:STANDARD
TZOFFSETFROM:-0400
TZOFFSETTO:-0500
TZNAME:EST
DTSTART:20261101T060000
END:STANDARD
BEGIN:DAYLIGHT
TZOFFSETFROM:-0500
TZOFFSETTO:-0400
TZNAME:EDT
DTSTART:20270314T070000
END:DAYLIGHT
BEGIN:STANDARD
TZOFFSETFROM:-0400
TZOFFSETTO:-0500
TZNAME:EST
DTSTART:20271107T060000
END:STANDARD
END:VTIMEZONE
BEGIN:VEVENT
DTSTART;VALUE=DATE:20260501
DTEND;VALUE=DATE:20260701
DTSTAMP:20260423T070743
CREATED:20260420T135902Z
LAST-MODIFIED:20260420T135902Z
UID:10009304-1777593600-1782863999@www.mamaronecklibrary.org
SUMMARY:In the Warner Gallery: Old New Again: The Quilt Art of Barbara Glab
DESCRIPTION:
URL:https://www.mamaronecklibrary.org/events/in-the-warner-gallery-old-new-again-the-quilt-art-of-barbara-glab/
CATEGORIES:Adult,All Ages,Children
ATTACH;FMTTYPE=image/png:https://www.mamaronecklibrary.org/wp-content/uploads/2026/04/BarbaraGlab.png
END:VEVENT
BEGIN:VEVENT
DTSTART;TZID=America/New_York:20260504T110000
DTEND;TZID=America/New_York:20260504T120000
DTSTAMP:20260423T070743
CREATED:20260327T154418Z
LAST-MODIFIED:20260327T154418Z
UID:10009258-1777892400-1777896000@www.mamaronecklibrary.org
SUMMARY:Write Your Life! Memoir Workshop
DESCRIPTION:To Register\, please click here.
URL:https://www.mamaronecklibrary.org/events/write-your-life-memoir-workshop/2026-05-04/
CATEGORIES:Adult
ATTACH;FMTTYPE=image/png:https://www.mamaronecklibrary.org/wp-content/uploads/2026/03/Memoir-Writing.png
END:VEVENT
BEGIN:VEVENT
DTSTART;TZID=America/New_York:20260504T183000
DTEND;TZID=America/New_York:20260504T193000
DTSTAMP:20260423T070743
CREATED:20260420T173956Z
LAST-MODIFIED:20260420T173956Z
UID:10009305-1777919400-1777923000@www.mamaronecklibrary.org
SUMMARY:Silent Book Club
DESCRIPTION:No Registration needed\, just drop by!
URL:https://www.mamaronecklibrary.org/events/silent-book-club/2026-05-04/
CATEGORIES:Adult
ATTACH;FMTTYPE=image/png:https://www.mamaronecklibrary.org/wp-content/uploads/2026/04/SilentBookClub.png
END:VEVENT
END:VCALENDAR