BEGIN:VCALENDAR
VERSION:2.0
PRODID:-//Mamaroneck Public Library - ECPv6.15.12.2//NONSGML v1.0//EN
CALSCALE:GREGORIAN
METHOD:PUBLISH
X-ORIGINAL-URL:https://www.mamaronecklibrary.org
X-WR-CALDESC:Events for Mamaroneck Public Library
REFRESH-INTERVAL;VALUE=DURATION:PT1H
X-Robots-Tag:noindex
X-PUBLISHED-TTL:PT1H
BEGIN:VTIMEZONE
TZID:America/New_York
BEGIN:DAYLIGHT
TZOFFSETFROM:-0500
TZOFFSETTO:-0400
TZNAME:EDT
DTSTART:20250309T070000
END:DAYLIGHT
BEGIN:STANDARD
TZOFFSETFROM:-0400
TZOFFSETTO:-0500
TZNAME:EST
DTSTART:20251102T060000
END:STANDARD
BEGIN:DAYLIGHT
TZOFFSETFROM:-0500
TZOFFSETTO:-0400
TZNAME:EDT
DTSTART:20260308T070000
END:DAYLIGHT
BEGIN:STANDARD
TZOFFSETFROM:-0400
TZOFFSETTO:-0500
TZNAME:EST
DTSTART:20261101T060000
END:STANDARD
BEGIN:DAYLIGHT
TZOFFSETFROM:-0500
TZOFFSETTO:-0400
TZNAME:EDT
DTSTART:20270314T070000
END:DAYLIGHT
BEGIN:STANDARD
TZOFFSETFROM:-0400
TZOFFSETTO:-0500
TZNAME:EST
DTSTART:20271107T060000
END:STANDARD
END:VTIMEZONE
BEGIN:VEVENT
DTSTART;VALUE=DATE:20260501
DTEND;VALUE=DATE:20260701
DTSTAMP:20260423T035407
CREATED:20260420T135902Z
LAST-MODIFIED:20260420T135902Z
UID:10009304-1777593600-1782863999@www.mamaronecklibrary.org
SUMMARY:In the Warner Gallery: Old New Again: The Quilt Art of Barbara Glab
DESCRIPTION:
URL:https://www.mamaronecklibrary.org/events/in-the-warner-gallery-old-new-again-the-quilt-art-of-barbara-glab/
CATEGORIES:Adult,All Ages,Children
ATTACH;FMTTYPE=image/png:https://www.mamaronecklibrary.org/wp-content/uploads/2026/04/BarbaraGlab.png
END:VEVENT
BEGIN:VEVENT
DTSTART;TZID=America/New_York:20260519T100000
DTEND;TZID=America/New_York:20260519T170000
DTSTAMP:20260423T035407
CREATED:20260415T181613Z
LAST-MODIFIED:20260415T181613Z
UID:10009282-1779184800-1779210000@www.mamaronecklibrary.org
SUMMARY:Tech Tuesdays
DESCRIPTION:Please note that this program is by appointment only. \nTo Register\, please click here.
URL:https://www.mamaronecklibrary.org/events/tech-tuesdays/2026-05-19/
CATEGORIES:Adult
ATTACH;FMTTYPE=image/png:https://www.mamaronecklibrary.org/wp-content/uploads/2026/04/TechTues.png
END:VEVENT
BEGIN:VEVENT
DTSTART;TZID=America/New_York:20260519T134500
DTEND;TZID=America/New_York:20260519T151500
DTSTAMP:20260423T035407
CREATED:20251126T172359Z
LAST-MODIFIED:20251126T172359Z
UID:10008838-1779198300-1779203700@www.mamaronecklibrary.org
SUMMARY:Short Story Discussion Series: NY Stories
DESCRIPTION:To Register\, please click here.
URL:https://www.mamaronecklibrary.org/events/short-story-discussion-series-ny-stories/2026-05-19/
CATEGORIES:Adult
ATTACH;FMTTYPE=image/png:https://www.mamaronecklibrary.org/wp-content/uploads/2025/11/NYStories.png
END:VEVENT
END:VCALENDAR