BEGIN:VCALENDAR
VERSION:2.0
PRODID:-//Mamaroneck Public Library - ECPv6.15.12.2//NONSGML v1.0//EN
CALSCALE:GREGORIAN
METHOD:PUBLISH
X-ORIGINAL-URL:https://www.mamaronecklibrary.org
X-WR-CALDESC:Events for Mamaroneck Public Library
REFRESH-INTERVAL;VALUE=DURATION:PT1H
X-Robots-Tag:noindex
X-PUBLISHED-TTL:PT1H
BEGIN:VTIMEZONE
TZID:America/New_York
BEGIN:DAYLIGHT
TZOFFSETFROM:-0500
TZOFFSETTO:-0400
TZNAME:EDT
DTSTART:20240310T070000
END:DAYLIGHT
BEGIN:STANDARD
TZOFFSETFROM:-0400
TZOFFSETTO:-0500
TZNAME:EST
DTSTART:20241103T060000
END:STANDARD
BEGIN:DAYLIGHT
TZOFFSETFROM:-0500
TZOFFSETTO:-0400
TZNAME:EDT
DTSTART:20250309T070000
END:DAYLIGHT
BEGIN:STANDARD
TZOFFSETFROM:-0400
TZOFFSETTO:-0500
TZNAME:EST
DTSTART:20251102T060000
END:STANDARD
BEGIN:DAYLIGHT
TZOFFSETFROM:-0500
TZOFFSETTO:-0400
TZNAME:EDT
DTSTART:20260308T070000
END:DAYLIGHT
BEGIN:STANDARD
TZOFFSETFROM:-0400
TZOFFSETTO:-0500
TZNAME:EST
DTSTART:20261101T060000
END:STANDARD
END:VTIMEZONE
BEGIN:VEVENT
DTSTART;TZID=America/New_York:20250314T100000
DTEND;TZID=America/New_York:20250314T143000
DTSTAMP:20260420T015822
CREATED:20250103T185211Z
LAST-MODIFIED:20250113T152114Z
UID:10006705-1741946400-1741962600@www.mamaronecklibrary.org
SUMMARY:FREE Tax Preparation (AARP Tax Aide)
DESCRIPTION:
URL:https://www.mamaronecklibrary.org/events/free-tax-preparation-aarp-tax-aide/2025-03-14/
CATEGORIES:Adult
ATTACH;FMTTYPE=image/png:https://www.mamaronecklibrary.org/wp-content/uploads/2025/01/AARPTaxHelp-1.png
END:VEVENT
BEGIN:VEVENT
DTSTART;TZID=America/New_York:20250317T100000
DTEND;TZID=America/New_York:20250317T143000
DTSTAMP:20260420T015822
CREATED:20250103T185211Z
LAST-MODIFIED:20250113T152114Z
UID:10006706-1742205600-1742221800@www.mamaronecklibrary.org
SUMMARY:FREE Tax Preparation (AARP Tax Aide)
DESCRIPTION:
URL:https://www.mamaronecklibrary.org/events/free-tax-preparation-aarp-tax-aide/2025-03-17/
CATEGORIES:Adult
ATTACH;FMTTYPE=image/png:https://www.mamaronecklibrary.org/wp-content/uploads/2025/01/AARPTaxHelp-1.png
END:VEVENT
BEGIN:VEVENT
DTSTART;TZID=America/New_York:20250319T113000
DTEND;TZID=America/New_York:20250319T123000
DTSTAMP:20260420T015822
CREATED:20250219T145921Z
LAST-MODIFIED:20250827T200358Z
UID:10007327-1742383800-1742387400@www.mamaronecklibrary.org
SUMMARY:Adult Coloring
DESCRIPTION:To Register\, please click here.
URL:https://www.mamaronecklibrary.org/events/adult-coloring-2/2025-03-19/
CATEGORIES:Adult
ATTACH;FMTTYPE=image/png:https://www.mamaronecklibrary.org/wp-content/uploads/2024/12/Coloring-1.png
END:VEVENT
BEGIN:VEVENT
DTSTART;TZID=America/New_York:20250319T180000
DTEND;TZID=America/New_York:20250319T190000
DTSTAMP:20260420T015822
CREATED:20250121T192206Z
LAST-MODIFIED:20250310T164215Z
UID:10007227-1742407200-1742410800@www.mamaronecklibrary.org
SUMMARY:Trivia Night
DESCRIPTION:To Register\, please click here.
URL:https://www.mamaronecklibrary.org/events/trivia-night/
CATEGORIES:Adult
ATTACH;FMTTYPE=image/png:https://www.mamaronecklibrary.org/wp-content/uploads/2025/01/MarTrivia2.png
END:VEVENT
BEGIN:VEVENT
DTSTART;TZID=America/New_York:20250320T110000
DTEND;TZID=America/New_York:20250320T120000
DTSTAMP:20260420T015822
CREATED:20241216T173238Z
LAST-MODIFIED:20241216T173238Z
UID:10006645-1742468400-1742472000@www.mamaronecklibrary.org
SUMMARY:Gentle Yoga
DESCRIPTION:To Register\, please click here.
URL:https://www.mamaronecklibrary.org/events/gentle-yoga-4/2025-03-20/
CATEGORIES:Adult
ATTACH;FMTTYPE=image/png:https://www.mamaronecklibrary.org/wp-content/uploads/2024/12/Yoga.png
END:VEVENT
BEGIN:VEVENT
DTSTART;TZID=America/New_York:20250321T100000
DTEND;TZID=America/New_York:20250321T143000
DTSTAMP:20260420T015822
CREATED:20250103T185211Z
LAST-MODIFIED:20250113T152114Z
UID:10006707-1742551200-1742567400@www.mamaronecklibrary.org
SUMMARY:FREE Tax Preparation (AARP Tax Aide)
DESCRIPTION:
URL:https://www.mamaronecklibrary.org/events/free-tax-preparation-aarp-tax-aide/2025-03-21/
CATEGORIES:Adult
ATTACH;FMTTYPE=image/png:https://www.mamaronecklibrary.org/wp-content/uploads/2025/01/AARPTaxHelp-1.png
END:VEVENT
BEGIN:VEVENT
DTSTART;TZID=America/New_York:20250322T150000
DTEND;TZID=America/New_York:20250322T160000
DTSTAMP:20260420T015822
CREATED:20250203T163439Z
LAST-MODIFIED:20250203T163439Z
UID:10007288-1742655600-1742659200@www.mamaronecklibrary.org
SUMMARY:Grow an Edible Garden
DESCRIPTION:To Register\, please click here.
URL:https://www.mamaronecklibrary.org/events/grow-an-edible-garden/
CATEGORIES:Adult
ATTACH;FMTTYPE=image/png:https://www.mamaronecklibrary.org/wp-content/uploads/2025/02/Garden.png
END:VEVENT
BEGIN:VEVENT
DTSTART;TZID=America/New_York:20250324T100000
DTEND;TZID=America/New_York:20250324T143000
DTSTAMP:20260420T015822
CREATED:20250103T185211Z
LAST-MODIFIED:20250113T152114Z
UID:10006708-1742810400-1742826600@www.mamaronecklibrary.org
SUMMARY:FREE Tax Preparation (AARP Tax Aide)
DESCRIPTION:
URL:https://www.mamaronecklibrary.org/events/free-tax-preparation-aarp-tax-aide/2025-03-24/
CATEGORIES:Adult
ATTACH;FMTTYPE=image/png:https://www.mamaronecklibrary.org/wp-content/uploads/2025/01/AARPTaxHelp-1.png
END:VEVENT
BEGIN:VEVENT
DTSTART;TZID=America/New_York:20250324T180000
DTEND;TZID=America/New_York:20250324T190000
DTSTAMP:20260420T015822
CREATED:20250211T130635Z
LAST-MODIFIED:20250211T130635Z
UID:10007323-1742839200-1742842800@www.mamaronecklibrary.org
SUMMARY:Estate Planning Seminar
DESCRIPTION:To Register\, please click here.
URL:https://www.mamaronecklibrary.org/events/estate-planning-seminar/
CATEGORIES:Adult
ATTACH;FMTTYPE=image/png:https://www.mamaronecklibrary.org/wp-content/uploads/2025/02/EstatePlanning.png
END:VEVENT
BEGIN:VEVENT
DTSTART;TZID=America/New_York:20250325T113000
DTEND;TZID=America/New_York:20250325T123000
DTSTAMP:20260420T015822
CREATED:20250210T141714Z
LAST-MODIFIED:20250210T141714Z
UID:10007321-1742902200-1742905800@www.mamaronecklibrary.org
SUMMARY:Demystifying Funerals
DESCRIPTION:To Register\, please click here.
URL:https://www.mamaronecklibrary.org/events/demystifying-funerals/
CATEGORIES:Adult
ATTACH;FMTTYPE=image/png:https://www.mamaronecklibrary.org/wp-content/uploads/2025/02/Funeral.png
END:VEVENT
BEGIN:VEVENT
DTSTART;TZID=America/New_York:20250325T183000
DTEND;TZID=America/New_York:20250325T193000
DTSTAMP:20260420T015822
CREATED:20250310T144130Z
LAST-MODIFIED:20250324T153725Z
UID:10007612-1742927400-1742931000@www.mamaronecklibrary.org
SUMMARY:Six Scholars/Six Books (via Zoom)
DESCRIPTION:To Register\, please click here.
URL:https://www.mamaronecklibrary.org/events/six-scholars-six-books-via-zoom/
CATEGORIES:Adult
ATTACH;FMTTYPE=image/png:https://www.mamaronecklibrary.org/wp-content/uploads/2025/03/SixScholars.png
END:VEVENT
BEGIN:VEVENT
DTSTART;TZID=America/New_York:20250326T110000
DTEND;TZID=America/New_York:20250326T130000
DTSTAMP:20260420T015822
CREATED:20250204T180658Z
LAST-MODIFIED:20250204T180658Z
UID:10007315-1742986800-1742994000@www.mamaronecklibrary.org
SUMMARY:New Movie Matinee: Lee
DESCRIPTION: 
URL:https://www.mamaronecklibrary.org/events/new-movie-matinee-lee/
CATEGORIES:Adult
ATTACH;FMTTYPE=image/png:https://www.mamaronecklibrary.org/wp-content/uploads/2025/02/NEW-MOVIE-MATINEE.png
END:VEVENT
BEGIN:VEVENT
DTSTART;TZID=America/New_York:20250326T140000
DTEND;TZID=America/New_York:20250326T170000
DTSTAMP:20260420T015822
CREATED:20250310T145026Z
LAST-MODIFIED:20250319T155026Z
UID:10007613-1742997600-1743008400@www.mamaronecklibrary.org
SUMMARY:Community Housing Innovations Tabling Event
DESCRIPTION:
URL:https://www.mamaronecklibrary.org/events/community-housing-innovations-tabling-event/
CATEGORIES:Adult
ATTACH;FMTTYPE=image/png:https://www.mamaronecklibrary.org/wp-content/uploads/2025/03/CHI-1.png
END:VEVENT
BEGIN:VEVENT
DTSTART;TZID=America/New_York:20250327T110000
DTEND;TZID=America/New_York:20250327T120000
DTSTAMP:20260420T015822
CREATED:20241216T173238Z
LAST-MODIFIED:20241216T173238Z
UID:10006646-1743073200-1743076800@www.mamaronecklibrary.org
SUMMARY:Gentle Yoga
DESCRIPTION:To Register\, please click here.
URL:https://www.mamaronecklibrary.org/events/gentle-yoga-4/2025-03-27/
CATEGORIES:Adult
ATTACH;FMTTYPE=image/png:https://www.mamaronecklibrary.org/wp-content/uploads/2024/12/Yoga.png
END:VEVENT
BEGIN:VEVENT
DTSTART;TZID=America/New_York:20250328T100000
DTEND;TZID=America/New_York:20250328T143000
DTSTAMP:20260420T015822
CREATED:20250103T185211Z
LAST-MODIFIED:20250113T152114Z
UID:10006709-1743156000-1743172200@www.mamaronecklibrary.org
SUMMARY:FREE Tax Preparation (AARP Tax Aide)
DESCRIPTION:
URL:https://www.mamaronecklibrary.org/events/free-tax-preparation-aarp-tax-aide/2025-03-28/
CATEGORIES:Adult
ATTACH;FMTTYPE=image/png:https://www.mamaronecklibrary.org/wp-content/uploads/2025/01/AARPTaxHelp-1.png
END:VEVENT
BEGIN:VEVENT
DTSTART;TZID=America/New_York:20250331T100000
DTEND;TZID=America/New_York:20250331T143000
DTSTAMP:20260420T015822
CREATED:20250103T185211Z
LAST-MODIFIED:20250113T152114Z
UID:10006710-1743415200-1743431400@www.mamaronecklibrary.org
SUMMARY:FREE Tax Preparation (AARP Tax Aide)
DESCRIPTION:
URL:https://www.mamaronecklibrary.org/events/free-tax-preparation-aarp-tax-aide/2025-03-31/
CATEGORIES:Adult
ATTACH;FMTTYPE=image/png:https://www.mamaronecklibrary.org/wp-content/uploads/2025/01/AARPTaxHelp-1.png
END:VEVENT
BEGIN:VEVENT
DTSTART;TZID=America/New_York:20250331T173000
DTEND;TZID=America/New_York:20250331T193000
DTSTAMP:20260420T015822
CREATED:20250310T132549Z
LAST-MODIFIED:20250310T132549Z
UID:10007611-1743442200-1743449400@www.mamaronecklibrary.org
SUMMARY:Speed Puzzling Practice
DESCRIPTION:To Register\, please click here.
URL:https://www.mamaronecklibrary.org/events/speed-puzzling-practice/
CATEGORIES:Adult
ATTACH;FMTTYPE=image/png:https://www.mamaronecklibrary.org/wp-content/uploads/2025/03/SPEED-PUZZLING.png
END:VEVENT
BEGIN:VEVENT
DTSTART;TZID=America/New_York:20250403T110000
DTEND;TZID=America/New_York:20250403T120000
DTSTAMP:20260420T015822
CREATED:20241216T173622Z
LAST-MODIFIED:20241216T173622Z
UID:10006647-1743678000-1743681600@www.mamaronecklibrary.org
SUMMARY:Gentle Yoga
DESCRIPTION:To Register\, please click here.
URL:https://www.mamaronecklibrary.org/events/gentle-yoga-5/2025-04-03/
CATEGORIES:Adult
ATTACH;FMTTYPE=image/png:https://www.mamaronecklibrary.org/wp-content/uploads/2024/12/Yoga.png
END:VEVENT
BEGIN:VEVENT
DTSTART;TZID=America/New_York:20250404T100000
DTEND;TZID=America/New_York:20250404T143000
DTSTAMP:20260420T015822
CREATED:20250103T185211Z
LAST-MODIFIED:20250113T152114Z
UID:10006711-1743760800-1743777000@www.mamaronecklibrary.org
SUMMARY:FREE Tax Preparation (AARP Tax Aide)
DESCRIPTION:
URL:https://www.mamaronecklibrary.org/events/free-tax-preparation-aarp-tax-aide/2025-04-04/
CATEGORIES:Adult
ATTACH;FMTTYPE=image/png:https://www.mamaronecklibrary.org/wp-content/uploads/2025/01/AARPTaxHelp-1.png
END:VEVENT
BEGIN:VEVENT
DTSTART;TZID=America/New_York:20250407T100000
DTEND;TZID=America/New_York:20250407T143000
DTSTAMP:20260420T015822
CREATED:20250103T185211Z
LAST-MODIFIED:20250113T152114Z
UID:10006712-1744020000-1744036200@www.mamaronecklibrary.org
SUMMARY:FREE Tax Preparation (AARP Tax Aide)
DESCRIPTION:
URL:https://www.mamaronecklibrary.org/events/free-tax-preparation-aarp-tax-aide/2025-04-07/
CATEGORIES:Adult
ATTACH;FMTTYPE=image/png:https://www.mamaronecklibrary.org/wp-content/uploads/2025/01/AARPTaxHelp-1.png
END:VEVENT
BEGIN:VEVENT
DTSTART;TZID=America/New_York:20250407T180000
DTEND;TZID=America/New_York:20250407T190000
DTSTAMP:20260420T015822
CREATED:20250121T192632Z
LAST-MODIFIED:20250319T141702Z
UID:10007228-1744048800-1744052400@www.mamaronecklibrary.org
SUMMARY:Trivia Night
DESCRIPTION:To Register\, please click here.
URL:https://www.mamaronecklibrary.org/events/trivia-night-2/
CATEGORIES:Adult
ATTACH;FMTTYPE=image/png:https://www.mamaronecklibrary.org/wp-content/uploads/2025/01/TriviaNight-1.png
END:VEVENT
BEGIN:VEVENT
DTSTART;TZID=America/New_York:20250408T140000
DTEND;TZID=America/New_York:20250408T153000
DTSTAMP:20260420T015822
CREATED:20241105T180642Z
LAST-MODIFIED:20241114T175251Z
UID:10006272-1744120800-1744126200@www.mamaronecklibrary.org
SUMMARY:Book Club 2025: Here There & Everywhere
DESCRIPTION:  \nTo register for in person\, please click here. \nTo register for Zoom\, please click here.
URL:https://www.mamaronecklibrary.org/events/book-club-2025-here-there-everywhere-4/
CATEGORIES:Adult
ATTACH;FMTTYPE=image/png:https://www.mamaronecklibrary.org/wp-content/uploads/2024/11/BOOKCLUB-2025.png
END:VEVENT
BEGIN:VEVENT
DTSTART;TZID=America/New_York:20250408T190000
DTEND;TZID=America/New_York:20250408T200000
DTSTAMP:20260420T015822
CREATED:20250210T180051Z
LAST-MODIFIED:20250210T180051Z
UID:10007322-1744138800-1744142400@www.mamaronecklibrary.org
SUMMARY:Ayurveda for the Muscular System (via Zoom)
DESCRIPTION:To Register\, please click here.
URL:https://www.mamaronecklibrary.org/events/ayurveda-for-the-muscular-system-via-zoom/
CATEGORIES:Adult
ATTACH;FMTTYPE=image/png:https://www.mamaronecklibrary.org/wp-content/uploads/2025/02/Ayurveda2025.png
END:VEVENT
BEGIN:VEVENT
DTSTART;TZID=America/New_York:20250409T190000
DTEND;TZID=America/New_York:20250409T200000
DTSTAMP:20260420T015822
CREATED:20241120T165756Z
LAST-MODIFIED:20241120T165756Z
UID:10006296-1744225200-1744228800@www.mamaronecklibrary.org
SUMMARY:Board Meeting
DESCRIPTION:
URL:https://www.mamaronecklibrary.org/events/board-meeting-2/2025-04-09/
CATEGORIES:Adult
ATTACH;FMTTYPE=image/png:https://www.mamaronecklibrary.org/wp-content/uploads/2024/11/board-1.png
END:VEVENT
BEGIN:VEVENT
DTSTART;TZID=America/New_York:20250410T110000
DTEND;TZID=America/New_York:20250410T120000
DTSTAMP:20260420T015822
CREATED:20241216T173622Z
LAST-MODIFIED:20241216T173622Z
UID:10006648-1744282800-1744286400@www.mamaronecklibrary.org
SUMMARY:Gentle Yoga
DESCRIPTION:To Register\, please click here.
URL:https://www.mamaronecklibrary.org/events/gentle-yoga-5/2025-04-10/
CATEGORIES:Adult
ATTACH;FMTTYPE=image/png:https://www.mamaronecklibrary.org/wp-content/uploads/2024/12/Yoga.png
END:VEVENT
BEGIN:VEVENT
DTSTART;TZID=America/New_York:20250411T100000
DTEND;TZID=America/New_York:20250411T143000
DTSTAMP:20260420T015822
CREATED:20250103T185211Z
LAST-MODIFIED:20250113T152114Z
UID:10006713-1744365600-1744381800@www.mamaronecklibrary.org
SUMMARY:FREE Tax Preparation (AARP Tax Aide)
DESCRIPTION:
URL:https://www.mamaronecklibrary.org/events/free-tax-preparation-aarp-tax-aide/2025-04-11/
CATEGORIES:Adult
ATTACH;FMTTYPE=image/png:https://www.mamaronecklibrary.org/wp-content/uploads/2025/01/AARPTaxHelp-1.png
END:VEVENT
BEGIN:VEVENT
DTSTART;TZID=America/New_York:20250414T100000
DTEND;TZID=America/New_York:20250414T143000
DTSTAMP:20260420T015822
CREATED:20250103T185211Z
LAST-MODIFIED:20250113T152114Z
UID:10006714-1744624800-1744641000@www.mamaronecklibrary.org
SUMMARY:FREE Tax Preparation (AARP Tax Aide)
DESCRIPTION:
URL:https://www.mamaronecklibrary.org/events/free-tax-preparation-aarp-tax-aide/2025-04-14/
CATEGORIES:Adult
ATTACH;FMTTYPE=image/png:https://www.mamaronecklibrary.org/wp-content/uploads/2025/01/AARPTaxHelp-1.png
END:VEVENT
BEGIN:VEVENT
DTSTART;TZID=America/New_York:20250416T113000
DTEND;TZID=America/New_York:20250416T123000
DTSTAMP:20260420T015822
CREATED:20250219T145921Z
LAST-MODIFIED:20250827T200358Z
UID:10007328-1744803000-1744806600@www.mamaronecklibrary.org
SUMMARY:Adult Coloring
DESCRIPTION:To Register\, please click here.
URL:https://www.mamaronecklibrary.org/events/adult-coloring-2/2025-04-16/
CATEGORIES:Adult
ATTACH;FMTTYPE=image/png:https://www.mamaronecklibrary.org/wp-content/uploads/2024/12/Coloring-1.png
END:VEVENT
BEGIN:VEVENT
DTSTART;TZID=America/New_York:20250416T130000
DTEND;TZID=America/New_York:20250416T140000
DTSTAMP:20260420T015822
CREATED:20241206T193446Z
LAST-MODIFIED:20250305T155000Z
UID:10006574-1744808400-1744812000@www.mamaronecklibrary.org
SUMMARY:Make Sense of Today's Financial Markets (via Zoom)
DESCRIPTION:  \nJanuary 15th @ 1PM: How to Make Sense of Today’s Financial Markets:  \nhttps://darienlibrary.zoom.us/webinar/register/WN_ZdNtxtDYTEaOtWbb52LCig#/registration \n  \nFebruary 12th @ 1PM: How to Make Sense of Today’s Financial Markets: \nhttps://darienlibrary.zoom.us/webinar/register/WN_DFmnuVA8T_2RqkdEdeMhpg#/registration \n  \nMarch 12th @ 1PM: How to Make Sense of Today’s Financial Markets:  \nhttps://darienlibrary.zoom.us/webinar/register/WN_vTeKAEmwTNWNYL2o2ONclw#/registration \n  \nApril 16th @ 1PM: How to Make Sense of Today’s Financial Markets: \nhttps://darienlibrary.zoom.us/webinar/register/WN_IctaaprxTTqM8orFmMMlsg#/registration \n  \nMay 14th @ 1PM: How to Make Sense of Today’s Financial Markets: \nhttps://darienlibrary.zoom.us/webinar/register/WN_puyKpFM5QwKygLPYxCCoLg#/registration \n  \nJune 11th @ 1PM: How to Make Sense of Today’s Financial Markets: \nhttps://darienlibrary.zoom.us/webinar/register/WN_xp3fFqtmTH-MwQ9aj0jtqw#/registration
URL:https://www.mamaronecklibrary.org/events/make-sense-of-todays-financial-markets/2025-04-16/
CATEGORIES:Adult
ATTACH;FMTTYPE=image/png:https://www.mamaronecklibrary.org/wp-content/uploads/2024/12/Women-Money-2025.png
END:VEVENT
BEGIN:VEVENT
DTSTART;TZID=America/New_York:20250416T183000
DTEND;TZID=America/New_York:20250416T193000
DTSTAMP:20260420T015822
CREATED:20250325T173537Z
LAST-MODIFIED:20250325T173537Z
UID:10007663-1744828200-1744831800@www.mamaronecklibrary.org
SUMMARY:Mindfulness Meditation Series (via Zoom)
DESCRIPTION:To Register\, please click here.
URL:https://www.mamaronecklibrary.org/events/mindfulness-meditation-series-via-zoom/2025-04-16/
CATEGORIES:Adult
ATTACH;FMTTYPE=image/png:https://www.mamaronecklibrary.org/wp-content/uploads/2025/03/Meditation-Series.png
END:VEVENT
END:VCALENDAR