BEGIN:VCALENDAR
VERSION:2.0
PRODID:-//Mamaroneck Public Library - ECPv6.15.12.2//NONSGML v1.0//EN
CALSCALE:GREGORIAN
METHOD:PUBLISH
X-ORIGINAL-URL:https://www.mamaronecklibrary.org
X-WR-CALDESC:Events for Mamaroneck Public Library
REFRESH-INTERVAL;VALUE=DURATION:PT1H
X-Robots-Tag:noindex
X-PUBLISHED-TTL:PT1H
BEGIN:VTIMEZONE
TZID:America/New_York
BEGIN:DAYLIGHT
TZOFFSETFROM:-0500
TZOFFSETTO:-0400
TZNAME:EDT
DTSTART:20240310T070000
END:DAYLIGHT
BEGIN:STANDARD
TZOFFSETFROM:-0400
TZOFFSETTO:-0500
TZNAME:EST
DTSTART:20241103T060000
END:STANDARD
BEGIN:DAYLIGHT
TZOFFSETFROM:-0500
TZOFFSETTO:-0400
TZNAME:EDT
DTSTART:20250309T070000
END:DAYLIGHT
BEGIN:STANDARD
TZOFFSETFROM:-0400
TZOFFSETTO:-0500
TZNAME:EST
DTSTART:20251102T060000
END:STANDARD
BEGIN:DAYLIGHT
TZOFFSETFROM:-0500
TZOFFSETTO:-0400
TZNAME:EDT
DTSTART:20260308T070000
END:DAYLIGHT
BEGIN:STANDARD
TZOFFSETFROM:-0400
TZOFFSETTO:-0500
TZNAME:EST
DTSTART:20261101T060000
END:STANDARD
END:VTIMEZONE
BEGIN:VEVENT
DTSTART;TZID=America/New_York:20250517T140000
DTEND;TZID=America/New_York:20250517T150000
DTSTAMP:20260423T045941
CREATED:20250423T125506Z
LAST-MODIFIED:20250423T125506Z
UID:10007698-1747490400-1747494000@www.mamaronecklibrary.org
SUMMARY:Indian Cooking Demonstration with Rinku
DESCRIPTION:To Register\, please click here.
URL:https://www.mamaronecklibrary.org/events/indian-cooking-demonstration-with-rinku/2025-05-17/
CATEGORIES:Adult
ATTACH;FMTTYPE=image/png:https://www.mamaronecklibrary.org/wp-content/uploads/2025/04/IndianCooking.png
END:VEVENT
BEGIN:VEVENT
DTSTART;TZID=America/New_York:20250520T190000
DTEND;TZID=America/New_York:20250520T200000
DTSTAMP:20260423T045941
CREATED:20250326T141759Z
LAST-MODIFIED:20250513T183054Z
UID:10007666-1747767600-1747771200@www.mamaronecklibrary.org
SUMMARY:Ayurveda for the Skeletal System (via Zoom)
DESCRIPTION:To Register\, please click here.
URL:https://www.mamaronecklibrary.org/events/ayurveda-for-the-skeletal-system-via-zoom/
CATEGORIES:Adult
ATTACH;FMTTYPE=image/png:https://www.mamaronecklibrary.org/wp-content/uploads/2025/03/AyurvedaMay20.png
END:VEVENT
BEGIN:VEVENT
DTSTART;TZID=America/New_York:20250521T113000
DTEND;TZID=America/New_York:20250521T123000
DTSTAMP:20260423T045941
CREATED:20250219T145921Z
LAST-MODIFIED:20250827T200358Z
UID:10007329-1747827000-1747830600@www.mamaronecklibrary.org
SUMMARY:Adult Coloring
DESCRIPTION:To Register\, please click here.
URL:https://www.mamaronecklibrary.org/events/adult-coloring-2/2025-05-21/
CATEGORIES:Adult
ATTACH;FMTTYPE=image/png:https://www.mamaronecklibrary.org/wp-content/uploads/2024/12/Coloring-1.png
END:VEVENT
BEGIN:VEVENT
DTSTART;TZID=America/New_York:20250521T183000
DTEND;TZID=America/New_York:20250521T193000
DTSTAMP:20260423T045941
CREATED:20250428T162406Z
LAST-MODIFIED:20250428T162406Z
UID:10007705-1747852200-1747855800@www.mamaronecklibrary.org
SUMMARY:Soul Line Dancing with Steve Dillard
DESCRIPTION:To Register\, please click here.
URL:https://www.mamaronecklibrary.org/events/soul-line-dancing-with-steve-dillard/
CATEGORIES:Adult
ATTACH;FMTTYPE=image/png:https://www.mamaronecklibrary.org/wp-content/uploads/2025/04/LineDancing.png
END:VEVENT
BEGIN:VEVENT
DTSTART;TZID=America/New_York:20250522T110000
DTEND;TZID=America/New_York:20250522T120000
DTSTAMP:20260423T045941
CREATED:20241216T173929Z
LAST-MODIFIED:20241216T173929Z
UID:10006654-1747911600-1747915200@www.mamaronecklibrary.org
SUMMARY:Gentle Yoga
DESCRIPTION:To Register\, please click here.
URL:https://www.mamaronecklibrary.org/events/gentle-yoga-6/2025-05-22/
CATEGORIES:Adult
ATTACH;FMTTYPE=image/png:https://www.mamaronecklibrary.org/wp-content/uploads/2024/12/Yoga.png
END:VEVENT
BEGIN:VEVENT
DTSTART;TZID=America/New_York:20250524T140000
DTEND;TZID=America/New_York:20250524T150000
DTSTAMP:20260423T045941
CREATED:20250423T125506Z
LAST-MODIFIED:20250423T125506Z
UID:10007699-1748095200-1748098800@www.mamaronecklibrary.org
SUMMARY:Indian Cooking Demonstration with Rinku
DESCRIPTION:To Register\, please click here.
URL:https://www.mamaronecklibrary.org/events/indian-cooking-demonstration-with-rinku/2025-05-24/
CATEGORIES:Adult
ATTACH;FMTTYPE=image/png:https://www.mamaronecklibrary.org/wp-content/uploads/2025/04/IndianCooking.png
END:VEVENT
BEGIN:VEVENT
DTSTART;TZID=America/New_York:20250527T110000
DTEND;TZID=America/New_York:20250527T120000
DTSTAMP:20260423T045941
CREATED:20250501T120737Z
LAST-MODIFIED:20250501T120737Z
UID:10007707-1748343600-1748347200@www.mamaronecklibrary.org
SUMMARY:Fattoush Cooking Class (via Zoom)
DESCRIPTION:To Register\, please click here. \nFor Recipes\, please click here.
URL:https://www.mamaronecklibrary.org/events/fattoush-cooking-class-via-zoom/
CATEGORIES:Adult
ATTACH;FMTTYPE=image/png:https://www.mamaronecklibrary.org/wp-content/uploads/2025/05/Fattoush.png
END:VEVENT
BEGIN:VEVENT
DTSTART;TZID=America/New_York:20250528T180000
DTEND;TZID=America/New_York:20250528T190000
DTSTAMP:20260423T045941
CREATED:20250408T120932Z
LAST-MODIFIED:20250408T120932Z
UID:10007687-1748455200-1748458800@www.mamaronecklibrary.org
SUMMARY:Zero-Proof Mixology 101
DESCRIPTION:To Register\, please click here.
URL:https://www.mamaronecklibrary.org/events/zero-proof-mixology-101/
CATEGORIES:Adult
ATTACH;FMTTYPE=image/png:https://www.mamaronecklibrary.org/wp-content/uploads/2025/04/Mocktails.png
END:VEVENT
BEGIN:VEVENT
DTSTART;TZID=America/New_York:20250529T110000
DTEND;TZID=America/New_York:20250529T120000
DTSTAMP:20260423T045941
CREATED:20241216T173929Z
LAST-MODIFIED:20241216T173929Z
UID:10006655-1748516400-1748520000@www.mamaronecklibrary.org
SUMMARY:Gentle Yoga
DESCRIPTION:To Register\, please click here.
URL:https://www.mamaronecklibrary.org/events/gentle-yoga-6/2025-05-29/
CATEGORIES:Adult
ATTACH;FMTTYPE=image/png:https://www.mamaronecklibrary.org/wp-content/uploads/2024/12/Yoga.png
END:VEVENT
BEGIN:VEVENT
DTSTART;TZID=America/New_York:20250602T183000
DTEND;TZID=America/New_York:20250602T193000
DTSTAMP:20260423T045941
CREATED:20250304T132811Z
LAST-MODIFIED:20250304T184457Z
UID:10007350-1748889000-1748892600@www.mamaronecklibrary.org
SUMMARY:Beginner Ukulele Class
DESCRIPTION:To Register\, please click here
URL:https://www.mamaronecklibrary.org/events/beginner-ukulele-class/2025-06-02/
CATEGORIES:Adult
ATTACH;FMTTYPE=image/png:https://www.mamaronecklibrary.org/wp-content/uploads/2025/03/Ukulele-1.png
END:VEVENT
BEGIN:VEVENT
DTSTART;TZID=America/New_York:20250603T090000
DTEND;TZID=America/New_York:20250603T133000
DTSTAMP:20260423T045941
CREATED:20250513T133231Z
LAST-MODIFIED:20250513T133231Z
UID:10007937-1748941200-1748957400@www.mamaronecklibrary.org
SUMMARY:Mexican Consulate
DESCRIPTION:
URL:https://www.mamaronecklibrary.org/events/mexican-consulate-4/2025-06-03/
CATEGORIES:Adult
ATTACH;FMTTYPE=image/png:https://www.mamaronecklibrary.org/wp-content/uploads/2025/05/Mexican-Consulate.png
END:VEVENT
BEGIN:VEVENT
DTSTART;TZID=America/New_York:20250604T090000
DTEND;TZID=America/New_York:20250604T133000
DTSTAMP:20260423T045941
CREATED:20250513T133231Z
LAST-MODIFIED:20250513T133231Z
UID:10007938-1749027600-1749043800@www.mamaronecklibrary.org
SUMMARY:Mexican Consulate
DESCRIPTION:
URL:https://www.mamaronecklibrary.org/events/mexican-consulate-4/2025-06-04/
CATEGORIES:Adult
ATTACH;FMTTYPE=image/png:https://www.mamaronecklibrary.org/wp-content/uploads/2025/05/Mexican-Consulate.png
END:VEVENT
BEGIN:VEVENT
DTSTART;TZID=America/New_York:20250605T090000
DTEND;TZID=America/New_York:20250605T133000
DTSTAMP:20260423T045941
CREATED:20250513T133231Z
LAST-MODIFIED:20250513T133231Z
UID:10007939-1749114000-1749130200@www.mamaronecklibrary.org
SUMMARY:Mexican Consulate
DESCRIPTION:
URL:https://www.mamaronecklibrary.org/events/mexican-consulate-4/2025-06-05/
CATEGORIES:Adult
ATTACH;FMTTYPE=image/png:https://www.mamaronecklibrary.org/wp-content/uploads/2025/05/Mexican-Consulate.png
END:VEVENT
BEGIN:VEVENT
DTSTART;TZID=America/New_York:20250606T090000
DTEND;TZID=America/New_York:20250606T133000
DTSTAMP:20260423T045941
CREATED:20250513T133231Z
LAST-MODIFIED:20250513T133231Z
UID:10007940-1749200400-1749216600@www.mamaronecklibrary.org
SUMMARY:Mexican Consulate
DESCRIPTION:
URL:https://www.mamaronecklibrary.org/events/mexican-consulate-4/2025-06-06/
CATEGORIES:Adult
ATTACH;FMTTYPE=image/png:https://www.mamaronecklibrary.org/wp-content/uploads/2025/05/Mexican-Consulate.png
END:VEVENT
BEGIN:VEVENT
DTSTART;TZID=America/New_York:20250607T090000
DTEND;TZID=America/New_York:20250607T133000
DTSTAMP:20260423T045941
CREATED:20250513T133231Z
LAST-MODIFIED:20250513T133231Z
UID:10007941-1749286800-1749303000@www.mamaronecklibrary.org
SUMMARY:Mexican Consulate
DESCRIPTION:
URL:https://www.mamaronecklibrary.org/events/mexican-consulate-4/2025-06-07/
CATEGORIES:Adult
ATTACH;FMTTYPE=image/png:https://www.mamaronecklibrary.org/wp-content/uploads/2025/05/Mexican-Consulate.png
END:VEVENT
BEGIN:VEVENT
DTSTART;TZID=America/New_York:20250609T183000
DTEND;TZID=America/New_York:20250609T193000
DTSTAMP:20260423T045941
CREATED:20250304T132811Z
LAST-MODIFIED:20250304T184457Z
UID:10007351-1749493800-1749497400@www.mamaronecklibrary.org
SUMMARY:Beginner Ukulele Class
DESCRIPTION:To Register\, please click here
URL:https://www.mamaronecklibrary.org/events/beginner-ukulele-class/2025-06-09/
CATEGORIES:Adult
ATTACH;FMTTYPE=image/png:https://www.mamaronecklibrary.org/wp-content/uploads/2025/03/Ukulele-1.png
END:VEVENT
BEGIN:VEVENT
DTSTART;TZID=America/New_York:20250610T103000
DTEND;TZID=America/New_York:20250610T113000
DTSTAMP:20260423T045941
CREATED:20250605T170646Z
LAST-MODIFIED:20250605T170647Z
UID:10008012-1749551400-1749555000@www.mamaronecklibrary.org
SUMMARY:Walk Your Way to Better Health
DESCRIPTION:To Register for dates in June\, please click here.
URL:https://www.mamaronecklibrary.org/events/walk-your-way-to-better-health-2/2025-06-10/
CATEGORIES:Adult
ATTACH;FMTTYPE=image/png:https://www.mamaronecklibrary.org/wp-content/uploads/2025/06/Walking.png
END:VEVENT
BEGIN:VEVENT
DTSTART;TZID=America/New_York:20250610T140000
DTEND;TZID=America/New_York:20250610T153000
DTSTAMP:20260423T045941
CREATED:20241105T180859Z
LAST-MODIFIED:20241114T175138Z
UID:10006274-1749564000-1749569400@www.mamaronecklibrary.org
SUMMARY:Book Club 2025: Here There & Everywhere
DESCRIPTION:  \nTo register for in person\, please click here. \nTo register for Zoom\, please click here.
URL:https://www.mamaronecklibrary.org/events/book-club-2025-here-there-everywhere-6/
CATEGORIES:Adult
ATTACH;FMTTYPE=image/png:https://www.mamaronecklibrary.org/wp-content/uploads/2024/11/BOOKCLUB-2025.png
END:VEVENT
BEGIN:VEVENT
DTSTART;TZID=America/New_York:20250611T130000
DTEND;TZID=America/New_York:20250611T140000
DTSTAMP:20260423T045941
CREATED:20241206T193446Z
LAST-MODIFIED:20250305T155000Z
UID:10006576-1749646800-1749650400@www.mamaronecklibrary.org
SUMMARY:Make Sense of Today's Financial Markets (via Zoom)
DESCRIPTION:  \nJanuary 15th @ 1PM: How to Make Sense of Today’s Financial Markets:  \nhttps://darienlibrary.zoom.us/webinar/register/WN_ZdNtxtDYTEaOtWbb52LCig#/registration \n  \nFebruary 12th @ 1PM: How to Make Sense of Today’s Financial Markets: \nhttps://darienlibrary.zoom.us/webinar/register/WN_DFmnuVA8T_2RqkdEdeMhpg#/registration \n  \nMarch 12th @ 1PM: How to Make Sense of Today’s Financial Markets:  \nhttps://darienlibrary.zoom.us/webinar/register/WN_vTeKAEmwTNWNYL2o2ONclw#/registration \n  \nApril 16th @ 1PM: How to Make Sense of Today’s Financial Markets: \nhttps://darienlibrary.zoom.us/webinar/register/WN_IctaaprxTTqM8orFmMMlsg#/registration \n  \nMay 14th @ 1PM: How to Make Sense of Today’s Financial Markets: \nhttps://darienlibrary.zoom.us/webinar/register/WN_puyKpFM5QwKygLPYxCCoLg#/registration \n  \nJune 11th @ 1PM: How to Make Sense of Today’s Financial Markets: \nhttps://darienlibrary.zoom.us/webinar/register/WN_xp3fFqtmTH-MwQ9aj0jtqw#/registration
URL:https://www.mamaronecklibrary.org/events/make-sense-of-todays-financial-markets/2025-06-11/
CATEGORIES:Adult
ATTACH;FMTTYPE=image/png:https://www.mamaronecklibrary.org/wp-content/uploads/2024/12/Women-Money-2025.png
END:VEVENT
BEGIN:VEVENT
DTSTART;TZID=America/New_York:20250611T190000
DTEND;TZID=America/New_York:20250611T200000
DTSTAMP:20260423T045941
CREATED:20241120T165756Z
LAST-MODIFIED:20241120T165756Z
UID:10006298-1749668400-1749672000@www.mamaronecklibrary.org
SUMMARY:Board Meeting
DESCRIPTION:
URL:https://www.mamaronecklibrary.org/events/board-meeting-2/2025-06-11/
CATEGORIES:Adult
ATTACH;FMTTYPE=image/png:https://www.mamaronecklibrary.org/wp-content/uploads/2024/11/board-1.png
END:VEVENT
BEGIN:VEVENT
DTSTART;TZID=America/New_York:20250612T110000
DTEND;TZID=America/New_York:20250612T120000
DTSTAMP:20260423T045941
CREATED:20241216T174605Z
LAST-MODIFIED:20250605T003711Z
UID:10006657-1749726000-1749729600@www.mamaronecklibrary.org
SUMMARY:Gentle Yoga
DESCRIPTION:To Register\, please click here.
URL:https://www.mamaronecklibrary.org/events/gentle-yoga-7/2025-06-12/
CATEGORIES:Adult
ATTACH;FMTTYPE=image/png:https://www.mamaronecklibrary.org/wp-content/uploads/2024/12/Yoga.png
END:VEVENT
BEGIN:VEVENT
DTSTART;TZID=America/New_York:20250613T110000
DTEND;TZID=America/New_York:20250613T130000
DTSTAMP:20260423T045941
CREATED:20250527T181200Z
LAST-MODIFIED:20250527T181201Z
UID:10008003-1749812400-1749819600@www.mamaronecklibrary.org
SUMMARY:New Movie Matinee: Bridget Jones: Mad About the Boy
DESCRIPTION:
URL:https://www.mamaronecklibrary.org/events/new-movie-matinee-bridget-jones-mad-about-the-boy/
CATEGORIES:Adult
ATTACH;FMTTYPE=image/png:https://www.mamaronecklibrary.org/wp-content/uploads/2025/05/NEW-MOVIE-MATINEE.png
END:VEVENT
BEGIN:VEVENT
DTSTART;TZID=America/New_York:20250613T153000
DTEND;TZID=America/New_York:20250613T170000
DTSTAMP:20260423T045941
CREATED:20241114T173725Z
LAST-MODIFIED:20241114T174624Z
UID:10006289-1749828600-1749834000@www.mamaronecklibrary.org
SUMMARY:Poetry Workshop with Liz O'Rourke
DESCRIPTION:To Register\, please click here.
URL:https://www.mamaronecklibrary.org/events/poetry-workshop-with-liz-orourke/2025-06-13/
CATEGORIES:Adult
ATTACH;FMTTYPE=image/png:https://www.mamaronecklibrary.org/wp-content/uploads/2024/11/Poetry.png
END:VEVENT
BEGIN:VEVENT
DTSTART;TZID=America/New_York:20250614T140000
DTEND;TZID=America/New_York:20250614T150000
DTSTAMP:20260423T045941
CREATED:20250514T175113Z
LAST-MODIFIED:20250514T175113Z
UID:10007943-1749909600-1749913200@www.mamaronecklibrary.org
SUMMARY:Ranger Talk from Stonewall National Monument (via Zoom)
DESCRIPTION:To Register\, please click here.
URL:https://www.mamaronecklibrary.org/events/ranger-talk-from-stonewall-national-monument-via-zoom/
CATEGORIES:Adult
ATTACH;FMTTYPE=image/png:https://www.mamaronecklibrary.org/wp-content/uploads/2025/05/Stonewall-1.png
END:VEVENT
BEGIN:VEVENT
DTSTART;TZID=America/New_York:20250616T110000
DTEND;TZID=America/New_York:20250616T120000
DTSTAMP:20260423T045941
CREATED:20250415T122837Z
LAST-MODIFIED:20250415T122837Z
UID:10007691-1750071600-1750075200@www.mamaronecklibrary.org
SUMMARY:Painting the Landscape: Watercolor Series with MaryEllen McEvily
DESCRIPTION:To Register\, please click here.
URL:https://www.mamaronecklibrary.org/events/painting-the-landscape-watercolor-series-with-maryellen-mcevily/2025-06-16/
CATEGORIES:Adult
ATTACH;FMTTYPE=image/png:https://www.mamaronecklibrary.org/wp-content/uploads/2025/04/SpringWatercolor.png
END:VEVENT
BEGIN:VEVENT
DTSTART;TZID=America/New_York:20250616T183000
DTEND;TZID=America/New_York:20250616T193000
DTSTAMP:20260423T045941
CREATED:20250304T132811Z
LAST-MODIFIED:20250304T184457Z
UID:10007352-1750098600-1750102200@www.mamaronecklibrary.org
SUMMARY:Beginner Ukulele Class
DESCRIPTION:To Register\, please click here
URL:https://www.mamaronecklibrary.org/events/beginner-ukulele-class/2025-06-16/
CATEGORIES:Adult
ATTACH;FMTTYPE=image/png:https://www.mamaronecklibrary.org/wp-content/uploads/2025/03/Ukulele-1.png
END:VEVENT
BEGIN:VEVENT
DTSTART;TZID=America/New_York:20250617T103000
DTEND;TZID=America/New_York:20250617T113000
DTSTAMP:20260423T045941
CREATED:20250605T170646Z
LAST-MODIFIED:20250605T170647Z
UID:10008013-1750156200-1750159800@www.mamaronecklibrary.org
SUMMARY:Walk Your Way to Better Health
DESCRIPTION:To Register for dates in June\, please click here.
URL:https://www.mamaronecklibrary.org/events/walk-your-way-to-better-health-2/2025-06-17/
CATEGORIES:Adult
ATTACH;FMTTYPE=image/png:https://www.mamaronecklibrary.org/wp-content/uploads/2025/06/Walking.png
END:VEVENT
BEGIN:VEVENT
DTSTART;TZID=America/New_York:20250617T190000
DTEND;TZID=America/New_York:20250617T200000
DTSTAMP:20260423T045941
CREATED:20250507T125942Z
LAST-MODIFIED:20250507T125942Z
UID:10007710-1750186800-1750190400@www.mamaronecklibrary.org
SUMMARY:Ayurveda for the Reproductive System (via Zoom)
DESCRIPTION:To Register\, please click here.
URL:https://www.mamaronecklibrary.org/events/ayurveda-for-the-reproductive-system-via-zoom/
CATEGORIES:Adult
ATTACH;FMTTYPE=image/png:https://www.mamaronecklibrary.org/wp-content/uploads/2025/05/AyurvedaJune.png
END:VEVENT
BEGIN:VEVENT
DTSTART;TZID=America/New_York:20250618T113000
DTEND;TZID=America/New_York:20250618T123000
DTSTAMP:20260423T045941
CREATED:20250219T145921Z
LAST-MODIFIED:20250827T200358Z
UID:10007330-1750246200-1750249800@www.mamaronecklibrary.org
SUMMARY:Adult Coloring
DESCRIPTION:To Register\, please click here.
URL:https://www.mamaronecklibrary.org/events/adult-coloring-2/2025-06-18/
CATEGORIES:Adult
ATTACH;FMTTYPE=image/png:https://www.mamaronecklibrary.org/wp-content/uploads/2024/12/Coloring-1.png
END:VEVENT
BEGIN:VEVENT
DTSTART;TZID=America/New_York:20250618T180000
DTEND;TZID=America/New_York:20250618T190000
DTSTAMP:20260423T045941
CREATED:20250403T121412Z
LAST-MODIFIED:20250403T121412Z
UID:10007673-1750269600-1750273200@www.mamaronecklibrary.org
SUMMARY:Bling's the Thing: Earring Workshop
DESCRIPTION:To Register\, please click here.
URL:https://www.mamaronecklibrary.org/events/blings-the-thing-earring-workshop-2/
CATEGORIES:Adult
ATTACH;FMTTYPE=image/png:https://www.mamaronecklibrary.org/wp-content/uploads/2025/04/Bling.png
END:VEVENT
END:VCALENDAR