BEGIN:VCALENDAR
VERSION:2.0
PRODID:-//Mamaroneck Public Library - ECPv6.15.12.2//NONSGML v1.0//EN
CALSCALE:GREGORIAN
METHOD:PUBLISH
X-ORIGINAL-URL:https://www.mamaronecklibrary.org
X-WR-CALDESC:Events for Mamaroneck Public Library
REFRESH-INTERVAL;VALUE=DURATION:PT1H
X-Robots-Tag:noindex
X-PUBLISHED-TTL:PT1H
BEGIN:VTIMEZONE
TZID:America/New_York
BEGIN:DAYLIGHT
TZOFFSETFROM:-0500
TZOFFSETTO:-0400
TZNAME:EDT
DTSTART:20240310T070000
END:DAYLIGHT
BEGIN:STANDARD
TZOFFSETFROM:-0400
TZOFFSETTO:-0500
TZNAME:EST
DTSTART:20241103T060000
END:STANDARD
BEGIN:DAYLIGHT
TZOFFSETFROM:-0500
TZOFFSETTO:-0400
TZNAME:EDT
DTSTART:20250309T070000
END:DAYLIGHT
BEGIN:STANDARD
TZOFFSETFROM:-0400
TZOFFSETTO:-0500
TZNAME:EST
DTSTART:20251102T060000
END:STANDARD
BEGIN:DAYLIGHT
TZOFFSETFROM:-0500
TZOFFSETTO:-0400
TZNAME:EDT
DTSTART:20260308T070000
END:DAYLIGHT
BEGIN:STANDARD
TZOFFSETFROM:-0400
TZOFFSETTO:-0500
TZNAME:EST
DTSTART:20261101T060000
END:STANDARD
END:VTIMEZONE
BEGIN:VEVENT
DTSTART;TZID=America/New_York:20250616T110000
DTEND;TZID=America/New_York:20250616T120000
DTSTAMP:20260423T101310
CREATED:20250415T122837Z
LAST-MODIFIED:20250415T122837Z
UID:10007691-1750071600-1750075200@www.mamaronecklibrary.org
SUMMARY:Painting the Landscape: Watercolor Series with MaryEllen McEvily
DESCRIPTION:To Register\, please click here.
URL:https://www.mamaronecklibrary.org/events/painting-the-landscape-watercolor-series-with-maryellen-mcevily/2025-06-16/
CATEGORIES:Adult
ATTACH;FMTTYPE=image/png:https://www.mamaronecklibrary.org/wp-content/uploads/2025/04/SpringWatercolor.png
END:VEVENT
BEGIN:VEVENT
DTSTART;TZID=America/New_York:20250616T183000
DTEND;TZID=America/New_York:20250616T193000
DTSTAMP:20260423T101310
CREATED:20250304T132811Z
LAST-MODIFIED:20250304T184457Z
UID:10007352-1750098600-1750102200@www.mamaronecklibrary.org
SUMMARY:Beginner Ukulele Class
DESCRIPTION:To Register\, please click here
URL:https://www.mamaronecklibrary.org/events/beginner-ukulele-class/2025-06-16/
CATEGORIES:Adult
ATTACH;FMTTYPE=image/png:https://www.mamaronecklibrary.org/wp-content/uploads/2025/03/Ukulele-1.png
END:VEVENT
BEGIN:VEVENT
DTSTART;TZID=America/New_York:20250617T103000
DTEND;TZID=America/New_York:20250617T113000
DTSTAMP:20260423T101310
CREATED:20250605T170646Z
LAST-MODIFIED:20250605T170647Z
UID:10008013-1750156200-1750159800@www.mamaronecklibrary.org
SUMMARY:Walk Your Way to Better Health
DESCRIPTION:To Register for dates in June\, please click here.
URL:https://www.mamaronecklibrary.org/events/walk-your-way-to-better-health-2/2025-06-17/
CATEGORIES:Adult
ATTACH;FMTTYPE=image/png:https://www.mamaronecklibrary.org/wp-content/uploads/2025/06/Walking.png
END:VEVENT
BEGIN:VEVENT
DTSTART;TZID=America/New_York:20250617T190000
DTEND;TZID=America/New_York:20250617T200000
DTSTAMP:20260423T101310
CREATED:20250507T125942Z
LAST-MODIFIED:20250507T125942Z
UID:10007710-1750186800-1750190400@www.mamaronecklibrary.org
SUMMARY:Ayurveda for the Reproductive System (via Zoom)
DESCRIPTION:To Register\, please click here.
URL:https://www.mamaronecklibrary.org/events/ayurveda-for-the-reproductive-system-via-zoom/
CATEGORIES:Adult
ATTACH;FMTTYPE=image/png:https://www.mamaronecklibrary.org/wp-content/uploads/2025/05/AyurvedaJune.png
END:VEVENT
BEGIN:VEVENT
DTSTART;TZID=America/New_York:20250618T113000
DTEND;TZID=America/New_York:20250618T123000
DTSTAMP:20260423T101310
CREATED:20250219T145921Z
LAST-MODIFIED:20250827T200358Z
UID:10007330-1750246200-1750249800@www.mamaronecklibrary.org
SUMMARY:Adult Coloring
DESCRIPTION:To Register\, please click here.
URL:https://www.mamaronecklibrary.org/events/adult-coloring-2/2025-06-18/
CATEGORIES:Adult
ATTACH;FMTTYPE=image/png:https://www.mamaronecklibrary.org/wp-content/uploads/2024/12/Coloring-1.png
END:VEVENT
BEGIN:VEVENT
DTSTART;TZID=America/New_York:20250618T180000
DTEND;TZID=America/New_York:20250618T190000
DTSTAMP:20260423T101310
CREATED:20250403T121412Z
LAST-MODIFIED:20250403T121412Z
UID:10007673-1750269600-1750273200@www.mamaronecklibrary.org
SUMMARY:Bling's the Thing: Earring Workshop
DESCRIPTION:To Register\, please click here.
URL:https://www.mamaronecklibrary.org/events/blings-the-thing-earring-workshop-2/
CATEGORIES:Adult
ATTACH;FMTTYPE=image/png:https://www.mamaronecklibrary.org/wp-content/uploads/2025/04/Bling.png
END:VEVENT
BEGIN:VEVENT
DTSTART;TZID=America/New_York:20250623T110000
DTEND;TZID=America/New_York:20250623T120000
DTSTAMP:20260423T101310
CREATED:20250415T122837Z
LAST-MODIFIED:20250415T122837Z
UID:10007692-1750676400-1750680000@www.mamaronecklibrary.org
SUMMARY:Painting the Landscape: Watercolor Series with MaryEllen McEvily
DESCRIPTION:To Register\, please click here.
URL:https://www.mamaronecklibrary.org/events/painting-the-landscape-watercolor-series-with-maryellen-mcevily/2025-06-23/
CATEGORIES:Adult
ATTACH;FMTTYPE=image/png:https://www.mamaronecklibrary.org/wp-content/uploads/2025/04/SpringWatercolor.png
END:VEVENT
BEGIN:VEVENT
DTSTART;TZID=America/New_York:20250623T180000
DTEND;TZID=America/New_York:20250623T190000
DTSTAMP:20260423T101310
CREATED:20250613T155158Z
LAST-MODIFIED:20250613T155158Z
UID:10008055-1750701600-1750705200@www.mamaronecklibrary.org
SUMMARY:Westchester Power Information Sesssion
DESCRIPTION:
URL:https://www.mamaronecklibrary.org/events/westchester-power-information-sesssion/
CATEGORIES:Adult
ATTACH;FMTTYPE=image/png:https://www.mamaronecklibrary.org/wp-content/uploads/2025/06/Sustainable.png
END:VEVENT
BEGIN:VEVENT
DTSTART;TZID=America/New_York:20250624T103000
DTEND;TZID=America/New_York:20250624T113000
DTSTAMP:20260423T101310
CREATED:20250605T170646Z
LAST-MODIFIED:20250605T170647Z
UID:10008014-1750761000-1750764600@www.mamaronecklibrary.org
SUMMARY:Walk Your Way to Better Health
DESCRIPTION:To Register for dates in June\, please click here.
URL:https://www.mamaronecklibrary.org/events/walk-your-way-to-better-health-2/2025-06-24/
CATEGORIES:Adult
ATTACH;FMTTYPE=image/png:https://www.mamaronecklibrary.org/wp-content/uploads/2025/06/Walking.png
END:VEVENT
BEGIN:VEVENT
DTSTART;TZID=America/New_York:20250625T120000
DTEND;TZID=America/New_York:20250625T130000
DTSTAMP:20260423T101310
CREATED:20250605T124902Z
LAST-MODIFIED:20250605T124902Z
UID:10008010-1750852800-1750856400@www.mamaronecklibrary.org
SUMMARY:Senior Scams
DESCRIPTION:To Register\, please click here.
URL:https://www.mamaronecklibrary.org/events/senior-scams/
CATEGORIES:Adult
ATTACH;FMTTYPE=image/png:https://www.mamaronecklibrary.org/wp-content/uploads/2025/06/SeniorScams.png
END:VEVENT
BEGIN:VEVENT
DTSTART;TZID=America/New_York:20250626T110000
DTEND;TZID=America/New_York:20250626T120000
DTSTAMP:20260423T101310
CREATED:20241216T174605Z
LAST-MODIFIED:20250605T003711Z
UID:10006658-1750935600-1750939200@www.mamaronecklibrary.org
SUMMARY:Gentle Yoga
DESCRIPTION:To Register\, please click here.
URL:https://www.mamaronecklibrary.org/events/gentle-yoga-7/2025-06-26/
CATEGORIES:Adult
ATTACH;FMTTYPE=image/png:https://www.mamaronecklibrary.org/wp-content/uploads/2024/12/Yoga.png
END:VEVENT
BEGIN:VEVENT
DTSTART;TZID=America/New_York:20250630T110000
DTEND;TZID=America/New_York:20250630T120000
DTSTAMP:20260423T101310
CREATED:20250415T122837Z
LAST-MODIFIED:20250415T122837Z
UID:10007693-1751281200-1751284800@www.mamaronecklibrary.org
SUMMARY:Painting the Landscape: Watercolor Series with MaryEllen McEvily
DESCRIPTION:To Register\, please click here.
URL:https://www.mamaronecklibrary.org/events/painting-the-landscape-watercolor-series-with-maryellen-mcevily/2025-06-30/
CATEGORIES:Adult
ATTACH;FMTTYPE=image/png:https://www.mamaronecklibrary.org/wp-content/uploads/2025/04/SpringWatercolor.png
END:VEVENT
BEGIN:VEVENT
DTSTART;TZID=America/New_York:20250701T103000
DTEND;TZID=America/New_York:20250701T113000
DTSTAMP:20260423T101310
CREATED:20250605T170759Z
LAST-MODIFIED:20250605T170918Z
UID:10008018-1751365800-1751369400@www.mamaronecklibrary.org
SUMMARY:Walk Your Way to Better Health
DESCRIPTION:To Register for dates in July\, please click here.
URL:https://www.mamaronecklibrary.org/events/walk-your-way-to-better-health-3/2025-07-01/
CATEGORIES:Adult
ATTACH;FMTTYPE=image/png:https://www.mamaronecklibrary.org/wp-content/uploads/2025/06/Walking.png
END:VEVENT
BEGIN:VEVENT
DTSTART;TZID=America/New_York:20250702T110000
DTEND;TZID=America/New_York:20250702T130000
DTSTAMP:20260423T101310
CREATED:20250611T131332Z
LAST-MODIFIED:20250611T131332Z
UID:10008050-1751454000-1751461200@www.mamaronecklibrary.org
SUMMARY:JAWS 50th Anniversary Matinee
DESCRIPTION:
URL:https://www.mamaronecklibrary.org/events/jaws-50th-anniversary-matinee/
CATEGORIES:Adult
ATTACH;FMTTYPE=image/png:https://www.mamaronecklibrary.org/wp-content/uploads/2025/06/Jaws50.png
END:VEVENT
BEGIN:VEVENT
DTSTART;TZID=America/New_York:20250703T110000
DTEND;TZID=America/New_York:20250703T120000
DTSTAMP:20260423T101310
CREATED:20241216T174908Z
LAST-MODIFIED:20241216T174908Z
UID:10006659-1751540400-1751544000@www.mamaronecklibrary.org
SUMMARY:Gentle Yoga
DESCRIPTION:To Register\, please click here.
URL:https://www.mamaronecklibrary.org/events/gentle-yoga-8/2025-07-03/
CATEGORIES:Adult
ATTACH;FMTTYPE=image/png:https://www.mamaronecklibrary.org/wp-content/uploads/2024/12/Yoga.png
END:VEVENT
BEGIN:VEVENT
DTSTART;TZID=America/New_York:20250708T103000
DTEND;TZID=America/New_York:20250708T113000
DTSTAMP:20260423T101310
CREATED:20250605T170759Z
LAST-MODIFIED:20250605T170918Z
UID:10008019-1751970600-1751974200@www.mamaronecklibrary.org
SUMMARY:Walk Your Way to Better Health
DESCRIPTION:To Register for dates in July\, please click here.
URL:https://www.mamaronecklibrary.org/events/walk-your-way-to-better-health-3/2025-07-08/
CATEGORIES:Adult
ATTACH;FMTTYPE=image/png:https://www.mamaronecklibrary.org/wp-content/uploads/2025/06/Walking.png
END:VEVENT
BEGIN:VEVENT
DTSTART;TZID=America/New_York:20250708T140000
DTEND;TZID=America/New_York:20250708T153000
DTSTAMP:20260423T101310
CREATED:20241105T180945Z
LAST-MODIFIED:20241114T175102Z
UID:10006275-1751983200-1751988600@www.mamaronecklibrary.org
SUMMARY:Book Club 2025: Here There & Everywhere
DESCRIPTION:  \nTo register for in person\, please click here. \nTo register for Zoom\, please click here.
URL:https://www.mamaronecklibrary.org/events/book-club-2025-here-there-everywhere-7/
CATEGORIES:Adult
ATTACH;FMTTYPE=image/png:https://www.mamaronecklibrary.org/wp-content/uploads/2024/11/BOOKCLUB-2025.png
END:VEVENT
BEGIN:VEVENT
DTSTART;TZID=America/New_York:20250708T190000
DTEND;TZID=America/New_York:20250708T200000
DTSTAMP:20260423T101310
CREATED:20250602T155408Z
LAST-MODIFIED:20250602T155408Z
UID:10008006-1752001200-1752004800@www.mamaronecklibrary.org
SUMMARY:Ayurveda for the Circulatory System (via Zoom)
DESCRIPTION:To Register\, please click here.
URL:https://www.mamaronecklibrary.org/events/ayurveda-for-the-circulatory-system-via-zoom/
CATEGORIES:Adult
ATTACH;FMTTYPE=image/png:https://www.mamaronecklibrary.org/wp-content/uploads/2025/06/Ayurveda2025.png
END:VEVENT
BEGIN:VEVENT
DTSTART;TZID=America/New_York:20250709T190000
DTEND;TZID=America/New_York:20250709T200000
DTSTAMP:20260423T101310
CREATED:20241120T165756Z
LAST-MODIFIED:20241120T165756Z
UID:10006299-1752087600-1752091200@www.mamaronecklibrary.org
SUMMARY:Board Meeting
DESCRIPTION:
URL:https://www.mamaronecklibrary.org/events/board-meeting-2/2025-07-09/
CATEGORIES:Adult
ATTACH;FMTTYPE=image/png:https://www.mamaronecklibrary.org/wp-content/uploads/2024/11/board-1.png
END:VEVENT
BEGIN:VEVENT
DTSTART;TZID=America/New_York:20250710T110000
DTEND;TZID=America/New_York:20250710T120000
DTSTAMP:20260423T101310
CREATED:20241216T174908Z
LAST-MODIFIED:20241216T174908Z
UID:10006660-1752145200-1752148800@www.mamaronecklibrary.org
SUMMARY:Gentle Yoga
DESCRIPTION:To Register\, please click here.
URL:https://www.mamaronecklibrary.org/events/gentle-yoga-8/2025-07-10/
CATEGORIES:Adult
ATTACH;FMTTYPE=image/png:https://www.mamaronecklibrary.org/wp-content/uploads/2024/12/Yoga.png
END:VEVENT
BEGIN:VEVENT
DTSTART;TZID=America/New_York:20250711T110000
DTEND;TZID=America/New_York:20250711T130000
DTSTAMP:20260423T101310
CREATED:20250604T154719Z
LAST-MODIFIED:20250604T154719Z
UID:10008007-1752231600-1752238800@www.mamaronecklibrary.org
SUMMARY:July Staycation Movies
DESCRIPTION:
URL:https://www.mamaronecklibrary.org/events/july-staycation-movies/2025-07-11/
CATEGORIES:Adult
ATTACH;FMTTYPE=image/png:https://www.mamaronecklibrary.org/wp-content/uploads/2025/06/Staycation.png
END:VEVENT
BEGIN:VEVENT
DTSTART;TZID=America/New_York:20250714T180000
DTEND;TZID=America/New_York:20250714T190000
DTSTAMP:20260423T101310
CREATED:20250513T132036Z
LAST-MODIFIED:20250513T132037Z
UID:10007936-1752516000-1752519600@www.mamaronecklibrary.org
SUMMARY:The Grid That Made Manhattan (via Zoom)
DESCRIPTION:To Register\, please click here.
URL:https://www.mamaronecklibrary.org/events/the-grid-that-made-manhattan-via-zoom/
CATEGORIES:Adult
ATTACH;FMTTYPE=image/png:https://www.mamaronecklibrary.org/wp-content/uploads/2025/05/ManhattanArch.png
END:VEVENT
BEGIN:VEVENT
DTSTART;TZID=America/New_York:20250715T103000
DTEND;TZID=America/New_York:20250715T113000
DTSTAMP:20260423T101310
CREATED:20250605T170759Z
LAST-MODIFIED:20250605T170918Z
UID:10008020-1752575400-1752579000@www.mamaronecklibrary.org
SUMMARY:Walk Your Way to Better Health
DESCRIPTION:To Register for dates in July\, please click here.
URL:https://www.mamaronecklibrary.org/events/walk-your-way-to-better-health-3/2025-07-15/
CATEGORIES:Adult
ATTACH;FMTTYPE=image/png:https://www.mamaronecklibrary.org/wp-content/uploads/2025/06/Walking.png
END:VEVENT
BEGIN:VEVENT
DTSTART;TZID=America/New_York:20250715T130000
DTEND;TZID=America/New_York:20250715T140000
DTSTAMP:20260423T101310
CREATED:20250610T125554Z
LAST-MODIFIED:20250610T125555Z
UID:10008048-1752584400-1752588000@www.mamaronecklibrary.org
SUMMARY:Elder Law 101: Intro to Estate Planning and Medicaid Eligibility (via Zoom)
DESCRIPTION:To Join\, please click here.
URL:https://www.mamaronecklibrary.org/events/elder-law-101-intro-to-estate-planning-and-medicaid-eligibility-via-zoom/
CATEGORIES:Adult
ATTACH;FMTTYPE=image/png:https://www.mamaronecklibrary.org/wp-content/uploads/2025/06/ElderLaw101.png
END:VEVENT
BEGIN:VEVENT
DTSTART;TZID=America/New_York:20250716T130000
DTEND;TZID=America/New_York:20250716T140000
DTSTAMP:20260423T101310
CREATED:20250521T133627Z
LAST-MODIFIED:20250521T133910Z
UID:10007997-1752670800-1752674400@www.mamaronecklibrary.org
SUMMARY:Make Sense of Today’s Financial Markets (via Zoom)
DESCRIPTION:To Register\, please click on the date below: \nJuly 16 \nAugust 13 \nSeptember 10 \nOctober 15 \nNovember 12 \nDecember 10
URL:https://www.mamaronecklibrary.org/events/make-sense-of-todays-financial-markets-via-zoom/2025-07-16/
CATEGORIES:Adult
ATTACH;FMTTYPE=image/png:https://www.mamaronecklibrary.org/wp-content/uploads/2025/05/Women-Money-2025-2.png
END:VEVENT
BEGIN:VEVENT
DTSTART;TZID=America/New_York:20250717T110000
DTEND;TZID=America/New_York:20250717T120000
DTSTAMP:20260423T101310
CREATED:20241216T174908Z
LAST-MODIFIED:20241216T174908Z
UID:10006661-1752750000-1752753600@www.mamaronecklibrary.org
SUMMARY:Gentle Yoga
DESCRIPTION:To Register\, please click here.
URL:https://www.mamaronecklibrary.org/events/gentle-yoga-8/2025-07-17/
CATEGORIES:Adult
ATTACH;FMTTYPE=image/png:https://www.mamaronecklibrary.org/wp-content/uploads/2024/12/Yoga.png
END:VEVENT
BEGIN:VEVENT
DTSTART;TZID=America/New_York:20250718T110000
DTEND;TZID=America/New_York:20250718T130000
DTSTAMP:20260423T101310
CREATED:20250604T154719Z
LAST-MODIFIED:20250604T154719Z
UID:10008008-1752836400-1752843600@www.mamaronecklibrary.org
SUMMARY:July Staycation Movies
DESCRIPTION:
URL:https://www.mamaronecklibrary.org/events/july-staycation-movies/2025-07-18/
CATEGORIES:Adult
ATTACH;FMTTYPE=image/png:https://www.mamaronecklibrary.org/wp-content/uploads/2025/06/Staycation.png
END:VEVENT
BEGIN:VEVENT
DTSTART;TZID=America/New_York:20250718T140000
DTEND;TZID=America/New_York:20250718T153000
DTSTAMP:20260423T101310
CREATED:20250611T171738Z
LAST-MODIFIED:20250611T171739Z
UID:10008051-1752847200-1752852600@www.mamaronecklibrary.org
SUMMARY:Retire Confidently
DESCRIPTION:To Register\, please click here.
URL:https://www.mamaronecklibrary.org/events/retire-confidently/
CATEGORIES:Adult
ATTACH;FMTTYPE=image/png:https://www.mamaronecklibrary.org/wp-content/uploads/2025/06/Retire.png
END:VEVENT
BEGIN:VEVENT
DTSTART;TZID=America/New_York:20250719T103000
DTEND;TZID=America/New_York:20250719T120000
DTSTAMP:20260423T101310
CREATED:20250611T173500Z
LAST-MODIFIED:20250611T173500Z
UID:10008052-1752921000-1752926400@www.mamaronecklibrary.org
SUMMARY:The Long-Term Care Puzzle
DESCRIPTION:To Register\, please click here.
URL:https://www.mamaronecklibrary.org/events/the-long-term-care-puzzle/
CATEGORIES:Adult
ATTACH;FMTTYPE=image/png:https://www.mamaronecklibrary.org/wp-content/uploads/2025/06/LongTermCare-2.png
END:VEVENT
BEGIN:VEVENT
DTSTART;TZID=America/New_York:20250719T130000
DTEND;TZID=America/New_York:20250719T140000
DTSTAMP:20260423T101310
CREATED:20250618T153250Z
LAST-MODIFIED:20250618T153250Z
UID:10008057-1752930000-1752933600@www.mamaronecklibrary.org
SUMMARY:Lyrics to Lines: Artful Conversation Through Song
DESCRIPTION:To Register\, please click here.
URL:https://www.mamaronecklibrary.org/events/lyrics-to-lines-artful-conversation-through-song/
CATEGORIES:Adult
ATTACH;FMTTYPE=image/png:https://www.mamaronecklibrary.org/wp-content/uploads/2025/06/MusicArt.png
END:VEVENT
END:VCALENDAR