BEGIN:VCALENDAR
VERSION:2.0
PRODID:-//Mamaroneck Public Library - ECPv6.15.12.2//NONSGML v1.0//EN
CALSCALE:GREGORIAN
METHOD:PUBLISH
X-WR-CALNAME:Mamaroneck Public Library
X-ORIGINAL-URL:https://www.mamaronecklibrary.org
X-WR-CALDESC:Events for Mamaroneck Public Library
REFRESH-INTERVAL;VALUE=DURATION:PT1H
X-Robots-Tag:noindex
X-PUBLISHED-TTL:PT1H
BEGIN:VTIMEZONE
TZID:America/New_York
BEGIN:DAYLIGHT
TZOFFSETFROM:-0500
TZOFFSETTO:-0400
TZNAME:EDT
DTSTART:20250309T070000
END:DAYLIGHT
BEGIN:STANDARD
TZOFFSETFROM:-0400
TZOFFSETTO:-0500
TZNAME:EST
DTSTART:20251102T060000
END:STANDARD
BEGIN:DAYLIGHT
TZOFFSETFROM:-0500
TZOFFSETTO:-0400
TZNAME:EDT
DTSTART:20260308T070000
END:DAYLIGHT
BEGIN:STANDARD
TZOFFSETFROM:-0400
TZOFFSETTO:-0500
TZNAME:EST
DTSTART:20261101T060000
END:STANDARD
BEGIN:DAYLIGHT
TZOFFSETFROM:-0500
TZOFFSETTO:-0400
TZNAME:EDT
DTSTART:20270314T070000
END:DAYLIGHT
BEGIN:STANDARD
TZOFFSETFROM:-0400
TZOFFSETTO:-0500
TZNAME:EST
DTSTART:20271107T060000
END:STANDARD
END:VTIMEZONE
BEGIN:VEVENT
DTSTART;TZID=America/New_York:20260512T100000
DTEND;TZID=America/New_York:20260512T170000
DTSTAMP:20260423T054133
CREATED:20260415T181613Z
LAST-MODIFIED:20260415T181613Z
UID:10009281-1778580000-1778605200@www.mamaronecklibrary.org
SUMMARY:Tech Tuesdays
DESCRIPTION:Please note that this program is by appointment only. \nTo Register\, please click here.
URL:https://www.mamaronecklibrary.org/events/tech-tuesdays/2026-05-12/
CATEGORIES:Adult
ATTACH;FMTTYPE=image/png:https://www.mamaronecklibrary.org/wp-content/uploads/2026/04/TechTues.png
END:VEVENT
BEGIN:VEVENT
DTSTART;TZID=America/New_York:20260512T140000
DTEND;TZID=America/New_York:20260512T150000
DTSTAMP:20260423T054133
CREATED:20251208T154211Z
LAST-MODIFIED:20251208T174116Z
UID:10008846-1778594400-1778598000@www.mamaronecklibrary.org
SUMMARY:BOOK CLUB 2026: PERSPECTIVE
DESCRIPTION:  \nTo register for in person please click here: https://forms.gle/4Bp3a1HY6Y4iqVCt5 \nTo register for Zoom please click here: https://us06web.zoom.us/meeting/register/dUYNIn5XRLGfynKZU0VrXQ
URL:https://www.mamaronecklibrary.org/events/book-club-2026-perspective-5/
CATEGORIES:Adult
ATTACH;FMTTYPE=image/png:https://www.mamaronecklibrary.org/wp-content/uploads/2025/12/BOOK-CLUB-2026.png
END:VEVENT
BEGIN:VEVENT
DTSTART;TZID=America/New_York:20260513T190000
DTEND;TZID=America/New_York:20260513T200000
DTSTAMP:20260423T054133
CREATED:20260114T154351Z
LAST-MODIFIED:20260114T154405Z
UID:10009017-1778698800-1778702400@www.mamaronecklibrary.org
SUMMARY:Mamaroneck Public Library Board of Trustees Meeting
DESCRIPTION:
URL:https://www.mamaronecklibrary.org/events/mamaroneck-public-library-board-of-trustees-meeting/2026-05-13/
CATEGORIES:Adult
ATTACH;FMTTYPE=image/png:https://www.mamaronecklibrary.org/wp-content/uploads/2024/11/board-1.png
END:VEVENT
BEGIN:VEVENT
DTSTART;TZID=America/New_York:20260514T090000
DTEND;TZID=America/New_York:20260514T100000
DTSTAMP:20260423T054133
CREATED:20250724T144658Z
LAST-MODIFIED:20250924T152053Z
UID:10008128-1778749200-1778752800@www.mamaronecklibrary.org
SUMMARY:Meditation with Jane (via Zoom)
DESCRIPTION:  \nTo register\, please click here.
URL:https://www.mamaronecklibrary.org/events/mindfulness-meditation-for-joy-harmony-health-with-jane-meryll/2026-05-14/
CATEGORIES:Adult
ATTACH;FMTTYPE=image/png:https://www.mamaronecklibrary.org/wp-content/uploads/2025/07/Mindfulness.png
END:VEVENT
BEGIN:VEVENT
DTSTART;TZID=America/New_York:20260514T103000
DTEND;TZID=America/New_York:20260514T113000
DTSTAMP:20260423T054133
CREATED:20251219T171001Z
LAST-MODIFIED:20260320T185804Z
UID:10009198-1778754600-1778758200@www.mamaronecklibrary.org
SUMMARY:Gentle Yoga
DESCRIPTION:
URL:https://www.mamaronecklibrary.org/events/gentle-yoga-14/2026-05-14/
CATEGORIES:Adult
ATTACH;FMTTYPE=image/png:https://www.mamaronecklibrary.org/wp-content/uploads/2025/12/Gentle-Yoga-1.png
END:VEVENT
BEGIN:VEVENT
DTSTART;TZID=America/New_York:20260515T110000
DTEND;TZID=America/New_York:20260515T130000
DTSTAMP:20260423T054133
CREATED:20260410T143450Z
LAST-MODIFIED:20260410T143450Z
UID:10009263-1778842800-1778850000@www.mamaronecklibrary.org
SUMMARY:New Movie Matinee: Hamnet
DESCRIPTION:
URL:https://www.mamaronecklibrary.org/events/new-movie-matinee-hamnet/
CATEGORIES:Adult
ATTACH;FMTTYPE=image/png:https://www.mamaronecklibrary.org/wp-content/uploads/2026/04/Hamnet.png
END:VEVENT
BEGIN:VEVENT
DTSTART;TZID=America/New_York:20260518T180000
DTEND;TZID=America/New_York:20260518T190000
DTSTAMP:20260423T054133
CREATED:20260415T131248Z
LAST-MODIFIED:20260415T131248Z
UID:10009273-1779127200-1779130800@www.mamaronecklibrary.org
SUMMARY:Elder Financial Exploitation Seminar
DESCRIPTION:To Register\, please click here.
URL:https://www.mamaronecklibrary.org/events/elder-financial-exploitation-seminar/
CATEGORIES:Adult
ATTACH;FMTTYPE=image/png:https://www.mamaronecklibrary.org/wp-content/uploads/2026/04/Cybersecurity.png
END:VEVENT
BEGIN:VEVENT
DTSTART;TZID=America/New_York:20260518T183000
DTEND;TZID=America/New_York:20260518T193000
DTSTAMP:20260423T054133
CREATED:20260420T173956Z
LAST-MODIFIED:20260420T173956Z
UID:10009307-1779129000-1779132600@www.mamaronecklibrary.org
SUMMARY:Silent Book Club
DESCRIPTION:No Registration needed\, just drop by!
URL:https://www.mamaronecklibrary.org/events/silent-book-club/2026-05-18/
CATEGORIES:Adult
ATTACH;FMTTYPE=image/png:https://www.mamaronecklibrary.org/wp-content/uploads/2026/04/SilentBookClub.png
END:VEVENT
BEGIN:VEVENT
DTSTART;TZID=America/New_York:20260519T100000
DTEND;TZID=America/New_York:20260519T170000
DTSTAMP:20260423T054133
CREATED:20260415T181613Z
LAST-MODIFIED:20260415T181613Z
UID:10009282-1779184800-1779210000@www.mamaronecklibrary.org
SUMMARY:Tech Tuesdays
DESCRIPTION:Please note that this program is by appointment only. \nTo Register\, please click here.
URL:https://www.mamaronecklibrary.org/events/tech-tuesdays/2026-05-19/
CATEGORIES:Adult
ATTACH;FMTTYPE=image/png:https://www.mamaronecklibrary.org/wp-content/uploads/2026/04/TechTues.png
END:VEVENT
BEGIN:VEVENT
DTSTART;TZID=America/New_York:20260519T134500
DTEND;TZID=America/New_York:20260519T151500
DTSTAMP:20260423T054133
CREATED:20251126T172359Z
LAST-MODIFIED:20251126T172359Z
UID:10008838-1779198300-1779203700@www.mamaronecklibrary.org
SUMMARY:Short Story Discussion Series: NY Stories
DESCRIPTION:To Register\, please click here.
URL:https://www.mamaronecklibrary.org/events/short-story-discussion-series-ny-stories/2026-05-19/
CATEGORIES:Adult
ATTACH;FMTTYPE=image/png:https://www.mamaronecklibrary.org/wp-content/uploads/2025/11/NYStories.png
END:VEVENT
BEGIN:VEVENT
DTSTART;TZID=America/New_York:20260520T180000
DTEND;TZID=America/New_York:20260520T190000
DTSTAMP:20260423T054133
CREATED:20260107T173419Z
LAST-MODIFIED:20260323T144953Z
UID:10009000-1779300000-1779303600@www.mamaronecklibrary.org
SUMMARY:"Food for Thought" Cookbook Club 2026
DESCRIPTION:To Register\, please click here.
URL:https://www.mamaronecklibrary.org/events/food-for-thought-cookbook-club-2026/2026-05-20/
CATEGORIES:Adult
ATTACH;FMTTYPE=image/png:https://www.mamaronecklibrary.org/wp-content/uploads/2026/01/Modern-White-and-Beige-Recipe-Card-US-Letter-1.png
END:VEVENT
BEGIN:VEVENT
DTSTART;TZID=America/New_York:20260521T090000
DTEND;TZID=America/New_York:20260521T100000
DTSTAMP:20260423T054133
CREATED:20250724T144658Z
LAST-MODIFIED:20250924T152053Z
UID:10008129-1779354000-1779357600@www.mamaronecklibrary.org
SUMMARY:Meditation with Jane (via Zoom)
DESCRIPTION:  \nTo register\, please click here.
URL:https://www.mamaronecklibrary.org/events/mindfulness-meditation-for-joy-harmony-health-with-jane-meryll/2026-05-21/
CATEGORIES:Adult
ATTACH;FMTTYPE=image/png:https://www.mamaronecklibrary.org/wp-content/uploads/2025/07/Mindfulness.png
END:VEVENT
BEGIN:VEVENT
DTSTART;TZID=America/New_York:20260521T103000
DTEND;TZID=America/New_York:20260521T113000
DTSTAMP:20260423T054133
CREATED:20251219T171001Z
LAST-MODIFIED:20260320T185804Z
UID:10009199-1779359400-1779363000@www.mamaronecklibrary.org
SUMMARY:Gentle Yoga
DESCRIPTION:
URL:https://www.mamaronecklibrary.org/events/gentle-yoga-14/2026-05-21/
CATEGORIES:Adult
ATTACH;FMTTYPE=image/png:https://www.mamaronecklibrary.org/wp-content/uploads/2025/12/Gentle-Yoga-1.png
END:VEVENT
BEGIN:VEVENT
DTSTART;TZID=America/New_York:20260522T130000
DTEND;TZID=America/New_York:20260522T143000
DTSTAMP:20260423T054133
CREATED:20260415T174310Z
LAST-MODIFIED:20260415T174310Z
UID:10009279-1779454800-1779460200@www.mamaronecklibrary.org
SUMMARY:Taller de Arte Expresivo
DESCRIPTION:This program will be conducted in Spanish. \nRegistro aqui\, por favor.
URL:https://www.mamaronecklibrary.org/events/taller-de-arte-expresivo/
CATEGORIES:Adult
ATTACH;FMTTYPE=image/png:https://www.mamaronecklibrary.org/wp-content/uploads/2026/04/ExpArtESP.png
END:VEVENT
BEGIN:VEVENT
DTSTART;TZID=America/New_York:20260526T100000
DTEND;TZID=America/New_York:20260526T170000
DTSTAMP:20260423T054133
CREATED:20260415T181613Z
LAST-MODIFIED:20260415T181613Z
UID:10009283-1779789600-1779814800@www.mamaronecklibrary.org
SUMMARY:Tech Tuesdays
DESCRIPTION:Please note that this program is by appointment only. \nTo Register\, please click here.
URL:https://www.mamaronecklibrary.org/events/tech-tuesdays/2026-05-26/
CATEGORIES:Adult
ATTACH;FMTTYPE=image/png:https://www.mamaronecklibrary.org/wp-content/uploads/2026/04/TechTues.png
END:VEVENT
BEGIN:VEVENT
DTSTART;TZID=America/New_York:20260528T090000
DTEND;TZID=America/New_York:20260528T100000
DTSTAMP:20260423T054133
CREATED:20250724T144658Z
LAST-MODIFIED:20250924T152053Z
UID:10008130-1779958800-1779962400@www.mamaronecklibrary.org
SUMMARY:Meditation with Jane (via Zoom)
DESCRIPTION:  \nTo register\, please click here.
URL:https://www.mamaronecklibrary.org/events/mindfulness-meditation-for-joy-harmony-health-with-jane-meryll/2026-05-28/
CATEGORIES:Adult
ATTACH;FMTTYPE=image/png:https://www.mamaronecklibrary.org/wp-content/uploads/2025/07/Mindfulness.png
END:VEVENT
BEGIN:VEVENT
DTSTART;TZID=America/New_York:20260528T103000
DTEND;TZID=America/New_York:20260528T113000
DTSTAMP:20260423T054133
CREATED:20251219T171001Z
LAST-MODIFIED:20260320T185804Z
UID:10009200-1779964200-1779967800@www.mamaronecklibrary.org
SUMMARY:Gentle Yoga
DESCRIPTION:
URL:https://www.mamaronecklibrary.org/events/gentle-yoga-14/2026-05-28/
CATEGORIES:Adult
ATTACH;FMTTYPE=image/png:https://www.mamaronecklibrary.org/wp-content/uploads/2025/12/Gentle-Yoga-1.png
END:VEVENT
BEGIN:VEVENT
DTSTART;TZID=America/New_York:20260601T100000
DTEND;TZID=America/New_York:20260601T164500
DTSTAMP:20260423T054133
CREATED:20260311T134943Z
LAST-MODIFIED:20260401T153013Z
UID:10009242-1780308000-1780332300@www.mamaronecklibrary.org
SUMMARY:AARP Smart Driver Course Defensive Driving Class
DESCRIPTION:To be added to the waitlist\, please call 914-630-5888
URL:https://www.mamaronecklibrary.org/events/aarp-smart-driver-course-defensive-driving-class/
CATEGORIES:Adult
ATTACH;FMTTYPE=image/png:https://www.mamaronecklibrary.org/wp-content/uploads/2026/03/AARP-Smart-Driver-1.png
END:VEVENT
BEGIN:VEVENT
DTSTART;TZID=America/New_York:20260601T183000
DTEND;TZID=America/New_York:20260601T193000
DTSTAMP:20260423T054133
CREATED:20260420T173956Z
LAST-MODIFIED:20260420T173956Z
UID:10009308-1780338600-1780342200@www.mamaronecklibrary.org
SUMMARY:Silent Book Club
DESCRIPTION:No Registration needed\, just drop by!
URL:https://www.mamaronecklibrary.org/events/silent-book-club/2026-06-01/
CATEGORIES:Adult
ATTACH;FMTTYPE=image/png:https://www.mamaronecklibrary.org/wp-content/uploads/2026/04/SilentBookClub.png
END:VEVENT
BEGIN:VEVENT
DTSTART;TZID=America/New_York:20260602T100000
DTEND;TZID=America/New_York:20260602T170000
DTSTAMP:20260423T054133
CREATED:20260415T181613Z
LAST-MODIFIED:20260415T181613Z
UID:10009284-1780394400-1780419600@www.mamaronecklibrary.org
SUMMARY:Tech Tuesdays
DESCRIPTION:Please note that this program is by appointment only. \nTo Register\, please click here.
URL:https://www.mamaronecklibrary.org/events/tech-tuesdays/2026-06-02/
CATEGORIES:Adult
ATTACH;FMTTYPE=image/png:https://www.mamaronecklibrary.org/wp-content/uploads/2026/04/TechTues.png
END:VEVENT
BEGIN:VEVENT
DTSTART;TZID=America/New_York:20260603T180000
DTEND;TZID=America/New_York:20260603T190000
DTSTAMP:20260423T054133
CREATED:20260114T145424Z
LAST-MODIFIED:20260114T145424Z
UID:10009012-1780509600-1780513200@www.mamaronecklibrary.org
SUMMARY:NY Citizen Preparedness Training Program
DESCRIPTION:To Register\, please click here.
URL:https://www.mamaronecklibrary.org/events/ny-citizen-preparedness-training-program/
CATEGORIES:Adult
ATTACH;FMTTYPE=image/png:https://www.mamaronecklibrary.org/wp-content/uploads/2026/01/Disaster-scaled.png
END:VEVENT
BEGIN:VEVENT
DTSTART;TZID=America/New_York:20260604T090000
DTEND;TZID=America/New_York:20260604T100000
DTSTAMP:20260423T054133
CREATED:20250724T144658Z
LAST-MODIFIED:20250924T152053Z
UID:10008131-1780563600-1780567200@www.mamaronecklibrary.org
SUMMARY:Meditation with Jane (via Zoom)
DESCRIPTION:  \nTo register\, please click here.
URL:https://www.mamaronecklibrary.org/events/mindfulness-meditation-for-joy-harmony-health-with-jane-meryll/2026-06-04/
CATEGORIES:Adult
ATTACH;FMTTYPE=image/png:https://www.mamaronecklibrary.org/wp-content/uploads/2025/07/Mindfulness.png
END:VEVENT
BEGIN:VEVENT
DTSTART;TZID=America/New_York:20260604T103000
DTEND;TZID=America/New_York:20260604T113000
DTSTAMP:20260423T054133
CREATED:20251219T171001Z
LAST-MODIFIED:20260320T185804Z
UID:10009201-1780569000-1780572600@www.mamaronecklibrary.org
SUMMARY:Gentle Yoga
DESCRIPTION:
URL:https://www.mamaronecklibrary.org/events/gentle-yoga-14/2026-06-04/
CATEGORIES:Adult
ATTACH;FMTTYPE=image/png:https://www.mamaronecklibrary.org/wp-content/uploads/2025/12/Gentle-Yoga-1.png
END:VEVENT
BEGIN:VEVENT
DTSTART;TZID=America/New_York:20260608T183000
DTEND;TZID=America/New_York:20260608T193000
DTSTAMP:20260423T054133
CREATED:20260420T173956Z
LAST-MODIFIED:20260420T173956Z
UID:10009309-1780943400-1780947000@www.mamaronecklibrary.org
SUMMARY:Silent Book Club
DESCRIPTION:No Registration needed\, just drop by!
URL:https://www.mamaronecklibrary.org/events/silent-book-club/2026-06-08/
CATEGORIES:Adult
ATTACH;FMTTYPE=image/png:https://www.mamaronecklibrary.org/wp-content/uploads/2026/04/SilentBookClub.png
END:VEVENT
BEGIN:VEVENT
DTSTART;TZID=America/New_York:20260609T100000
DTEND;TZID=America/New_York:20260609T170000
DTSTAMP:20260423T054133
CREATED:20260415T181613Z
LAST-MODIFIED:20260415T181613Z
UID:10009285-1780999200-1781024400@www.mamaronecklibrary.org
SUMMARY:Tech Tuesdays
DESCRIPTION:Please note that this program is by appointment only. \nTo Register\, please click here.
URL:https://www.mamaronecklibrary.org/events/tech-tuesdays/2026-06-09/
CATEGORIES:Adult
ATTACH;FMTTYPE=image/png:https://www.mamaronecklibrary.org/wp-content/uploads/2026/04/TechTues.png
END:VEVENT
BEGIN:VEVENT
DTSTART;TZID=America/New_York:20260609T140000
DTEND;TZID=America/New_York:20260609T150000
DTSTAMP:20260423T054133
CREATED:20251208T154853Z
LAST-MODIFIED:20251208T174027Z
UID:10008847-1781013600-1781017200@www.mamaronecklibrary.org
SUMMARY:BOOK CLUB 2026: PERSPECTIVE
DESCRIPTION:  \nTo register for in person please click here: https://forms.gle/f7NbAUzDmVxGzvaa7 \nTo register for Zoom please click here: https://us06web.zoom.us/meeting/register/C5qC8wCvTP6Gk0CsEcU6Wg
URL:https://www.mamaronecklibrary.org/events/book-club-2026-perspective-6/
CATEGORIES:Adult
ATTACH;FMTTYPE=image/png:https://www.mamaronecklibrary.org/wp-content/uploads/2025/12/BOOK-CLUB-2026.png
END:VEVENT
BEGIN:VEVENT
DTSTART;TZID=America/New_York:20260610T190000
DTEND;TZID=America/New_York:20260610T200000
DTSTAMP:20260423T054133
CREATED:20260114T154351Z
LAST-MODIFIED:20260114T154405Z
UID:10009018-1781118000-1781121600@www.mamaronecklibrary.org
SUMMARY:Mamaroneck Public Library Board of Trustees Meeting
DESCRIPTION:
URL:https://www.mamaronecklibrary.org/events/mamaroneck-public-library-board-of-trustees-meeting/2026-06-10/
CATEGORIES:Adult
ATTACH;FMTTYPE=image/png:https://www.mamaronecklibrary.org/wp-content/uploads/2024/11/board-1.png
END:VEVENT
BEGIN:VEVENT
DTSTART;TZID=America/New_York:20260611T090000
DTEND;TZID=America/New_York:20260611T100000
DTSTAMP:20260423T054133
CREATED:20250724T144658Z
LAST-MODIFIED:20250924T152053Z
UID:10008132-1781168400-1781172000@www.mamaronecklibrary.org
SUMMARY:Meditation with Jane (via Zoom)
DESCRIPTION:  \nTo register\, please click here.
URL:https://www.mamaronecklibrary.org/events/mindfulness-meditation-for-joy-harmony-health-with-jane-meryll/2026-06-11/
CATEGORIES:Adult
ATTACH;FMTTYPE=image/png:https://www.mamaronecklibrary.org/wp-content/uploads/2025/07/Mindfulness.png
END:VEVENT
BEGIN:VEVENT
DTSTART;TZID=America/New_York:20260611T103000
DTEND;TZID=America/New_York:20260611T113000
DTSTAMP:20260423T054133
CREATED:20251219T171001Z
LAST-MODIFIED:20260320T185804Z
UID:10009202-1781173800-1781177400@www.mamaronecklibrary.org
SUMMARY:Gentle Yoga
DESCRIPTION:
URL:https://www.mamaronecklibrary.org/events/gentle-yoga-14/2026-06-11/
CATEGORIES:Adult
ATTACH;FMTTYPE=image/png:https://www.mamaronecklibrary.org/wp-content/uploads/2025/12/Gentle-Yoga-1.png
END:VEVENT
BEGIN:VEVENT
DTSTART;TZID=America/New_York:20260615T183000
DTEND;TZID=America/New_York:20260615T193000
DTSTAMP:20260423T054133
CREATED:20260420T173956Z
LAST-MODIFIED:20260420T173956Z
UID:10009310-1781548200-1781551800@www.mamaronecklibrary.org
SUMMARY:Silent Book Club
DESCRIPTION:No Registration needed\, just drop by!
URL:https://www.mamaronecklibrary.org/events/silent-book-club/2026-06-15/
CATEGORIES:Adult
ATTACH;FMTTYPE=image/png:https://www.mamaronecklibrary.org/wp-content/uploads/2026/04/SilentBookClub.png
END:VEVENT
END:VCALENDAR