BEGIN:VCALENDAR
VERSION:2.0
PRODID:-//Mamaroneck Public Library - ECPv6.15.12.2//NONSGML v1.0//EN
CALSCALE:GREGORIAN
METHOD:PUBLISH
X-WR-CALNAME:Mamaroneck Public Library
X-ORIGINAL-URL:https://www.mamaronecklibrary.org
X-WR-CALDESC:Events for Mamaroneck Public Library
REFRESH-INTERVAL;VALUE=DURATION:PT1H
X-Robots-Tag:noindex
X-PUBLISHED-TTL:PT1H
BEGIN:VTIMEZONE
TZID:UTC
BEGIN:STANDARD
TZOFFSETFROM:+0000
TZOFFSETTO:+0000
TZNAME:UTC
DTSTART:20210101T000000
END:STANDARD
END:VTIMEZONE
BEGIN:VEVENT
DTSTART;TZID=UTC:20220526T100000
DTEND;TZID=UTC:20220528T170000
DTSTAMP:20260424T032230
CREATED:20220524T184430Z
LAST-MODIFIED:20220524T184444Z
UID:10000536-1653559200-1653757200@www.mamaronecklibrary.org
SUMMARY:Memorial Day Weekend Sidewalk Sale: Library Swag & Free Books
DESCRIPTION:
URL:https://www.mamaronecklibrary.org/events/memorial-day-weekend-sidewalk-sale-library-swag-free-books/2022-05-26/
CATEGORIES:All Ages
ATTACH;FMTTYPE=image/png:https://www.mamaronecklibrary.org/wp-content/uploads/2022/05/Sidewalk-Sale-Flyer.png
END:VEVENT
BEGIN:VEVENT
DTSTART;TZID=UTC:20220529T130000
DTEND;TZID=UTC:20220529T160000
DTSTAMP:20260424T032230
CREATED:20220524T184430Z
LAST-MODIFIED:20220524T184444Z
UID:10000537-1653829200-1653840000@www.mamaronecklibrary.org
SUMMARY:Memorial Day Weekend Sidewalk Sale: Library Swag & Free Books
DESCRIPTION:
URL:https://www.mamaronecklibrary.org/events/memorial-day-weekend-sidewalk-sale-library-swag-free-books/2022-05-29/
CATEGORIES:All Ages
ATTACH;FMTTYPE=image/png:https://www.mamaronecklibrary.org/wp-content/uploads/2022/05/Sidewalk-Sale-Flyer.png
END:VEVENT
END:VCALENDAR