BEGIN:VCALENDAR
VERSION:2.0
PRODID:-//Mamaroneck Public Library - ECPv6.15.12.2//NONSGML v1.0//EN
CALSCALE:GREGORIAN
METHOD:PUBLISH
X-ORIGINAL-URL:https://www.mamaronecklibrary.org
X-WR-CALDESC:Events for Mamaroneck Public Library
REFRESH-INTERVAL;VALUE=DURATION:PT1H
X-Robots-Tag:noindex
X-PUBLISHED-TTL:PT1H
BEGIN:VTIMEZONE
TZID:America/New_York
BEGIN:DAYLIGHT
TZOFFSETFROM:-0500
TZOFFSETTO:-0400
TZNAME:EDT
DTSTART:20230312T070000
END:DAYLIGHT
BEGIN:STANDARD
TZOFFSETFROM:-0400
TZOFFSETTO:-0500
TZNAME:EST
DTSTART:20231105T060000
END:STANDARD
BEGIN:DAYLIGHT
TZOFFSETFROM:-0500
TZOFFSETTO:-0400
TZNAME:EDT
DTSTART:20240310T070000
END:DAYLIGHT
BEGIN:STANDARD
TZOFFSETFROM:-0400
TZOFFSETTO:-0500
TZNAME:EST
DTSTART:20241103T060000
END:STANDARD
BEGIN:DAYLIGHT
TZOFFSETFROM:-0500
TZOFFSETTO:-0400
TZNAME:EDT
DTSTART:20250309T070000
END:DAYLIGHT
BEGIN:STANDARD
TZOFFSETFROM:-0400
TZOFFSETTO:-0500
TZNAME:EST
DTSTART:20251102T060000
END:STANDARD
BEGIN:DAYLIGHT
TZOFFSETFROM:-0500
TZOFFSETTO:-0400
TZNAME:EDT
DTSTART:20260308T070000
END:DAYLIGHT
BEGIN:STANDARD
TZOFFSETFROM:-0400
TZOFFSETTO:-0500
TZNAME:EST
DTSTART:20261101T060000
END:STANDARD
END:VTIMEZONE
BEGIN:VEVENT
DTSTART;TZID=America/New_York:20241125T153000
DTEND;TZID=America/New_York:20241125T170000
DTSTAMP:20260422T033925
CREATED:20241008T164157Z
LAST-MODIFIED:20250314T182156Z
UID:10006229-1732548600-1732554000@www.mamaronecklibrary.org
SUMMARY:Homework Help
DESCRIPTION:
URL:https://www.mamaronecklibrary.org/events/homework-help/2024-11-25/
CATEGORIES:Children
ATTACH;FMTTYPE=image/png:https://www.mamaronecklibrary.org/wp-content/uploads/2024/10/Homework-help-revised-5.png
END:VEVENT
BEGIN:VEVENT
DTSTART;TZID=America/New_York:20241209T153000
DTEND;TZID=America/New_York:20241209T170000
DTSTAMP:20260422T033925
CREATED:20241008T164157Z
LAST-MODIFIED:20250314T182156Z
UID:10006230-1733758200-1733763600@www.mamaronecklibrary.org
SUMMARY:Homework Help
DESCRIPTION:
URL:https://www.mamaronecklibrary.org/events/homework-help/2024-12-09/
CATEGORIES:Children
ATTACH;FMTTYPE=image/png:https://www.mamaronecklibrary.org/wp-content/uploads/2024/10/Homework-help-revised-5.png
END:VEVENT
BEGIN:VEVENT
DTSTART;TZID=America/New_York:20241210T110000
DTEND;TZID=America/New_York:20241210T120000
DTSTAMP:20260422T033925
CREATED:20240912T193526Z
LAST-MODIFIED:20241008T162744Z
UID:10005442-1733828400-1733832000@www.mamaronecklibrary.org
SUMMARY:Robert the Guitar Man
DESCRIPTION:
URL:https://www.mamaronecklibrary.org/events/robert-the-guitar-man/2024-12-10/
CATEGORIES:Children
ATTACH;FMTTYPE=image/png:https://www.mamaronecklibrary.org/wp-content/uploads/2024/09/Robert-the-Guitar-Man-5.png
END:VEVENT
BEGIN:VEVENT
DTSTART;TZID=America/New_York:20241216T153000
DTEND;TZID=America/New_York:20241216T170000
DTSTAMP:20260422T033925
CREATED:20241008T164157Z
LAST-MODIFIED:20250314T182156Z
UID:10006231-1734363000-1734368400@www.mamaronecklibrary.org
SUMMARY:Homework Help
DESCRIPTION:
URL:https://www.mamaronecklibrary.org/events/homework-help/2024-12-16/
CATEGORIES:Children
ATTACH;FMTTYPE=image/png:https://www.mamaronecklibrary.org/wp-content/uploads/2024/10/Homework-help-revised-5.png
END:VEVENT
BEGIN:VEVENT
DTSTART;TZID=America/New_York:20241230T110000
DTEND;TZID=America/New_York:20241230T120000
DTSTAMP:20260422T033925
CREATED:20241219T160508Z
LAST-MODIFIED:20241219T160550Z
UID:10006684-1735556400-1735560000@www.mamaronecklibrary.org
SUMMARY:Have NO Fear\, 2025 is Almost Here!
DESCRIPTION:  \nTo register\, please click here.
URL:https://www.mamaronecklibrary.org/events/21346/
CATEGORIES:Children
ATTACH;FMTTYPE=image/png:https://www.mamaronecklibrary.org/wp-content/uploads/2024/12/New-Years-Flier-7.png
END:VEVENT
BEGIN:VEVENT
DTSTART;TZID=America/New_York:20250106T153000
DTEND;TZID=America/New_York:20250106T170000
DTSTAMP:20260422T033925
CREATED:20241008T164157Z
LAST-MODIFIED:20250314T182156Z
UID:10006232-1736177400-1736182800@www.mamaronecklibrary.org
SUMMARY:Homework Help
DESCRIPTION:
URL:https://www.mamaronecklibrary.org/events/homework-help/2025-01-06/
CATEGORIES:Children
ATTACH;FMTTYPE=image/png:https://www.mamaronecklibrary.org/wp-content/uploads/2024/10/Homework-help-revised-5.png
END:VEVENT
BEGIN:VEVENT
DTSTART;VALUE=DATE:20250108
DTEND;VALUE=DATE:20250109
DTSTAMP:20260422T033925
CREATED:20250107T213515Z
LAST-MODIFIED:20250114T174849Z
UID:10006780-1736294400-1736380799@www.mamaronecklibrary.org
SUMMARY:Winter Scavenger Hunt Bingo!
DESCRIPTION:
URL:https://www.mamaronecklibrary.org/events/winter-scavenger-hunt-bingo/2025-01-08/
CATEGORIES:Children
ATTACH;FMTTYPE=image/png:https://www.mamaronecklibrary.org/wp-content/uploads/2025/01/Winter-Scavenger-Hunt-Bingo.png
END:VEVENT
BEGIN:VEVENT
DTSTART;TZID=America/New_York:20250108T110000
DTEND;TZID=America/New_York:20250108T113000
DTSTAMP:20260422T033925
CREATED:20241209T171039Z
LAST-MODIFIED:20241209T173605Z
UID:10006577-1736334000-1736335800@www.mamaronecklibrary.org
SUMMARY:Toddler Time & Winter Craft
DESCRIPTION:  \nTo register\, please click here.
URL:https://www.mamaronecklibrary.org/events/toddler-time-winter-craft/
CATEGORIES:Children
ATTACH;FMTTYPE=image/png:https://www.mamaronecklibrary.org/wp-content/uploads/2024/12/Winter-Craft-182025-2.png
END:VEVENT
BEGIN:VEVENT
DTSTART;VALUE=DATE:20250109
DTEND;VALUE=DATE:20250110
DTSTAMP:20260422T033925
CREATED:20250107T213515Z
LAST-MODIFIED:20250114T174849Z
UID:10006781-1736380800-1736467199@www.mamaronecklibrary.org
SUMMARY:Winter Scavenger Hunt Bingo!
DESCRIPTION:
URL:https://www.mamaronecklibrary.org/events/winter-scavenger-hunt-bingo/2025-01-09/
CATEGORIES:Children
ATTACH;FMTTYPE=image/png:https://www.mamaronecklibrary.org/wp-content/uploads/2025/01/Winter-Scavenger-Hunt-Bingo.png
END:VEVENT
BEGIN:VEVENT
DTSTART;VALUE=DATE:20250110
DTEND;VALUE=DATE:20250111
DTSTAMP:20260422T033925
CREATED:20250107T213515Z
LAST-MODIFIED:20250114T174849Z
UID:10006782-1736467200-1736553599@www.mamaronecklibrary.org
SUMMARY:Winter Scavenger Hunt Bingo!
DESCRIPTION:
URL:https://www.mamaronecklibrary.org/events/winter-scavenger-hunt-bingo/2025-01-10/
CATEGORIES:Children
ATTACH;FMTTYPE=image/png:https://www.mamaronecklibrary.org/wp-content/uploads/2025/01/Winter-Scavenger-Hunt-Bingo.png
END:VEVENT
BEGIN:VEVENT
DTSTART;VALUE=DATE:20250111
DTEND;VALUE=DATE:20250112
DTSTAMP:20260422T033925
CREATED:20250107T213515Z
LAST-MODIFIED:20250114T174849Z
UID:10006783-1736553600-1736639999@www.mamaronecklibrary.org
SUMMARY:Winter Scavenger Hunt Bingo!
DESCRIPTION:
URL:https://www.mamaronecklibrary.org/events/winter-scavenger-hunt-bingo/2025-01-11/
CATEGORIES:Children
ATTACH;FMTTYPE=image/png:https://www.mamaronecklibrary.org/wp-content/uploads/2025/01/Winter-Scavenger-Hunt-Bingo.png
END:VEVENT
BEGIN:VEVENT
DTSTART;VALUE=DATE:20250113
DTEND;VALUE=DATE:20250114
DTSTAMP:20260422T033925
CREATED:20250107T213515Z
LAST-MODIFIED:20250114T174849Z
UID:10006785-1736726400-1736812799@www.mamaronecklibrary.org
SUMMARY:Winter Scavenger Hunt Bingo!
DESCRIPTION:
URL:https://www.mamaronecklibrary.org/events/winter-scavenger-hunt-bingo/2025-01-13/
CATEGORIES:Children
ATTACH;FMTTYPE=image/png:https://www.mamaronecklibrary.org/wp-content/uploads/2025/01/Winter-Scavenger-Hunt-Bingo.png
END:VEVENT
BEGIN:VEVENT
DTSTART;TZID=America/New_York:20250113T153000
DTEND;TZID=America/New_York:20250113T170000
DTSTAMP:20260422T033925
CREATED:20241008T164157Z
LAST-MODIFIED:20250314T182156Z
UID:10006233-1736782200-1736787600@www.mamaronecklibrary.org
SUMMARY:Homework Help
DESCRIPTION:
URL:https://www.mamaronecklibrary.org/events/homework-help/2025-01-13/
CATEGORIES:Children
ATTACH;FMTTYPE=image/png:https://www.mamaronecklibrary.org/wp-content/uploads/2024/10/Homework-help-revised-5.png
END:VEVENT
BEGIN:VEVENT
DTSTART;VALUE=DATE:20250114
DTEND;VALUE=DATE:20250115
DTSTAMP:20260422T033925
CREATED:20250107T213515Z
LAST-MODIFIED:20250114T174849Z
UID:10006786-1736812800-1736899199@www.mamaronecklibrary.org
SUMMARY:Winter Scavenger Hunt Bingo!
DESCRIPTION:
URL:https://www.mamaronecklibrary.org/events/winter-scavenger-hunt-bingo/2025-01-14/
CATEGORIES:Children
ATTACH;FMTTYPE=image/png:https://www.mamaronecklibrary.org/wp-content/uploads/2025/01/Winter-Scavenger-Hunt-Bingo.png
END:VEVENT
BEGIN:VEVENT
DTSTART;VALUE=DATE:20250115
DTEND;VALUE=DATE:20250116
DTSTAMP:20260422T033925
CREATED:20250107T213515Z
LAST-MODIFIED:20250114T174849Z
UID:10006787-1736899200-1736985599@www.mamaronecklibrary.org
SUMMARY:Winter Scavenger Hunt Bingo!
DESCRIPTION:
URL:https://www.mamaronecklibrary.org/events/winter-scavenger-hunt-bingo/2025-01-15/
CATEGORIES:Children
ATTACH;FMTTYPE=image/png:https://www.mamaronecklibrary.org/wp-content/uploads/2025/01/Winter-Scavenger-Hunt-Bingo.png
END:VEVENT
BEGIN:VEVENT
DTSTART;TZID=America/New_York:20250115T110000
DTEND;TZID=America/New_York:20250115T113000
DTSTAMP:20260422T033925
CREATED:20241220T140319Z
LAST-MODIFIED:20241220T140319Z
UID:10006685-1736938800-1736940600@www.mamaronecklibrary.org
SUMMARY:Toddler Time
DESCRIPTION:  \nTo register\, please click here.
URL:https://www.mamaronecklibrary.org/events/toddler-time/
CATEGORIES:Children
ATTACH;FMTTYPE=image/png:https://www.mamaronecklibrary.org/wp-content/uploads/2024/12/Todder-Time-1.15.2025.png
END:VEVENT
BEGIN:VEVENT
DTSTART;VALUE=DATE:20250116
DTEND;VALUE=DATE:20250117
DTSTAMP:20260422T033925
CREATED:20250107T213515Z
LAST-MODIFIED:20250114T174849Z
UID:10006788-1736985600-1737071999@www.mamaronecklibrary.org
SUMMARY:Winter Scavenger Hunt Bingo!
DESCRIPTION:
URL:https://www.mamaronecklibrary.org/events/winter-scavenger-hunt-bingo/2025-01-16/
CATEGORIES:Children
ATTACH;FMTTYPE=image/png:https://www.mamaronecklibrary.org/wp-content/uploads/2025/01/Winter-Scavenger-Hunt-Bingo.png
END:VEVENT
BEGIN:VEVENT
DTSTART;VALUE=DATE:20250117
DTEND;VALUE=DATE:20250118
DTSTAMP:20260422T033925
CREATED:20250107T213515Z
LAST-MODIFIED:20250114T174849Z
UID:10006789-1737072000-1737158399@www.mamaronecklibrary.org
SUMMARY:Winter Scavenger Hunt Bingo!
DESCRIPTION:
URL:https://www.mamaronecklibrary.org/events/winter-scavenger-hunt-bingo/2025-01-17/
CATEGORIES:Children
ATTACH;FMTTYPE=image/png:https://www.mamaronecklibrary.org/wp-content/uploads/2025/01/Winter-Scavenger-Hunt-Bingo.png
END:VEVENT
BEGIN:VEVENT
DTSTART;VALUE=DATE:20250118
DTEND;VALUE=DATE:20250119
DTSTAMP:20260422T033925
CREATED:20250107T213515Z
LAST-MODIFIED:20250114T174849Z
UID:10006790-1737158400-1737244799@www.mamaronecklibrary.org
SUMMARY:Winter Scavenger Hunt Bingo!
DESCRIPTION:
URL:https://www.mamaronecklibrary.org/events/winter-scavenger-hunt-bingo/2025-01-18/
CATEGORIES:Children
ATTACH;FMTTYPE=image/png:https://www.mamaronecklibrary.org/wp-content/uploads/2025/01/Winter-Scavenger-Hunt-Bingo.png
END:VEVENT
BEGIN:VEVENT
DTSTART;TZID=America/New_York:20250118T110000
DTEND;TZID=America/New_York:20250118T120000
DTSTAMP:20260422T033925
CREATED:20250108T184758Z
LAST-MODIFIED:20250108T184758Z
UID:10007169-1737198000-1737201600@www.mamaronecklibrary.org
SUMMARY:Kids First Club
DESCRIPTION:  \nTo register\, please click here.
URL:https://www.mamaronecklibrary.org/events/kids-first-club-5/
CATEGORIES:Children
ATTACH;FMTTYPE=image/png:https://www.mamaronecklibrary.org/wp-content/uploads/2025/01/Kids-First-15.png
END:VEVENT
BEGIN:VEVENT
DTSTART;VALUE=DATE:20250121
DTEND;VALUE=DATE:20250122
DTSTAMP:20260422T033925
CREATED:20250107T213515Z
LAST-MODIFIED:20250114T174849Z
UID:10006793-1737417600-1737503999@www.mamaronecklibrary.org
SUMMARY:Winter Scavenger Hunt Bingo!
DESCRIPTION:
URL:https://www.mamaronecklibrary.org/events/winter-scavenger-hunt-bingo/2025-01-21/
CATEGORIES:Children
ATTACH;FMTTYPE=image/png:https://www.mamaronecklibrary.org/wp-content/uploads/2025/01/Winter-Scavenger-Hunt-Bingo.png
END:VEVENT
BEGIN:VEVENT
DTSTART;VALUE=DATE:20250122
DTEND;VALUE=DATE:20250123
DTSTAMP:20260422T033925
CREATED:20250107T213515Z
LAST-MODIFIED:20250114T174849Z
UID:10006794-1737504000-1737590399@www.mamaronecklibrary.org
SUMMARY:Winter Scavenger Hunt Bingo!
DESCRIPTION:
URL:https://www.mamaronecklibrary.org/events/winter-scavenger-hunt-bingo/2025-01-22/
CATEGORIES:Children
ATTACH;FMTTYPE=image/png:https://www.mamaronecklibrary.org/wp-content/uploads/2025/01/Winter-Scavenger-Hunt-Bingo.png
END:VEVENT
BEGIN:VEVENT
DTSTART;TZID=America/New_York:20250122T110000
DTEND;TZID=America/New_York:20250122T113000
DTSTAMP:20260422T033925
CREATED:20241220T140444Z
LAST-MODIFIED:20241220T140444Z
UID:10006686-1737543600-1737545400@www.mamaronecklibrary.org
SUMMARY:Toddler Time
DESCRIPTION:  \nTo register\, please click here.
URL:https://www.mamaronecklibrary.org/events/toddler-time-2/
CATEGORIES:Children
ATTACH;FMTTYPE=image/png:https://www.mamaronecklibrary.org/wp-content/uploads/2024/12/Toddler-Time-1.22.2025.png
END:VEVENT
BEGIN:VEVENT
DTSTART;VALUE=DATE:20250123
DTEND;VALUE=DATE:20250124
DTSTAMP:20260422T033925
CREATED:20250107T213515Z
LAST-MODIFIED:20250114T174849Z
UID:10006795-1737590400-1737676799@www.mamaronecklibrary.org
SUMMARY:Winter Scavenger Hunt Bingo!
DESCRIPTION:
URL:https://www.mamaronecklibrary.org/events/winter-scavenger-hunt-bingo/2025-01-23/
CATEGORIES:Children
ATTACH;FMTTYPE=image/png:https://www.mamaronecklibrary.org/wp-content/uploads/2025/01/Winter-Scavenger-Hunt-Bingo.png
END:VEVENT
BEGIN:VEVENT
DTSTART;VALUE=DATE:20250124
DTEND;VALUE=DATE:20250125
DTSTAMP:20260422T033925
CREATED:20250107T213515Z
LAST-MODIFIED:20250114T174849Z
UID:10006796-1737676800-1737763199@www.mamaronecklibrary.org
SUMMARY:Winter Scavenger Hunt Bingo!
DESCRIPTION:
URL:https://www.mamaronecklibrary.org/events/winter-scavenger-hunt-bingo/2025-01-24/
CATEGORIES:Children
ATTACH;FMTTYPE=image/png:https://www.mamaronecklibrary.org/wp-content/uploads/2025/01/Winter-Scavenger-Hunt-Bingo.png
END:VEVENT
BEGIN:VEVENT
DTSTART;VALUE=DATE:20250125
DTEND;VALUE=DATE:20250126
DTSTAMP:20260422T033925
CREATED:20250107T213515Z
LAST-MODIFIED:20250114T174849Z
UID:10006797-1737763200-1737849599@www.mamaronecklibrary.org
SUMMARY:Winter Scavenger Hunt Bingo!
DESCRIPTION:
URL:https://www.mamaronecklibrary.org/events/winter-scavenger-hunt-bingo/2025-01-25/
CATEGORIES:Children
ATTACH;FMTTYPE=image/png:https://www.mamaronecklibrary.org/wp-content/uploads/2025/01/Winter-Scavenger-Hunt-Bingo.png
END:VEVENT
BEGIN:VEVENT
DTSTART;TZID=America/New_York:20250125T140000
DTEND;TZID=America/New_York:20250125T150000
DTSTAMP:20260422T033925
CREATED:20250103T142726Z
LAST-MODIFIED:20250103T142726Z
UID:10006689-1737813600-1737817200@www.mamaronecklibrary.org
SUMMARY:Read Together with Chester the Therapy Dog!
DESCRIPTION:  \n  \nTo register\, please click here.
URL:https://www.mamaronecklibrary.org/events/read-together-with-chester-the-therapy-dog/
CATEGORIES:Children
ATTACH;FMTTYPE=image/png:https://www.mamaronecklibrary.org/wp-content/uploads/2025/01/Meet-Chester-6-3.png
END:VEVENT
BEGIN:VEVENT
DTSTART;VALUE=DATE:20250127
DTEND;VALUE=DATE:20250128
DTSTAMP:20260422T033925
CREATED:20250107T213515Z
LAST-MODIFIED:20250114T174849Z
UID:10006799-1737936000-1738022399@www.mamaronecklibrary.org
SUMMARY:Winter Scavenger Hunt Bingo!
DESCRIPTION:
URL:https://www.mamaronecklibrary.org/events/winter-scavenger-hunt-bingo/2025-01-27/
CATEGORIES:Children
ATTACH;FMTTYPE=image/png:https://www.mamaronecklibrary.org/wp-content/uploads/2025/01/Winter-Scavenger-Hunt-Bingo.png
END:VEVENT
BEGIN:VEVENT
DTSTART;TZID=America/New_York:20250127T153000
DTEND;TZID=America/New_York:20250127T170000
DTSTAMP:20260422T033925
CREATED:20241008T164157Z
LAST-MODIFIED:20250314T182156Z
UID:10006234-1737991800-1737997200@www.mamaronecklibrary.org
SUMMARY:Homework Help
DESCRIPTION:
URL:https://www.mamaronecklibrary.org/events/homework-help/2025-01-27/
CATEGORIES:Children
ATTACH;FMTTYPE=image/png:https://www.mamaronecklibrary.org/wp-content/uploads/2024/10/Homework-help-revised-5.png
END:VEVENT
BEGIN:VEVENT
DTSTART;VALUE=DATE:20250128
DTEND;VALUE=DATE:20250129
DTSTAMP:20260422T033925
CREATED:20250107T213515Z
LAST-MODIFIED:20250114T174849Z
UID:10006800-1738022400-1738108799@www.mamaronecklibrary.org
SUMMARY:Winter Scavenger Hunt Bingo!
DESCRIPTION:
URL:https://www.mamaronecklibrary.org/events/winter-scavenger-hunt-bingo/2025-01-28/
CATEGORIES:Children
ATTACH;FMTTYPE=image/png:https://www.mamaronecklibrary.org/wp-content/uploads/2025/01/Winter-Scavenger-Hunt-Bingo.png
END:VEVENT
END:VCALENDAR