BEGIN:VCALENDAR
VERSION:2.0
PRODID:-//Mamaroneck Public Library - ECPv6.15.12.2//NONSGML v1.0//EN
CALSCALE:GREGORIAN
METHOD:PUBLISH
X-WR-CALNAME:Mamaroneck Public Library
X-ORIGINAL-URL:https://www.mamaronecklibrary.org
X-WR-CALDESC:Events for Mamaroneck Public Library
REFRESH-INTERVAL;VALUE=DURATION:PT1H
X-Robots-Tag:noindex
X-PUBLISHED-TTL:PT1H
BEGIN:VTIMEZONE
TZID:America/New_York
BEGIN:DAYLIGHT
TZOFFSETFROM:-0500
TZOFFSETTO:-0400
TZNAME:EDT
DTSTART:20250309T070000
END:DAYLIGHT
BEGIN:STANDARD
TZOFFSETFROM:-0400
TZOFFSETTO:-0500
TZNAME:EST
DTSTART:20251102T060000
END:STANDARD
BEGIN:DAYLIGHT
TZOFFSETFROM:-0500
TZOFFSETTO:-0400
TZNAME:EDT
DTSTART:20260308T070000
END:DAYLIGHT
BEGIN:STANDARD
TZOFFSETFROM:-0400
TZOFFSETTO:-0500
TZNAME:EST
DTSTART:20261101T060000
END:STANDARD
BEGIN:DAYLIGHT
TZOFFSETFROM:-0500
TZOFFSETTO:-0400
TZNAME:EDT
DTSTART:20270314T070000
END:DAYLIGHT
BEGIN:STANDARD
TZOFFSETFROM:-0400
TZOFFSETTO:-0500
TZNAME:EST
DTSTART:20271107T060000
END:STANDARD
END:VTIMEZONE
BEGIN:VEVENT
DTSTART;TZID=America/New_York:20260310T110000
DTEND;TZID=America/New_York:20260310T113000
DTSTAMP:20260424T052024
CREATED:20251219T170116Z
LAST-MODIFIED:20251219T170116Z
UID:10008871-1773140400-1773142200@www.mamaronecklibrary.org
SUMMARY:BabyTime with Beverley
DESCRIPTION:
URL:https://www.mamaronecklibrary.org/events/babytime-with-beverley-5/2026-03-10/
CATEGORIES:Children
ATTACH;FMTTYPE=image/png:https://www.mamaronecklibrary.org/wp-content/uploads/2025/12/BabyTime-1.png
END:VEVENT
BEGIN:VEVENT
DTSTART;TZID=America/New_York:20260311T110000
DTEND;TZID=America/New_York:20260311T113000
DTSTAMP:20260424T052024
CREATED:20260129T171704Z
LAST-MODIFIED:20260129T171712Z
UID:10009036-1773226800-1773228600@www.mamaronecklibrary.org
SUMMARY:Toddler Time!
DESCRIPTION:
URL:https://www.mamaronecklibrary.org/events/toddler-time-11/2026-03-11/
CATEGORIES:Children
ATTACH;FMTTYPE=image/png:https://www.mamaronecklibrary.org/wp-content/uploads/2026/01/Toddler-Time-1.png
END:VEVENT
BEGIN:VEVENT
DTSTART;TZID=America/New_York:20260311T154500
DTEND;TZID=America/New_York:20260311T161500
DTSTAMP:20260424T052024
CREATED:20260105T180152Z
LAST-MODIFIED:20260105T180152Z
UID:10008974-1773243900-1773245700@www.mamaronecklibrary.org
SUMMARY:Preschool - Grade 2 Storytime!
DESCRIPTION:
URL:https://www.mamaronecklibrary.org/events/preschool-grade-2-storytime/2026-03-11/
CATEGORIES:Children
ATTACH;FMTTYPE=image/png:https://www.mamaronecklibrary.org/wp-content/uploads/2026/01/MarchApril-Preschool-Storytime-Flyer.png
END:VEVENT
BEGIN:VEVENT
DTSTART;TZID=America/New_York:20260312T153000
DTEND;TZID=America/New_York:20260312T170000
DTSTAMP:20260424T052024
CREATED:20260129T171848Z
LAST-MODIFIED:20260331T195013Z
UID:10009042-1773329400-1773334800@www.mamaronecklibrary.org
SUMMARY:Open Play Date & Free Play!
DESCRIPTION:
URL:https://www.mamaronecklibrary.org/events/open-play-date-free-play-3/2026-03-12/
CATEGORIES:Children
ATTACH;FMTTYPE=image/png:https://www.mamaronecklibrary.org/wp-content/uploads/2026/01/OpenPlay-.png
END:VEVENT
BEGIN:VEVENT
DTSTART;TZID=America/New_York:20260313T100000
DTEND;TZID=America/New_York:20260313T160000
DTSTAMP:20260424T052024
CREATED:20250519T204327Z
LAST-MODIFIED:20250604T131652Z
UID:10007986-1773396000-1773417600@www.mamaronecklibrary.org
SUMMARY:Drop-In Craft
DESCRIPTION:
URL:https://www.mamaronecklibrary.org/events/drop-in-craft/2026-03-13/
CATEGORIES:Children
ATTACH;FMTTYPE=image/png:https://www.mamaronecklibrary.org/wp-content/uploads/2025/05/Drop-In-Craft_MPL.png
END:VEVENT
BEGIN:VEVENT
DTSTART;TZID=America/New_York:20260317T110000
DTEND;TZID=America/New_York:20260317T113000
DTSTAMP:20260424T052024
CREATED:20251219T170116Z
LAST-MODIFIED:20251219T170116Z
UID:10008872-1773745200-1773747000@www.mamaronecklibrary.org
SUMMARY:BabyTime with Beverley
DESCRIPTION:
URL:https://www.mamaronecklibrary.org/events/babytime-with-beverley-5/2026-03-17/
CATEGORIES:Children
ATTACH;FMTTYPE=image/png:https://www.mamaronecklibrary.org/wp-content/uploads/2025/12/BabyTime-1.png
END:VEVENT
BEGIN:VEVENT
DTSTART;TZID=America/New_York:20260318T110000
DTEND;TZID=America/New_York:20260318T113000
DTSTAMP:20260424T052024
CREATED:20260129T171704Z
LAST-MODIFIED:20260129T171712Z
UID:10009037-1773831600-1773833400@www.mamaronecklibrary.org
SUMMARY:Toddler Time!
DESCRIPTION:
URL:https://www.mamaronecklibrary.org/events/toddler-time-11/2026-03-18/
CATEGORIES:Children
ATTACH;FMTTYPE=image/png:https://www.mamaronecklibrary.org/wp-content/uploads/2026/01/Toddler-Time-1.png
END:VEVENT
BEGIN:VEVENT
DTSTART;TZID=America/New_York:20260318T154500
DTEND;TZID=America/New_York:20260318T161500
DTSTAMP:20260424T052024
CREATED:20260105T180152Z
LAST-MODIFIED:20260105T180152Z
UID:10008975-1773848700-1773850500@www.mamaronecklibrary.org
SUMMARY:Preschool - Grade 2 Storytime!
DESCRIPTION:
URL:https://www.mamaronecklibrary.org/events/preschool-grade-2-storytime/2026-03-18/
CATEGORIES:Children
ATTACH;FMTTYPE=image/png:https://www.mamaronecklibrary.org/wp-content/uploads/2026/01/MarchApril-Preschool-Storytime-Flyer.png
END:VEVENT
BEGIN:VEVENT
DTSTART;TZID=America/New_York:20260319T153000
DTEND;TZID=America/New_York:20260319T170000
DTSTAMP:20260424T052024
CREATED:20260129T171848Z
LAST-MODIFIED:20260331T195013Z
UID:10009043-1773934200-1773939600@www.mamaronecklibrary.org
SUMMARY:Open Play Date & Free Play!
DESCRIPTION:
URL:https://www.mamaronecklibrary.org/events/open-play-date-free-play-3/2026-03-19/
CATEGORIES:Children
ATTACH;FMTTYPE=image/png:https://www.mamaronecklibrary.org/wp-content/uploads/2026/01/OpenPlay-.png
END:VEVENT
BEGIN:VEVENT
DTSTART;TZID=America/New_York:20260320T100000
DTEND;TZID=America/New_York:20260320T160000
DTSTAMP:20260424T052024
CREATED:20250519T204327Z
LAST-MODIFIED:20250604T131652Z
UID:10007987-1774000800-1774022400@www.mamaronecklibrary.org
SUMMARY:Drop-In Craft
DESCRIPTION:
URL:https://www.mamaronecklibrary.org/events/drop-in-craft/2026-03-20/
CATEGORIES:Children
ATTACH;FMTTYPE=image/png:https://www.mamaronecklibrary.org/wp-content/uploads/2025/05/Drop-In-Craft_MPL.png
END:VEVENT
BEGIN:VEVENT
DTSTART;TZID=America/New_York:20260324T110000
DTEND;TZID=America/New_York:20260324T113000
DTSTAMP:20260424T052024
CREATED:20251219T170116Z
LAST-MODIFIED:20251219T170116Z
UID:10008873-1774350000-1774351800@www.mamaronecklibrary.org
SUMMARY:BabyTime with Beverley
DESCRIPTION:
URL:https://www.mamaronecklibrary.org/events/babytime-with-beverley-5/2026-03-24/
CATEGORIES:Children
ATTACH;FMTTYPE=image/png:https://www.mamaronecklibrary.org/wp-content/uploads/2025/12/BabyTime-1.png
END:VEVENT
BEGIN:VEVENT
DTSTART;TZID=America/New_York:20260325T110000
DTEND;TZID=America/New_York:20260325T113000
DTSTAMP:20260424T052024
CREATED:20260129T171704Z
LAST-MODIFIED:20260129T171712Z
UID:10009038-1774436400-1774438200@www.mamaronecklibrary.org
SUMMARY:Toddler Time!
DESCRIPTION:
URL:https://www.mamaronecklibrary.org/events/toddler-time-11/2026-03-25/
CATEGORIES:Children
ATTACH;FMTTYPE=image/png:https://www.mamaronecklibrary.org/wp-content/uploads/2026/01/Toddler-Time-1.png
END:VEVENT
BEGIN:VEVENT
DTSTART;TZID=America/New_York:20260325T154500
DTEND;TZID=America/New_York:20260325T161500
DTSTAMP:20260424T052024
CREATED:20260105T180152Z
LAST-MODIFIED:20260105T180152Z
UID:10008976-1774453500-1774455300@www.mamaronecklibrary.org
SUMMARY:Preschool - Grade 2 Storytime!
DESCRIPTION:
URL:https://www.mamaronecklibrary.org/events/preschool-grade-2-storytime/2026-03-25/
CATEGORIES:Children
ATTACH;FMTTYPE=image/png:https://www.mamaronecklibrary.org/wp-content/uploads/2026/01/MarchApril-Preschool-Storytime-Flyer.png
END:VEVENT
BEGIN:VEVENT
DTSTART;TZID=America/New_York:20260326T113000
DTEND;TZID=America/New_York:20260326T120000
DTSTAMP:20260424T052024
CREATED:20260224T203745Z
LAST-MODIFIED:20260316T201127Z
UID:10009180-1774524600-1774526400@www.mamaronecklibrary.org
SUMMARY:Pre-Ballet
DESCRIPTION:To register\, please click here.
URL:https://www.mamaronecklibrary.org/events/pre-ballet-2/
CATEGORIES:Children
ATTACH;FMTTYPE=image/png:https://www.mamaronecklibrary.org/wp-content/uploads/2026/02/ballet-1.png
END:VEVENT
BEGIN:VEVENT
DTSTART;TZID=America/New_York:20260326T153000
DTEND;TZID=America/New_York:20260326T170000
DTSTAMP:20260424T052024
CREATED:20260129T171848Z
LAST-MODIFIED:20260331T195013Z
UID:10009044-1774539000-1774544400@www.mamaronecklibrary.org
SUMMARY:Open Play Date & Free Play!
DESCRIPTION:
URL:https://www.mamaronecklibrary.org/events/open-play-date-free-play-3/2026-03-26/
CATEGORIES:Children
ATTACH;FMTTYPE=image/png:https://www.mamaronecklibrary.org/wp-content/uploads/2026/01/OpenPlay-.png
END:VEVENT
BEGIN:VEVENT
DTSTART;TZID=America/New_York:20260327T100000
DTEND;TZID=America/New_York:20260327T160000
DTSTAMP:20260424T052024
CREATED:20250519T204327Z
LAST-MODIFIED:20250604T131652Z
UID:10007988-1774605600-1774627200@www.mamaronecklibrary.org
SUMMARY:Drop-In Craft
DESCRIPTION:
URL:https://www.mamaronecklibrary.org/events/drop-in-craft/2026-03-27/
CATEGORIES:Children
ATTACH;FMTTYPE=image/png:https://www.mamaronecklibrary.org/wp-content/uploads/2025/05/Drop-In-Craft_MPL.png
END:VEVENT
BEGIN:VEVENT
DTSTART;TZID=America/New_York:20260331T110000
DTEND;TZID=America/New_York:20260331T113000
DTSTAMP:20260424T052024
CREATED:20251219T170116Z
LAST-MODIFIED:20251219T170116Z
UID:10008874-1774954800-1774956600@www.mamaronecklibrary.org
SUMMARY:BabyTime with Beverley
DESCRIPTION:
URL:https://www.mamaronecklibrary.org/events/babytime-with-beverley-5/2026-03-31/
CATEGORIES:Children
ATTACH;FMTTYPE=image/png:https://www.mamaronecklibrary.org/wp-content/uploads/2025/12/BabyTime-1.png
END:VEVENT
BEGIN:VEVENT
DTSTART;TZID=America/New_York:20260401T110000
DTEND;TZID=America/New_York:20260401T113000
DTSTAMP:20260424T052024
CREATED:20260129T171704Z
LAST-MODIFIED:20260129T171712Z
UID:10009039-1775041200-1775043000@www.mamaronecklibrary.org
SUMMARY:Toddler Time!
DESCRIPTION:
URL:https://www.mamaronecklibrary.org/events/toddler-time-11/2026-04-01/
CATEGORIES:Children
ATTACH;FMTTYPE=image/png:https://www.mamaronecklibrary.org/wp-content/uploads/2026/01/Toddler-Time-1.png
END:VEVENT
BEGIN:VEVENT
DTSTART;TZID=America/New_York:20260401T154500
DTEND;TZID=America/New_York:20260401T161500
DTSTAMP:20260424T052024
CREATED:20260105T180152Z
LAST-MODIFIED:20260105T180152Z
UID:10008977-1775058300-1775060100@www.mamaronecklibrary.org
SUMMARY:Preschool - Grade 2 Storytime!
DESCRIPTION:
URL:https://www.mamaronecklibrary.org/events/preschool-grade-2-storytime/2026-04-01/
CATEGORIES:Children
ATTACH;FMTTYPE=image/png:https://www.mamaronecklibrary.org/wp-content/uploads/2026/01/MarchApril-Preschool-Storytime-Flyer.png
END:VEVENT
BEGIN:VEVENT
DTSTART;TZID=America/New_York:20260403T100000
DTEND;TZID=America/New_York:20260403T160000
DTSTAMP:20260424T052024
CREATED:20250519T204327Z
LAST-MODIFIED:20250604T131652Z
UID:10007989-1775210400-1775232000@www.mamaronecklibrary.org
SUMMARY:Drop-In Craft
DESCRIPTION:
URL:https://www.mamaronecklibrary.org/events/drop-in-craft/2026-04-03/
CATEGORIES:Children
ATTACH;FMTTYPE=image/png:https://www.mamaronecklibrary.org/wp-content/uploads/2025/05/Drop-In-Craft_MPL.png
END:VEVENT
BEGIN:VEVENT
DTSTART;TZID=America/New_York:20260404T140000
DTEND;TZID=America/New_York:20260404T150000
DTSTAMP:20260424T052024
CREATED:20260304T141446Z
LAST-MODIFIED:20260304T141446Z
UID:10009237-1775311200-1775314800@www.mamaronecklibrary.org
SUMMARY:Super Duper Super Heroes!
DESCRIPTION:To register\, please click here.
URL:https://www.mamaronecklibrary.org/events/super-duper-super-heroes/
CATEGORIES:Children
ATTACH;FMTTYPE=image/png:https://www.mamaronecklibrary.org/wp-content/uploads/2026/03/Lucky-Duck-.png
END:VEVENT
BEGIN:VEVENT
DTSTART;TZID=America/New_York:20260406T153000
DTEND;TZID=America/New_York:20260406T163000
DTSTAMP:20260424T052024
CREATED:20260102T190042Z
LAST-MODIFIED:20260102T190042Z
UID:10008970-1775489400-1775493000@www.mamaronecklibrary.org
SUMMARY:Read to Mr. Pickles
DESCRIPTION:To Register\, please click here.
URL:https://www.mamaronecklibrary.org/events/read-to-mr-pickles-2/2026-04-06/
CATEGORIES:Children
ATTACH;FMTTYPE=image/png:https://www.mamaronecklibrary.org/wp-content/uploads/2025/12/MrPickles.png
END:VEVENT
BEGIN:VEVENT
DTSTART;TZID=America/New_York:20260406T190000
DTEND;TZID=America/New_York:20260406T203000
DTSTAMP:20260424T052024
CREATED:20260106T201741Z
LAST-MODIFIED:20260306T150638Z
UID:10008991-1775502000-1775507400@www.mamaronecklibrary.org
SUMMARY:Destination College Series (Virtual Program)
DESCRIPTION:To Register\, please click here or call 914-422-1400
URL:https://www.mamaronecklibrary.org/events/destination-college-series/2026-04-06/
CATEGORIES:Children
ATTACH;FMTTYPE=image/png:https://www.mamaronecklibrary.org/wp-content/uploads/2026/01/Destination-College.png
END:VEVENT
BEGIN:VEVENT
DTSTART;TZID=America/New_York:20260407T110000
DTEND;TZID=America/New_York:20260407T113000
DTSTAMP:20260424T052024
CREATED:20251219T170116Z
LAST-MODIFIED:20251219T170116Z
UID:10008875-1775559600-1775561400@www.mamaronecklibrary.org
SUMMARY:BabyTime with Beverley
DESCRIPTION:
URL:https://www.mamaronecklibrary.org/events/babytime-with-beverley-5/2026-04-07/
CATEGORIES:Children
ATTACH;FMTTYPE=image/png:https://www.mamaronecklibrary.org/wp-content/uploads/2025/12/BabyTime-1.png
END:VEVENT
BEGIN:VEVENT
DTSTART;TZID=America/New_York:20260408T110000
DTEND;TZID=America/New_York:20260408T113000
DTSTAMP:20260424T052024
CREATED:20260129T171704Z
LAST-MODIFIED:20260129T171712Z
UID:10009040-1775646000-1775647800@www.mamaronecklibrary.org
SUMMARY:Toddler Time!
DESCRIPTION:
URL:https://www.mamaronecklibrary.org/events/toddler-time-11/2026-04-08/
CATEGORIES:Children
ATTACH;FMTTYPE=image/png:https://www.mamaronecklibrary.org/wp-content/uploads/2026/01/Toddler-Time-1.png
END:VEVENT
BEGIN:VEVENT
DTSTART;TZID=America/New_York:20260408T154500
DTEND;TZID=America/New_York:20260408T161500
DTSTAMP:20260424T052024
CREATED:20260105T180152Z
LAST-MODIFIED:20260105T180152Z
UID:10008978-1775663100-1775664900@www.mamaronecklibrary.org
SUMMARY:Preschool - Grade 2 Storytime!
DESCRIPTION:
URL:https://www.mamaronecklibrary.org/events/preschool-grade-2-storytime/2026-04-08/
CATEGORIES:Children
ATTACH;FMTTYPE=image/png:https://www.mamaronecklibrary.org/wp-content/uploads/2026/01/MarchApril-Preschool-Storytime-Flyer.png
END:VEVENT
BEGIN:VEVENT
DTSTART;TZID=America/New_York:20260409T153000
DTEND;TZID=America/New_York:20260409T170000
DTSTAMP:20260424T052024
CREATED:20260129T171848Z
LAST-MODIFIED:20260331T195013Z
UID:10009046-1775748600-1775754000@www.mamaronecklibrary.org
SUMMARY:Open Play Date & Free Play!
DESCRIPTION:
URL:https://www.mamaronecklibrary.org/events/open-play-date-free-play-3/2026-04-09/
CATEGORIES:Children
ATTACH;FMTTYPE=image/png:https://www.mamaronecklibrary.org/wp-content/uploads/2026/01/OpenPlay-.png
END:VEVENT
BEGIN:VEVENT
DTSTART;TZID=America/New_York:20260410T100000
DTEND;TZID=America/New_York:20260410T160000
DTSTAMP:20260424T052024
CREATED:20250519T204327Z
LAST-MODIFIED:20250604T131652Z
UID:10007990-1775815200-1775836800@www.mamaronecklibrary.org
SUMMARY:Drop-In Craft
DESCRIPTION:
URL:https://www.mamaronecklibrary.org/events/drop-in-craft/2026-04-10/
CATEGORIES:Children
ATTACH;FMTTYPE=image/png:https://www.mamaronecklibrary.org/wp-content/uploads/2025/05/Drop-In-Craft_MPL.png
END:VEVENT
BEGIN:VEVENT
DTSTART;TZID=America/New_York:20260414T110000
DTEND;TZID=America/New_York:20260414T113000
DTSTAMP:20260424T052024
CREATED:20251219T170116Z
LAST-MODIFIED:20251219T170116Z
UID:10008876-1776164400-1776166200@www.mamaronecklibrary.org
SUMMARY:BabyTime with Beverley
DESCRIPTION:
URL:https://www.mamaronecklibrary.org/events/babytime-with-beverley-5/2026-04-14/
CATEGORIES:Children
ATTACH;FMTTYPE=image/png:https://www.mamaronecklibrary.org/wp-content/uploads/2025/12/BabyTime-1.png
END:VEVENT
BEGIN:VEVENT
DTSTART;TZID=America/New_York:20260415T110000
DTEND;TZID=America/New_York:20260415T113000
DTSTAMP:20260424T052024
CREATED:20260129T171704Z
LAST-MODIFIED:20260129T171712Z
UID:10009041-1776250800-1776252600@www.mamaronecklibrary.org
SUMMARY:Toddler Time!
DESCRIPTION:
URL:https://www.mamaronecklibrary.org/events/toddler-time-11/2026-04-15/
CATEGORIES:Children
ATTACH;FMTTYPE=image/png:https://www.mamaronecklibrary.org/wp-content/uploads/2026/01/Toddler-Time-1.png
END:VEVENT
END:VCALENDAR