BEGIN:VCALENDAR
VERSION:2.0
PRODID:-//Mamaroneck Public Library - ECPv6.15.12.2//NONSGML v1.0//EN
CALSCALE:GREGORIAN
METHOD:PUBLISH
X-ORIGINAL-URL:https://www.mamaronecklibrary.org
X-WR-CALDESC:Events for Mamaroneck Public Library
REFRESH-INTERVAL;VALUE=DURATION:PT1H
X-Robots-Tag:noindex
X-PUBLISHED-TTL:PT1H
BEGIN:VTIMEZONE
TZID:America/New_York
BEGIN:DAYLIGHT
TZOFFSETFROM:-0500
TZOFFSETTO:-0400
TZNAME:EDT
DTSTART:20240310T070000
END:DAYLIGHT
BEGIN:STANDARD
TZOFFSETFROM:-0400
TZOFFSETTO:-0500
TZNAME:EST
DTSTART:20241103T060000
END:STANDARD
BEGIN:DAYLIGHT
TZOFFSETFROM:-0500
TZOFFSETTO:-0400
TZNAME:EDT
DTSTART:20250309T070000
END:DAYLIGHT
BEGIN:STANDARD
TZOFFSETFROM:-0400
TZOFFSETTO:-0500
TZNAME:EST
DTSTART:20251102T060000
END:STANDARD
BEGIN:DAYLIGHT
TZOFFSETFROM:-0500
TZOFFSETTO:-0400
TZNAME:EDT
DTSTART:20260308T070000
END:DAYLIGHT
BEGIN:STANDARD
TZOFFSETFROM:-0400
TZOFFSETTO:-0500
TZNAME:EST
DTSTART:20261101T060000
END:STANDARD
END:VTIMEZONE
BEGIN:VEVENT
DTSTART;TZID=America/New_York:20250528T153000
DTEND;TZID=America/New_York:20250528T171500
DTSTAMP:20260421T001730
CREATED:20250404T171936Z
LAST-MODIFIED:20250404T171936Z
UID:10007678-1748446200-1748452500@www.mamaronecklibrary.org
SUMMARY:Lego Wednesday Club
DESCRIPTION:  \nTo  register\, please click here.
URL:https://www.mamaronecklibrary.org/events/lego-wednesday-club/2025-05-28/
CATEGORIES:Children
ATTACH;FMTTYPE=image/png:https://www.mamaronecklibrary.org/wp-content/uploads/2025/04/Lego-Wednesays-Club.png
END:VEVENT
BEGIN:VEVENT
DTSTART;TZID=America/New_York:20250530T100000
DTEND;TZID=America/New_York:20250530T120000
DTSTAMP:20260421T001730
CREATED:20250509T191926Z
LAST-MODIFIED:20250513T134932Z
UID:10007717-1748599200-1748606400@www.mamaronecklibrary.org
SUMMARY:Teens "N" Seniors Tech Help
DESCRIPTION:  \nTo register\, please click here.
URL:https://www.mamaronecklibrary.org/events/teen-n-seniors-tech-help/2025-05-30/
CATEGORIES:Children
ATTACH;FMTTYPE=image/png:https://www.mamaronecklibrary.org/wp-content/uploads/2025/05/Teens-N-Seniors-1.png
END:VEVENT
BEGIN:VEVENT
DTSTART;TZID=America/New_York:20250530T100000
DTEND;TZID=America/New_York:20250530T160000
DTSTAMP:20260421T001730
CREATED:20250519T204327Z
LAST-MODIFIED:20250604T131652Z
UID:10007945-1748599200-1748620800@www.mamaronecklibrary.org
SUMMARY:Drop-In Craft
DESCRIPTION:
URL:https://www.mamaronecklibrary.org/events/drop-in-craft/2025-05-30/
CATEGORIES:Children
ATTACH;FMTTYPE=image/png:https://www.mamaronecklibrary.org/wp-content/uploads/2025/05/Drop-In-Craft_MPL.png
END:VEVENT
BEGIN:VEVENT
DTSTART;TZID=America/New_York:20250602T100000
DTEND;TZID=America/New_York:20250602T120000
DTSTAMP:20260421T001730
CREATED:20250509T191926Z
LAST-MODIFIED:20250513T134932Z
UID:10007718-1748858400-1748865600@www.mamaronecklibrary.org
SUMMARY:Teens "N" Seniors Tech Help
DESCRIPTION:  \nTo register\, please click here.
URL:https://www.mamaronecklibrary.org/events/teen-n-seniors-tech-help/2025-06-02/
CATEGORIES:Children
ATTACH;FMTTYPE=image/png:https://www.mamaronecklibrary.org/wp-content/uploads/2025/05/Teens-N-Seniors-1.png
END:VEVENT
BEGIN:VEVENT
DTSTART;TZID=America/New_York:20250602T180000
DTEND;TZID=America/New_York:20250602T190000
DTSTAMP:20260421T001730
CREATED:20250505T131925Z
LAST-MODIFIED:20250505T131925Z
UID:10007709-1748887200-1748890800@www.mamaronecklibrary.org
SUMMARY:Stuffed Animal Sleepover
DESCRIPTION:  \nTo register\, please click here.
URL:https://www.mamaronecklibrary.org/events/stuffed-animal-sleepover/
CATEGORIES:Children
ATTACH;FMTTYPE=image/png:https://www.mamaronecklibrary.org/wp-content/uploads/2025/05/Stuffed-Animal-Sleepover-MPL-FINAL.png
END:VEVENT
BEGIN:VEVENT
DTSTART;TZID=America/New_York:20250603T130000
DTEND;TZID=America/New_York:20250603T140000
DTSTAMP:20260421T001730
CREATED:20250509T192054Z
LAST-MODIFIED:20250513T134640Z
UID:10007827-1748955600-1748959200@www.mamaronecklibrary.org
SUMMARY:Teens "N" Seniors Tech Help
DESCRIPTION:  \nTo register\, please click here.
URL:https://www.mamaronecklibrary.org/events/teens-n-seniors-tech-help/2025-06-03/
CATEGORIES:Children
ATTACH;FMTTYPE=image/png:https://www.mamaronecklibrary.org/wp-content/uploads/2025/05/Teens-N-Seniors-1.png
END:VEVENT
BEGIN:VEVENT
DTSTART;TZID=America/New_York:20250606T100000
DTEND;TZID=America/New_York:20250606T120000
DTSTAMP:20260421T001730
CREATED:20250509T191926Z
LAST-MODIFIED:20250513T134932Z
UID:10007719-1749204000-1749211200@www.mamaronecklibrary.org
SUMMARY:Teens "N" Seniors Tech Help
DESCRIPTION:  \nTo register\, please click here.
URL:https://www.mamaronecklibrary.org/events/teen-n-seniors-tech-help/2025-06-06/
CATEGORIES:Children
ATTACH;FMTTYPE=image/png:https://www.mamaronecklibrary.org/wp-content/uploads/2025/05/Teens-N-Seniors-1.png
END:VEVENT
BEGIN:VEVENT
DTSTART;TZID=America/New_York:20250606T100000
DTEND;TZID=America/New_York:20250606T160000
DTSTAMP:20260421T001730
CREATED:20250519T204327Z
LAST-MODIFIED:20250604T131652Z
UID:10007946-1749204000-1749225600@www.mamaronecklibrary.org
SUMMARY:Drop-In Craft
DESCRIPTION:
URL:https://www.mamaronecklibrary.org/events/drop-in-craft/2025-06-06/
CATEGORIES:Children
ATTACH;FMTTYPE=image/png:https://www.mamaronecklibrary.org/wp-content/uploads/2025/05/Drop-In-Craft_MPL.png
END:VEVENT
BEGIN:VEVENT
DTSTART;TZID=America/New_York:20250611T110000
DTEND;TZID=America/New_York:20250611T113000
DTSTAMP:20260421T001730
CREATED:20250529T133618Z
LAST-MODIFIED:20250529T133618Z
UID:10008004-1749639600-1749641400@www.mamaronecklibrary.org
SUMMARY:All About Dental Health
DESCRIPTION:  \nTo register\, please click here.
URL:https://www.mamaronecklibrary.org/events/all-about-dental-health-2/
CATEGORIES:Children
ATTACH;FMTTYPE=image/png:https://www.mamaronecklibrary.org/wp-content/uploads/2025/05/Flyer-for-Dental-Health-8-5.png
END:VEVENT
BEGIN:VEVENT
DTSTART;TZID=America/New_York:20250613T100000
DTEND;TZID=America/New_York:20250613T160000
DTSTAMP:20260421T001730
CREATED:20250519T204327Z
LAST-MODIFIED:20250604T131652Z
UID:10007947-1749808800-1749830400@www.mamaronecklibrary.org
SUMMARY:Drop-In Craft
DESCRIPTION:
URL:https://www.mamaronecklibrary.org/events/drop-in-craft/2025-06-13/
CATEGORIES:Children
ATTACH;FMTTYPE=image/png:https://www.mamaronecklibrary.org/wp-content/uploads/2025/05/Drop-In-Craft_MPL.png
END:VEVENT
BEGIN:VEVENT
DTSTART;TZID=America/New_York:20250618T113000
DTEND;TZID=America/New_York:20250618T121500
DTSTAMP:20260421T001730
CREATED:20250529T161735Z
LAST-MODIFIED:20250529T161735Z
UID:10008005-1750246200-1750248900@www.mamaronecklibrary.org
SUMMARY:Little Harmoninas
DESCRIPTION:
URL:https://www.mamaronecklibrary.org/events/little-harmoninas/
CATEGORIES:Children
ATTACH;FMTTYPE=image/png:https://www.mamaronecklibrary.org/wp-content/uploads/2025/05/Little-Harmoninas-MPL.png
END:VEVENT
BEGIN:VEVENT
DTSTART;TZID=America/New_York:20250620T100000
DTEND;TZID=America/New_York:20250620T160000
DTSTAMP:20260421T001730
CREATED:20250519T204327Z
LAST-MODIFIED:20250604T131652Z
UID:10007948-1750413600-1750435200@www.mamaronecklibrary.org
SUMMARY:Drop-In Craft
DESCRIPTION:
URL:https://www.mamaronecklibrary.org/events/drop-in-craft/2025-06-20/
CATEGORIES:Children
ATTACH;FMTTYPE=image/png:https://www.mamaronecklibrary.org/wp-content/uploads/2025/05/Drop-In-Craft_MPL.png
END:VEVENT
BEGIN:VEVENT
DTSTART;TZID=America/New_York:20250625T110000
DTEND;TZID=America/New_York:20250625T113000
DTSTAMP:20260421T001730
CREATED:20250306T205331Z
LAST-MODIFIED:20250717T125642Z
UID:10007422-1750849200-1750851000@www.mamaronecklibrary.org
SUMMARY:Toddler Time
DESCRIPTION:
URL:https://www.mamaronecklibrary.org/events/toddler-time-8/2025-06-25/
CATEGORIES:Children
ATTACH;FMTTYPE=image/png:https://www.mamaronecklibrary.org/wp-content/uploads/2025/03/Toddler-Time-Flyer-generic.png
END:VEVENT
BEGIN:VEVENT
DTSTART;TZID=America/New_York:20250625T110000
DTEND;TZID=America/New_York:20250625T120000
DTSTAMP:20260421T001730
CREATED:20250605T135111Z
LAST-MODIFIED:20250605T135111Z
UID:10008011-1750849200-1750852800@www.mamaronecklibrary.org
SUMMARY:LMC Kids Screening
DESCRIPTION:
URL:https://www.mamaronecklibrary.org/events/lmc-kids-screening/
CATEGORIES:Children
ATTACH;FMTTYPE=image/jpeg:https://www.mamaronecklibrary.org/wp-content/uploads/2025/06/Mamk-Screening-Flyer-revised-scaled.jpg
END:VEVENT
BEGIN:VEVENT
DTSTART;TZID=America/New_York:20250627T100000
DTEND;TZID=America/New_York:20250627T160000
DTSTAMP:20260421T001730
CREATED:20250519T204327Z
LAST-MODIFIED:20250604T131652Z
UID:10007949-1751018400-1751040000@www.mamaronecklibrary.org
SUMMARY:Drop-In Craft
DESCRIPTION:
URL:https://www.mamaronecklibrary.org/events/drop-in-craft/2025-06-27/
CATEGORIES:Children
ATTACH;FMTTYPE=image/png:https://www.mamaronecklibrary.org/wp-content/uploads/2025/05/Drop-In-Craft_MPL.png
END:VEVENT
BEGIN:VEVENT
DTSTART;TZID=America/New_York:20250627T130000
DTEND;TZID=America/New_York:20250627T153000
DTSTAMP:20260421T001730
CREATED:20250513T151638Z
LAST-MODIFIED:20250514T134310Z
UID:10007942-1751029200-1751038200@www.mamaronecklibrary.org
SUMMARY:Summer Reading Kickoff!
DESCRIPTION:To Register\, please click here.
URL:https://www.mamaronecklibrary.org/events/summer-reading-kickoff/
CATEGORIES:Children
ATTACH;FMTTYPE=image/png:https://www.mamaronecklibrary.org/wp-content/uploads/2025/05/SRPKickoff-2.png
END:VEVENT
BEGIN:VEVENT
DTSTART;TZID=America/New_York:20250707T160000
DTEND;TZID=America/New_York:20250707T180000
DTSTAMP:20260421T001730
CREATED:20250703T192635Z
LAST-MODIFIED:20250703T192635Z
UID:10008070-1751904000-1751911200@www.mamaronecklibrary.org
SUMMARY:Movie Matinee for Families
DESCRIPTION:
URL:https://www.mamaronecklibrary.org/events/movie-matinee-for-families/2025-07-07/
CATEGORIES:Children
ATTACH;FMTTYPE=image/png:https://www.mamaronecklibrary.org/wp-content/uploads/2025/07/Movie-Matinee-2-1.png
END:VEVENT
BEGIN:VEVENT
DTSTART;TZID=America/New_York:20250709T110000
DTEND;TZID=America/New_York:20250709T113000
DTSTAMP:20260421T001730
CREATED:20250306T205331Z
LAST-MODIFIED:20250717T125642Z
UID:10007423-1752058800-1752060600@www.mamaronecklibrary.org
SUMMARY:Toddler Time
DESCRIPTION:
URL:https://www.mamaronecklibrary.org/events/toddler-time-8/2025-07-09/
CATEGORIES:Children
ATTACH;FMTTYPE=image/png:https://www.mamaronecklibrary.org/wp-content/uploads/2025/03/Toddler-Time-Flyer-generic.png
END:VEVENT
BEGIN:VEVENT
DTSTART;TZID=America/New_York:20250710T160000
DTEND;TZID=America/New_York:20250710T170000
DTSTAMP:20260421T001730
CREATED:20250620T151528Z
LAST-MODIFIED:20250620T151528Z
UID:10008059-1752163200-1752166800@www.mamaronecklibrary.org
SUMMARY:Paint Chip Poetry!
DESCRIPTION:  \nTo register\, please click here.
URL:https://www.mamaronecklibrary.org/events/paint-chip-poetry-2/
CATEGORIES:Children
ATTACH;FMTTYPE=image/png:https://www.mamaronecklibrary.org/wp-content/uploads/2025/06/Copy-of-poetry-flyer-14-1.png
END:VEVENT
BEGIN:VEVENT
DTSTART;TZID=America/New_York:20250711T100000
DTEND;TZID=America/New_York:20250711T160000
DTSTAMP:20260421T001730
CREATED:20250519T204327Z
LAST-MODIFIED:20250604T131652Z
UID:10007951-1752228000-1752249600@www.mamaronecklibrary.org
SUMMARY:Drop-In Craft
DESCRIPTION:
URL:https://www.mamaronecklibrary.org/events/drop-in-craft/2025-07-11/
CATEGORIES:Children
ATTACH;FMTTYPE=image/png:https://www.mamaronecklibrary.org/wp-content/uploads/2025/05/Drop-In-Craft_MPL.png
END:VEVENT
BEGIN:VEVENT
DTSTART;TZID=America/New_York:20250714T160000
DTEND;TZID=America/New_York:20250714T170000
DTSTAMP:20260421T001730
CREATED:20250620T151724Z
LAST-MODIFIED:20250620T151724Z
UID:10008061-1752508800-1752512400@www.mamaronecklibrary.org
SUMMARY:Tie Dye for Tweens
DESCRIPTION:  \nTo register\, please click here.
URL:https://www.mamaronecklibrary.org/events/tie-dye-for-tweens/
CATEGORIES:Children
ATTACH;FMTTYPE=image/png:https://www.mamaronecklibrary.org/wp-content/uploads/2025/06/Tie-Dye-for-Tweens-.png
END:VEVENT
BEGIN:VEVENT
DTSTART;TZID=America/New_York:20250715T160000
DTEND;TZID=America/New_York:20250715T170000
DTSTAMP:20260421T001730
CREATED:20250630T193942Z
LAST-MODIFIED:20250630T193942Z
UID:10008068-1752595200-1752598800@www.mamaronecklibrary.org
SUMMARY:3D-Printing (3rd-6th Graders)
DESCRIPTION:  \nTo register\, please click here.
URL:https://www.mamaronecklibrary.org/events/3d-printing-3rd-6th-graders/
CATEGORIES:Children
ATTACH;FMTTYPE=image/png:https://www.mamaronecklibrary.org/wp-content/uploads/2025/06/3D-prinitng-class.png
END:VEVENT
BEGIN:VEVENT
DTSTART;TZID=America/New_York:20250716T110000
DTEND;TZID=America/New_York:20250716T113000
DTSTAMP:20260421T001730
CREATED:20250306T205331Z
LAST-MODIFIED:20250717T125642Z
UID:10007424-1752663600-1752665400@www.mamaronecklibrary.org
SUMMARY:Toddler Time
DESCRIPTION:
URL:https://www.mamaronecklibrary.org/events/toddler-time-8/2025-07-16/
CATEGORIES:Children
ATTACH;FMTTYPE=image/png:https://www.mamaronecklibrary.org/wp-content/uploads/2025/03/Toddler-Time-Flyer-generic.png
END:VEVENT
BEGIN:VEVENT
DTSTART;TZID=America/New_York:20250717T160000
DTEND;TZID=America/New_York:20250717T173000
DTSTAMP:20260421T001730
CREATED:20250703T192635Z
LAST-MODIFIED:20250703T192635Z
UID:10008071-1752768000-1752773400@www.mamaronecklibrary.org
SUMMARY:Movie Matinee for Families
DESCRIPTION:
URL:https://www.mamaronecklibrary.org/events/movie-matinee-for-families/2025-07-17/
CATEGORIES:Children
ATTACH;FMTTYPE=image/png:https://www.mamaronecklibrary.org/wp-content/uploads/2025/07/Movie-Matinee-2-1.png
END:VEVENT
BEGIN:VEVENT
DTSTART;TZID=America/New_York:20250718T100000
DTEND;TZID=America/New_York:20250718T160000
DTSTAMP:20260421T001730
CREATED:20250519T204327Z
LAST-MODIFIED:20250604T131652Z
UID:10007952-1752832800-1752854400@www.mamaronecklibrary.org
SUMMARY:Drop-In Craft
DESCRIPTION:
URL:https://www.mamaronecklibrary.org/events/drop-in-craft/2025-07-18/
CATEGORIES:Children
ATTACH;FMTTYPE=image/png:https://www.mamaronecklibrary.org/wp-content/uploads/2025/05/Drop-In-Craft_MPL.png
END:VEVENT
BEGIN:VEVENT
DTSTART;TZID=America/New_York:20250718T160000
DTEND;TZID=America/New_York:20250718T170000
DTSTAMP:20260421T001730
CREATED:20250620T151432Z
LAST-MODIFIED:20250620T151432Z
UID:10008058-1752854400-1752858000@www.mamaronecklibrary.org
SUMMARY:Read to Therapy Dog Milo!
DESCRIPTION:  \nTo register\, please click here.
URL:https://www.mamaronecklibrary.org/events/read-to-therapy-dog-milo-4/
CATEGORIES:Children
ATTACH;FMTTYPE=image/png:https://www.mamaronecklibrary.org/wp-content/uploads/2025/06/Therapy-Dog-Milo-8.png
END:VEVENT
BEGIN:VEVENT
DTSTART;TZID=America/New_York:20250721T160000
DTEND;TZID=America/New_York:20250721T170000
DTSTAMP:20260421T001730
CREATED:20250620T151830Z
LAST-MODIFIED:20250620T151830Z
UID:10008062-1753113600-1753117200@www.mamaronecklibrary.org
SUMMARY:Summer Bracelet Making for Tweens
DESCRIPTION:  \nTo register\, please click here.
URL:https://www.mamaronecklibrary.org/events/summer-bracelet-making-for-tweens/
CATEGORIES:Children
ATTACH;FMTTYPE=image/png:https://www.mamaronecklibrary.org/wp-content/uploads/2025/06/Summer-Bracelet-Making-Tweens.png
END:VEVENT
BEGIN:VEVENT
DTSTART;TZID=America/New_York:20250722T160000
DTEND;TZID=America/New_York:20250722T170000
DTSTAMP:20260421T001730
CREATED:20250708T200217Z
LAST-MODIFIED:20250708T200217Z
UID:10008073-1753200000-1753203600@www.mamaronecklibrary.org
SUMMARY:Colorful Bites\, Tasty Rainbow Delights!
DESCRIPTION:
URL:https://www.mamaronecklibrary.org/events/colorful-bites-tasty-rainbow-delights/
CATEGORIES:Children
ATTACH;FMTTYPE=image/png:https://www.mamaronecklibrary.org/wp-content/uploads/2025/07/Colorful-Bites-Tasty-Rainbow-Delights-3.png
END:VEVENT
BEGIN:VEVENT
DTSTART;TZID=America/New_York:20250723T110000
DTEND;TZID=America/New_York:20250723T113000
DTSTAMP:20260421T001730
CREATED:20250306T205331Z
LAST-MODIFIED:20250717T125642Z
UID:10007425-1753268400-1753270200@www.mamaronecklibrary.org
SUMMARY:Toddler Time
DESCRIPTION:
URL:https://www.mamaronecklibrary.org/events/toddler-time-8/2025-07-23/
CATEGORIES:Children
ATTACH;FMTTYPE=image/png:https://www.mamaronecklibrary.org/wp-content/uploads/2025/03/Toddler-Time-Flyer-generic.png
END:VEVENT
BEGIN:VEVENT
DTSTART;TZID=America/New_York:20250724T160000
DTEND;TZID=America/New_York:20250724T170000
DTSTAMP:20260421T001730
CREATED:20250703T192823Z
LAST-MODIFIED:20250703T192823Z
UID:10008072-1753372800-1753376400@www.mamaronecklibrary.org
SUMMARY:STEM Alliance: The Three Little Pigs
DESCRIPTION:  \nTo register\, please click here.
URL:https://www.mamaronecklibrary.org/events/stem-alliance-the-three-little-pigs/
CATEGORIES:Children
ATTACH;FMTTYPE=image/png:https://www.mamaronecklibrary.org/wp-content/uploads/2025/07/The-Three-Little-Pigs-Educational-Presentation-in-Blue-and-Red-Illustrative-Animation-Style-8.5-x-11-in.png
END:VEVENT
END:VCALENDAR