BEGIN:VCALENDAR
VERSION:2.0
PRODID:-//Mamaroneck Public Library - ECPv6.15.12.2//NONSGML v1.0//EN
CALSCALE:GREGORIAN
METHOD:PUBLISH
X-WR-CALNAME:Mamaroneck Public Library
X-ORIGINAL-URL:https://www.mamaronecklibrary.org
X-WR-CALDESC:Events for Mamaroneck Public Library
REFRESH-INTERVAL;VALUE=DURATION:PT1H
X-Robots-Tag:noindex
X-PUBLISHED-TTL:PT1H
BEGIN:VTIMEZONE
TZID:America/New_York
BEGIN:DAYLIGHT
TZOFFSETFROM:-0500
TZOFFSETTO:-0400
TZNAME:EDT
DTSTART:20240310T070000
END:DAYLIGHT
BEGIN:STANDARD
TZOFFSETFROM:-0400
TZOFFSETTO:-0500
TZNAME:EST
DTSTART:20241103T060000
END:STANDARD
BEGIN:DAYLIGHT
TZOFFSETFROM:-0500
TZOFFSETTO:-0400
TZNAME:EDT
DTSTART:20250309T070000
END:DAYLIGHT
BEGIN:STANDARD
TZOFFSETFROM:-0400
TZOFFSETTO:-0500
TZNAME:EST
DTSTART:20251102T060000
END:STANDARD
BEGIN:DAYLIGHT
TZOFFSETFROM:-0500
TZOFFSETTO:-0400
TZNAME:EDT
DTSTART:20260308T070000
END:DAYLIGHT
BEGIN:STANDARD
TZOFFSETFROM:-0400
TZOFFSETTO:-0500
TZNAME:EST
DTSTART:20261101T060000
END:STANDARD
END:VTIMEZONE
BEGIN:VEVENT
DTSTART;TZID=America/New_York:20250210T153000
DTEND;TZID=America/New_York:20250210T170000
DTSTAMP:20260423T075208
CREATED:20241008T164157Z
LAST-MODIFIED:20250314T182156Z
UID:10006236-1739201400-1739206800@www.mamaronecklibrary.org
SUMMARY:Homework Help
DESCRIPTION:
URL:https://www.mamaronecklibrary.org/events/homework-help/2025-02-10/
CATEGORIES:Children
ATTACH;FMTTYPE=image/png:https://www.mamaronecklibrary.org/wp-content/uploads/2024/10/Homework-help-revised-5.png
END:VEVENT
BEGIN:VEVENT
DTSTART;TZID=America/New_York:20250210T120000
DTEND;TZID=America/New_York:20250210T130000
DTSTAMP:20260423T075208
CREATED:20250103T210849Z
LAST-MODIFIED:20250113T143856Z
UID:10006720-1739188800-1739192400@www.mamaronecklibrary.org
SUMMARY:Westchester Breathes
DESCRIPTION:  \nFor more information\, please click here.
URL:https://www.mamaronecklibrary.org/events/westchester-breathes-2/2025-02-10/
CATEGORIES:Adult
ATTACH;FMTTYPE=image/jpeg:https://www.mamaronecklibrary.org/wp-content/uploads/2025/01/Westchester-Breathes-2025-page-0-scaled.jpg
END:VEVENT
BEGIN:VEVENT
DTSTART;TZID=America/New_York:20250210T100000
DTEND;TZID=America/New_York:20250210T143000
DTSTAMP:20260423T075208
CREATED:20250103T185211Z
LAST-MODIFIED:20250113T152114Z
UID:10006697-1739181600-1739197800@www.mamaronecklibrary.org
SUMMARY:FREE Tax Preparation (AARP Tax Aide)
DESCRIPTION:
URL:https://www.mamaronecklibrary.org/events/free-tax-preparation-aarp-tax-aide/2025-02-10/
CATEGORIES:Adult
ATTACH;FMTTYPE=image/png:https://www.mamaronecklibrary.org/wp-content/uploads/2025/01/AARPTaxHelp-1.png
END:VEVENT
BEGIN:VEVENT
DTSTART;VALUE=DATE:20250209
DTEND;VALUE=DATE:20250210
DTSTAMP:20260423T075208
CREATED:20240923T172851Z
LAST-MODIFIED:20240923T172851Z
UID:10005922-1739059200-1739145599@www.mamaronecklibrary.org
SUMMARY:CLOSED SUNDAYS
DESCRIPTION:
URL:https://www.mamaronecklibrary.org/events/closed-sundays/2025-02-09/
END:VEVENT
BEGIN:VEVENT
DTSTART;TZID=America/New_York:20250208T150000
DTEND;TZID=America/New_York:20250208T160000
DTSTAMP:20260423T075208
CREATED:20250123T160536Z
LAST-MODIFIED:20250123T160536Z
UID:10007231-1739026800-1739030400@www.mamaronecklibrary.org
SUMMARY:Book Bouquet Workshop with Alex
DESCRIPTION:To Register\, please click here.
URL:https://www.mamaronecklibrary.org/events/book-bouquet-workshop-with-alex/
CATEGORIES:Adult
ATTACH;FMTTYPE=image/png:https://www.mamaronecklibrary.org/wp-content/uploads/2025/01/BookBouquet.png
END:VEVENT
BEGIN:VEVENT
DTSTART;TZID=America/New_York:20250207T100000
DTEND;TZID=America/New_York:20250207T143000
DTSTAMP:20260423T075208
CREATED:20250103T185211Z
LAST-MODIFIED:20250113T152114Z
UID:10006696-1738922400-1738938600@www.mamaronecklibrary.org
SUMMARY:FREE Tax Preparation (AARP Tax Aide)
DESCRIPTION:
URL:https://www.mamaronecklibrary.org/events/free-tax-preparation-aarp-tax-aide/2025-02-07/
CATEGORIES:Adult
ATTACH;FMTTYPE=image/png:https://www.mamaronecklibrary.org/wp-content/uploads/2025/01/AARPTaxHelp-1.png
END:VEVENT
BEGIN:VEVENT
DTSTART;TZID=America/New_York:20250206T110000
DTEND;TZID=America/New_York:20250206T120000
DTSTAMP:20260423T075209
CREATED:20241216T172953Z
LAST-MODIFIED:20241216T172953Z
UID:10006639-1738839600-1738843200@www.mamaronecklibrary.org
SUMMARY:Gentle Yoga
DESCRIPTION:To Register\, please click here.
URL:https://www.mamaronecklibrary.org/events/gentle-yoga-3/2025-02-06/
CATEGORIES:Adult
ATTACH;FMTTYPE=image/png:https://www.mamaronecklibrary.org/wp-content/uploads/2024/12/Yoga.png
END:VEVENT
BEGIN:VEVENT
DTSTART;TZID=America/New_York:20250206T090000
DTEND;TZID=America/New_York:20250206T100000
DTSTAMP:20260423T075209
CREATED:20240904T172809Z
LAST-MODIFIED:20250305T155150Z
UID:10007294-1738832400-1738836000@www.mamaronecklibrary.org
SUMMARY:Mindfulness Meditation with Jane Meryll (via Zoom)
DESCRIPTION:  \n  \nTo register\, please click here.
URL:https://www.mamaronecklibrary.org/events/mindfulness-meditation-with-jane-meryll/2025-02-06/
CATEGORIES:All Ages
ATTACH;FMTTYPE=image/png:https://www.mamaronecklibrary.org/wp-content/uploads/2024/09/Mindfulness-4.png
END:VEVENT
BEGIN:VEVENT
DTSTART;TZID=America/New_York:20250205T110000
DTEND;TZID=America/New_York:20250205T113000
DTSTAMP:20260423T075209
CREATED:20250114T152537Z
LAST-MODIFIED:20250114T152537Z
UID:10007174-1738753200-1738755000@www.mamaronecklibrary.org
SUMMARY:Toddler Time
DESCRIPTION:  \nTo register\, please click here.
URL:https://www.mamaronecklibrary.org/events/toddler-time-7/
CATEGORIES:Children
ATTACH;FMTTYPE=image/png:https://www.mamaronecklibrary.org/wp-content/uploads/2025/01/Toddler-Time-252025-.png
END:VEVENT
BEGIN:VEVENT
DTSTART;TZID=America/New_York:20250204T190000
DTEND;TZID=America/New_York:20250204T200000
DTSTAMP:20260423T075209
CREATED:20241223T160730Z
LAST-MODIFIED:20250103T190507Z
UID:10006688-1738695600-1738699200@www.mamaronecklibrary.org
SUMMARY:Ayurveda for the Respiratory System (via Zoom)
DESCRIPTION:To Register\, please click here.
URL:https://www.mamaronecklibrary.org/events/ayurveda-for-the-respiratory-system-via-zoom/
CATEGORIES:Adult
ATTACH;FMTTYPE=image/png:https://www.mamaronecklibrary.org/wp-content/uploads/2024/12/Ayurveda-1.png
END:VEVENT
BEGIN:VEVENT
DTSTART;TZID=America/New_York:20250203T180000
DTEND;TZID=America/New_York:20250203T190000
DTSTAMP:20260423T075209
CREATED:20250115T165600Z
LAST-MODIFIED:20250129T191516Z
UID:10007176-1738605600-1738609200@www.mamaronecklibrary.org
SUMMARY:Tax Talk
DESCRIPTION:To Register\, please click here.
URL:https://www.mamaronecklibrary.org/events/tax-talk/
CATEGORIES:Adult
ATTACH;FMTTYPE=image/png:https://www.mamaronecklibrary.org/wp-content/uploads/2025/01/TaxTalk-1.png
END:VEVENT
BEGIN:VEVENT
DTSTART;TZID=America/New_York:20250203T153000
DTEND;TZID=America/New_York:20250203T170000
DTSTAMP:20260423T075209
CREATED:20241008T164157Z
LAST-MODIFIED:20250314T182156Z
UID:10006235-1738596600-1738602000@www.mamaronecklibrary.org
SUMMARY:Homework Help
DESCRIPTION:
URL:https://www.mamaronecklibrary.org/events/homework-help/2025-02-03/
CATEGORIES:Children
ATTACH;FMTTYPE=image/png:https://www.mamaronecklibrary.org/wp-content/uploads/2024/10/Homework-help-revised-5.png
END:VEVENT
BEGIN:VEVENT
DTSTART;TZID=America/New_York:20250203T120000
DTEND;TZID=America/New_York:20250203T130000
DTSTAMP:20260423T075209
CREATED:20250103T210849Z
LAST-MODIFIED:20250113T143856Z
UID:10006719-1738584000-1738587600@www.mamaronecklibrary.org
SUMMARY:Westchester Breathes
DESCRIPTION:  \nFor more information\, please click here.
URL:https://www.mamaronecklibrary.org/events/westchester-breathes-2/2025-02-03/
CATEGORIES:Adult
ATTACH;FMTTYPE=image/jpeg:https://www.mamaronecklibrary.org/wp-content/uploads/2025/01/Westchester-Breathes-2025-page-0-scaled.jpg
END:VEVENT
BEGIN:VEVENT
DTSTART;TZID=America/New_York:20250203T100000
DTEND;TZID=America/New_York:20250203T143000
DTSTAMP:20260423T075209
CREATED:20250103T185211Z
LAST-MODIFIED:20250113T152114Z
UID:10006695-1738576800-1738593000@www.mamaronecklibrary.org
SUMMARY:FREE Tax Preparation (AARP Tax Aide)
DESCRIPTION:
URL:https://www.mamaronecklibrary.org/events/free-tax-preparation-aarp-tax-aide/2025-02-03/
CATEGORIES:Adult
ATTACH;FMTTYPE=image/png:https://www.mamaronecklibrary.org/wp-content/uploads/2025/01/AARPTaxHelp-1.png
END:VEVENT
BEGIN:VEVENT
DTSTART;VALUE=DATE:20250202
DTEND;VALUE=DATE:20250203
DTSTAMP:20260423T075209
CREATED:20240923T172851Z
LAST-MODIFIED:20240923T172851Z
UID:10005921-1738454400-1738540799@www.mamaronecklibrary.org
SUMMARY:CLOSED SUNDAYS
DESCRIPTION:
URL:https://www.mamaronecklibrary.org/events/closed-sundays/2025-02-02/
END:VEVENT
BEGIN:VEVENT
DTSTART;TZID=America/New_York:20250201T090000
DTEND;TZID=America/New_York:20250201T133000
DTSTAMP:20260423T075209
CREATED:20250103T173735Z
LAST-MODIFIED:20250103T173735Z
UID:10006694-1738400400-1738416600@www.mamaronecklibrary.org
SUMMARY:Mexican Consulate
DESCRIPTION:
URL:https://www.mamaronecklibrary.org/events/mexican-consulate-3/2025-02-01/
ATTACH;FMTTYPE=image/png:https://www.mamaronecklibrary.org/wp-content/uploads/2025/01/Mexican-Consulate.png
END:VEVENT
BEGIN:VEVENT
DTSTART;TZID=America/New_York:20250131T153000
DTEND;TZID=America/New_York:20250131T163000
DTSTAMP:20260423T075209
CREATED:20250114T212644Z
LAST-MODIFIED:20250114T212644Z
UID:10007175-1738337400-1738341000@www.mamaronecklibrary.org
SUMMARY:Happy Chinese New Year!
DESCRIPTION:  \nTo register\, please click here.
URL:https://www.mamaronecklibrary.org/events/happy-chinese-new-year/
CATEGORIES:Children
ATTACH;FMTTYPE=image/png:https://www.mamaronecklibrary.org/wp-content/uploads/2025/01/Happy-Chinese-New-Year-5.png
END:VEVENT
BEGIN:VEVENT
DTSTART;TZID=America/New_York:20250131T090000
DTEND;TZID=America/New_York:20250131T133000
DTSTAMP:20260423T075209
CREATED:20250103T173735Z
LAST-MODIFIED:20250103T173735Z
UID:10006693-1738314000-1738330200@www.mamaronecklibrary.org
SUMMARY:Mexican Consulate
DESCRIPTION:
URL:https://www.mamaronecklibrary.org/events/mexican-consulate-3/2025-01-31/
ATTACH;FMTTYPE=image/png:https://www.mamaronecklibrary.org/wp-content/uploads/2025/01/Mexican-Consulate.png
END:VEVENT
BEGIN:VEVENT
DTSTART;VALUE=DATE:20250131
DTEND;VALUE=DATE:20250201
DTSTAMP:20260423T075209
CREATED:20250107T213515Z
LAST-MODIFIED:20250114T174849Z
UID:10006803-1738281600-1738367999@www.mamaronecklibrary.org
SUMMARY:Winter Scavenger Hunt Bingo!
DESCRIPTION:
URL:https://www.mamaronecklibrary.org/events/winter-scavenger-hunt-bingo/2025-01-31/
CATEGORIES:Children
ATTACH;FMTTYPE=image/png:https://www.mamaronecklibrary.org/wp-content/uploads/2025/01/Winter-Scavenger-Hunt-Bingo.png
END:VEVENT
BEGIN:VEVENT
DTSTART;TZID=America/New_York:20250130T153000
DTEND;TZID=America/New_York:20250130T163000
DTSTAMP:20260423T075209
CREATED:20250106T190420Z
LAST-MODIFIED:20250106T190420Z
UID:10006779-1738251000-1738254600@www.mamaronecklibrary.org
SUMMARY:Dog Man Release Party!
DESCRIPTION:  \nTo register\, please click here.
URL:https://www.mamaronecklibrary.org/events/dog-man-release-party/
CATEGORIES:Children
ATTACH;FMTTYPE=image/png:https://www.mamaronecklibrary.org/wp-content/uploads/2025/01/Dog-Man-Release-Party.png
END:VEVENT
BEGIN:VEVENT
DTSTART;TZID=America/New_York:20250130T090000
DTEND;TZID=America/New_York:20250130T133000
DTSTAMP:20260423T075209
CREATED:20250103T173735Z
LAST-MODIFIED:20250103T173735Z
UID:10006692-1738227600-1738243800@www.mamaronecklibrary.org
SUMMARY:Mexican Consulate
DESCRIPTION:
URL:https://www.mamaronecklibrary.org/events/mexican-consulate-3/2025-01-30/
ATTACH;FMTTYPE=image/png:https://www.mamaronecklibrary.org/wp-content/uploads/2025/01/Mexican-Consulate.png
END:VEVENT
BEGIN:VEVENT
DTSTART;TZID=America/New_York:20250130T090000
DTEND;TZID=America/New_York:20250130T100000
DTSTAMP:20260423T075209
CREATED:20240904T172809Z
LAST-MODIFIED:20250305T155150Z
UID:10007293-1738227600-1738231200@www.mamaronecklibrary.org
SUMMARY:Mindfulness Meditation with Jane Meryll (via Zoom)
DESCRIPTION:  \n  \nTo register\, please click here.
URL:https://www.mamaronecklibrary.org/events/mindfulness-meditation-with-jane-meryll/2025-01-30/
CATEGORIES:All Ages
ATTACH;FMTTYPE=image/png:https://www.mamaronecklibrary.org/wp-content/uploads/2024/09/Mindfulness-4.png
END:VEVENT
BEGIN:VEVENT
DTSTART;VALUE=DATE:20250130
DTEND;VALUE=DATE:20250131
DTSTAMP:20260423T075209
CREATED:20250107T213515Z
LAST-MODIFIED:20250114T174849Z
UID:10006802-1738195200-1738281599@www.mamaronecklibrary.org
SUMMARY:Winter Scavenger Hunt Bingo!
DESCRIPTION:
URL:https://www.mamaronecklibrary.org/events/winter-scavenger-hunt-bingo/2025-01-30/
CATEGORIES:Children
ATTACH;FMTTYPE=image/png:https://www.mamaronecklibrary.org/wp-content/uploads/2025/01/Winter-Scavenger-Hunt-Bingo.png
END:VEVENT
BEGIN:VEVENT
DTSTART;TZID=America/New_York:20250129T110000
DTEND;TZID=America/New_York:20250129T113000
DTSTAMP:20260423T075209
CREATED:20241220T140539Z
LAST-MODIFIED:20241220T140539Z
UID:10006687-1738148400-1738150200@www.mamaronecklibrary.org
SUMMARY:Toddler Time
DESCRIPTION:  \nTo register\, please click here.
URL:https://www.mamaronecklibrary.org/events/toddler-time-3/
CATEGORIES:Children
ATTACH;FMTTYPE=image/png:https://www.mamaronecklibrary.org/wp-content/uploads/2024/12/Toddler-Time-1.29.2025.png
END:VEVENT
BEGIN:VEVENT
DTSTART;TZID=America/New_York:20250129T090000
DTEND;TZID=America/New_York:20250129T133000
DTSTAMP:20260423T075209
CREATED:20250103T173735Z
LAST-MODIFIED:20250103T173735Z
UID:10006691-1738141200-1738157400@www.mamaronecklibrary.org
SUMMARY:Mexican Consulate
DESCRIPTION:
URL:https://www.mamaronecklibrary.org/events/mexican-consulate-3/2025-01-29/
ATTACH;FMTTYPE=image/png:https://www.mamaronecklibrary.org/wp-content/uploads/2025/01/Mexican-Consulate.png
END:VEVENT
BEGIN:VEVENT
DTSTART;VALUE=DATE:20250129
DTEND;VALUE=DATE:20250130
DTSTAMP:20260423T075209
CREATED:20250107T213515Z
LAST-MODIFIED:20250114T174849Z
UID:10006801-1738108800-1738195199@www.mamaronecklibrary.org
SUMMARY:Winter Scavenger Hunt Bingo!
DESCRIPTION:
URL:https://www.mamaronecklibrary.org/events/winter-scavenger-hunt-bingo/2025-01-29/
CATEGORIES:Children
ATTACH;FMTTYPE=image/png:https://www.mamaronecklibrary.org/wp-content/uploads/2025/01/Winter-Scavenger-Hunt-Bingo.png
END:VEVENT
BEGIN:VEVENT
DTSTART;TZID=America/New_York:20250128T113000
DTEND;TZID=America/New_York:20250128T123000
DTSTAMP:20260423T075209
CREATED:20241120T135629Z
LAST-MODIFIED:20241120T135629Z
UID:10006292-1738063800-1738067400@www.mamaronecklibrary.org
SUMMARY:Healthy Living for Your Brain & Body
DESCRIPTION:To Register\, please click here.
URL:https://www.mamaronecklibrary.org/events/healthy-living-for-your-brain-body/
CATEGORIES:Adult
ATTACH;FMTTYPE=image/png:https://www.mamaronecklibrary.org/wp-content/uploads/2024/11/alzheimers.png
END:VEVENT
BEGIN:VEVENT
DTSTART;TZID=America/New_York:20250128T090000
DTEND;TZID=America/New_York:20250128T133000
DTSTAMP:20260423T075209
CREATED:20250103T173735Z
LAST-MODIFIED:20250103T173735Z
UID:10006690-1738054800-1738071000@www.mamaronecklibrary.org
SUMMARY:Mexican Consulate
DESCRIPTION:
URL:https://www.mamaronecklibrary.org/events/mexican-consulate-3/2025-01-28/
ATTACH;FMTTYPE=image/png:https://www.mamaronecklibrary.org/wp-content/uploads/2025/01/Mexican-Consulate.png
END:VEVENT
BEGIN:VEVENT
DTSTART;VALUE=DATE:20250128
DTEND;VALUE=DATE:20250129
DTSTAMP:20260423T075209
CREATED:20250107T213515Z
LAST-MODIFIED:20250114T174849Z
UID:10006800-1738022400-1738108799@www.mamaronecklibrary.org
SUMMARY:Winter Scavenger Hunt Bingo!
DESCRIPTION:
URL:https://www.mamaronecklibrary.org/events/winter-scavenger-hunt-bingo/2025-01-28/
CATEGORIES:Children
ATTACH;FMTTYPE=image/png:https://www.mamaronecklibrary.org/wp-content/uploads/2025/01/Winter-Scavenger-Hunt-Bingo.png
END:VEVENT
BEGIN:VEVENT
DTSTART;TZID=America/New_York:20250127T153000
DTEND;TZID=America/New_York:20250127T170000
DTSTAMP:20260423T075209
CREATED:20241008T164157Z
LAST-MODIFIED:20250314T182156Z
UID:10006234-1737991800-1737997200@www.mamaronecklibrary.org
SUMMARY:Homework Help
DESCRIPTION:
URL:https://www.mamaronecklibrary.org/events/homework-help/2025-01-27/
CATEGORIES:Children
ATTACH;FMTTYPE=image/png:https://www.mamaronecklibrary.org/wp-content/uploads/2024/10/Homework-help-revised-5.png
END:VEVENT
END:VCALENDAR