BEGIN:VCALENDAR
VERSION:2.0
PRODID:-//Mamaroneck Public Library - ECPv6.15.12.2//NONSGML v1.0//EN
CALSCALE:GREGORIAN
METHOD:PUBLISH
X-WR-CALNAME:Mamaroneck Public Library
X-ORIGINAL-URL:https://www.mamaronecklibrary.org
X-WR-CALDESC:Events for Mamaroneck Public Library
REFRESH-INTERVAL;VALUE=DURATION:PT1H
X-Robots-Tag:noindex
X-PUBLISHED-TTL:PT1H
BEGIN:VTIMEZONE
TZID:America/New_York
BEGIN:DAYLIGHT
TZOFFSETFROM:-0500
TZOFFSETTO:-0400
TZNAME:EDT
DTSTART:20250309T070000
END:DAYLIGHT
BEGIN:STANDARD
TZOFFSETFROM:-0400
TZOFFSETTO:-0500
TZNAME:EST
DTSTART:20251102T060000
END:STANDARD
BEGIN:DAYLIGHT
TZOFFSETFROM:-0500
TZOFFSETTO:-0400
TZNAME:EDT
DTSTART:20260308T070000
END:DAYLIGHT
BEGIN:STANDARD
TZOFFSETFROM:-0400
TZOFFSETTO:-0500
TZNAME:EST
DTSTART:20261101T060000
END:STANDARD
BEGIN:DAYLIGHT
TZOFFSETFROM:-0500
TZOFFSETTO:-0400
TZNAME:EDT
DTSTART:20270314T070000
END:DAYLIGHT
BEGIN:STANDARD
TZOFFSETFROM:-0400
TZOFFSETTO:-0500
TZNAME:EST
DTSTART:20271107T060000
END:STANDARD
BEGIN:DAYLIGHT
TZOFFSETFROM:-0500
TZOFFSETTO:-0400
TZNAME:EDT
DTSTART:20280312T070000
END:DAYLIGHT
BEGIN:STANDARD
TZOFFSETFROM:-0400
TZOFFSETTO:-0500
TZNAME:EST
DTSTART:20281105T060000
END:STANDARD
END:VTIMEZONE
BEGIN:VEVENT
DTSTART;TZID=America/New_York:20261111T080000
DTEND;TZID=America/New_York:20261111T170000
DTSTAMP:20260420T235959
CREATED:20240923T172200Z
LAST-MODIFIED:20240923T172717Z
UID:10005901-1794384000-1794416400@www.mamaronecklibrary.org
SUMMARY:CLOSED for Veterans Day
DESCRIPTION:
URL:https://www.mamaronecklibrary.org/events/closed-for-veterans-day/2026-11-11/
ATTACH;FMTTYPE=image/jpeg:https://www.mamaronecklibrary.org/wp-content/uploads/2024/09/vetd-294x275-1.jpg
END:VEVENT
BEGIN:VEVENT
DTSTART;TZID=America/New_York:20271111T080000
DTEND;TZID=America/New_York:20271111T170000
DTSTAMP:20260420T235959
CREATED:20240923T172200Z
LAST-MODIFIED:20240923T172717Z
UID:10005902-1825920000-1825952400@www.mamaronecklibrary.org
SUMMARY:CLOSED for Veterans Day
DESCRIPTION:
URL:https://www.mamaronecklibrary.org/events/closed-for-veterans-day/2027-11-11/
ATTACH;FMTTYPE=image/jpeg:https://www.mamaronecklibrary.org/wp-content/uploads/2024/09/vetd-294x275-1.jpg
END:VEVENT
END:VCALENDAR